{"text_format":"2","workbook":"xlsx","n_sheets":6,"sheets":["花园升级数值表","能力数值表","精灵数值表","技能数值表","礼包数值表","花朵价格换算"],"not_rendered":{"charts":0,"images":0,"macros":0,"external_links":0,"defined_names":0,"comments":0,"pivot_tables":0},"unopened":[],"bounds":{"document_bytes":16777216,"sheet_cells":100000,"run_cost":"one","rows_first":2000,"rows_last":500,"rows_between":2000,"halvings":0,"cell_chars":16384,"cell_head_chars":4096},"cells_cut":0,"cells_raw":0,"read":"whole","date_system":"1900"}

{"sheet":"花园升级数值表","index":0,"n_rows":601,"n_cols":19,"rows_kept":601,"cut":false,"hidden":false,"merged":[]}
["花园等级","极限升级时间(天)","极限升级总时间(天)","基础升级时间(天)","基础升级总时间(天)","升级花费","升级总花费","该等级每分钟极限收入","每分钟基础收入权重","每分钟基础收入","基础每分钟访问","基础每秒访问","基础每人收入",null,"剩余每分钟可分配收入","能力分配","精灵分配","技能分配","礼包分配"]
[1,{"$f":"D2/2.5","v":3.7037037037037035E-4},{"$f":"B2","v":3.7037037037037035E-4},{"$f":"F2/J2/60/24","v":9.2592592592592585E-4},{"$f":"D2","v":9.2592592592592585E-4},800,{"$f":"F2","v":800},{"$f":"F2/B2/60/24","v":1500},{"$f":"J2/F2","v":0.75},{"$f":"K2*M2","v":600},{"$f":"L2*60","v":60},1,10,null,{"$f":"H2-J2","v":900},{"$f":"O2*0.15","v":135},{"$f":"O2*0.45","v":405},{"$f":"O2*0.15","v":135},{"$f":"O2*0.05","v":45}]
[2,{"$f":"D3/2.5","v":3.8773320838902481E-4},{"$f":"B3+C2","v":7.5810357875939522E-4},{"$f":"F3/J3/60/24","v":9.6933302097256197E-4},{"$f":"D3+E2","v":1.8952589468984879E-3},{"$f":"F2*1.07","v":856},{"$f":"F3+G2","v":1656},{"$f":"F3/B3/60/24","v":1533.1274999999994},{"$f":"J3/F3","v":0.71641471962616809},{"$f":"K3*M3","v":613.25099999999986},{"$f":"L3*60","v":61.019999999999996},{"$f":"L2*1.017","v":1.0169999999999999},{"$f":"M2*1.005","v":10.049999999999999},null,{"$f":"H3-J3","v":919.87649999999951},{"$f":"O3*0.15","v":137.98147499999993},{"$f":"O3*0.45","v":413.9444249999998},{"$f":"O3*0.15","v":137.98147499999993},{"$f":"O3*0.05","v":45.99382499999998}]
[3,4.059100103966467E-4,{"$f":"B4+C3","v":1.1640135891560419E-3},1.0147750259916167E-3,{"$f":"D4+E3","v":2.9100339728901047E-3},{"$f":"F3*1.07","v":915.92000000000007},{"$f":"F4+G3","v":2571.92},{"$f":"F4/B4/60/24","v":1566.986620837499},0.68433340066272119,626.79464833499969,62.057339999999989,{"$f":"L3*1.017","v":1.0342889999999998},{"$f":"M3*1.005","v":10.100249999999997},null,940.19197250249931,141.0287958753749,423.08638762612469,141.0287958753749,47.009598625124966]
[4,4.2493893475044846E-4,1.5889525239064903E-3,1.0623473368761211E-3,{"$f":"D5+E4","v":3.9723813097662253E-3},980.03440000000012,3551.9544000000001,1601.5935203586951,0.65368869515547401,640.63740814347796,63.112314779999977,1.0518719129999996,10.150751249999995,null,960.9561122152171,144.14341683228255,432.43025049684769,144.14341683228255,48.047805610760861]
[5,4.4485992865855585E-4,2.0338124525650461E-3,1.1121498216463896E-3,5.0845311314126149E-3,1048.6368080000002,4600.5912079999998,1636.9647132558164,0.62441627101680597,654.78588530232651,64.185224131259957,1.0697537355209994,10.201505006249995,null,982.17882795348987,147.32682419302347,441.98047257907047,147.32682419302347,49.108941397674499]
[6,4.6571481204073521E-4,2.4995272646057814E-3,1.1642870301018381E-3,6.2488181615144526E-3,1122.0413845600003,5722.6325925600004,1673.1170789480709,0.59645467697402987,669.24683157922823,65.276372941491374,1.0879395490248562,10.252512531281244,null,1003.8702473688427,150.58053710532639,451.74161131597924,150.58053710532639,50.193512368442136]
[7,4.87547365320484E-4,2.9870746299262654E-3,1.21886841330121E-3,7.4676865748156624E-3,1200.5842814792004,6923.2168740392008,1710.0678696366383,0.56974521356542163,684.02714785465537,66.386071281496726,1.1064345213582787,10.303775093937649,null,1026.0407217819829,153.90610826729744,461.71832480189232,153.90610826729744,51.302036089099147]
[8,5.1040342133278343E-4,3.4974780512590487E-3,1.2760085533319585E-3,8.7436951281476202E-3,1284.6251811827444,8207.842055221945,1747.8347185375633,0.54423180991309705,699.13388741502524,67.514634493282159,1.1252439082213692,10.355293969407336,null,1048.7008311225381,157.30512466838073,471.91537400514216,157.30512466838073,52.435041556126912]
[9,5.3433096154045724E-4,4.0318090127995062E-3,1.3358274038511432E-3,1.0079522531998763E-2,1374.5489438655366,9582.3909990874818,1786.4356482964652,0.51986090601404455,714.57425931858597,68.662383279667949,1.1443730546611324,10.407070439254372,null,1071.8613889778792,160.77920834668188,482.33762504004562,160.77920834668188,53.593069448893964]
[10,5.5938021676112007E-4,4.5911892295606264E-3,1.3984505419028003E-3,1.1477973073901564E-2,1470.7673699361242,11053.158369023606,1825.8890795890923,0.49658134030220996,730.35563183563681,69.829643795422299,1.1638273965903716,10.459105791450643,null,1095.5334477534554,164.33001716301831,492.99005148905496,164.33001716301831,54.776672387672775]
[11,5.8560377261617056E-4,5.1767930021767968E-3,1.4640094315404265E-3,1.2941982505441992E-2,1573.721085831653,12626.879454855258,1866.2138399118169,0.47434424224559263,746.48553596472664,71.016747739944464,1.1836124623324078,10.511401320407895,null,1119.7283039470904,167.95924559206355,503.87773677619066,167.95924559206355,55.986415197354518]
[12,6.1305667992319875E-4,5.789849682099996E-3,1.5326416998079969E-3,1.4474624205249989E-2,1683.8815618398687,14310.761016695127,1907.429172566269,0.45310292975288458,762.97166902650758,72.224032451523527,1.2037338741920587,10.563958327009933,null,1144.4575035397615,171.66862553096422,515.00587659289272,171.66862553096422,57.222875176988083]
[13,6.4179657026355234E-4,6.4316462523635485E-3,1.604491425658881E-3,1.6079115630908872E-2,1801.7532711686597,16112.514287863787,1949.5547458423944,0.43281281117427745,779.82189833695782,73.451841003199419,1.2241973500533236,10.616778118644982,null,1169.7328475054364,175.45992712581545,526.37978137744642,175.45992712581545,58.486642375271828]
[14,6.718837769676704E-4,7.1035300293312191E-3,1.6797094424191759E-3,1.7758825073328047E-2,1927.8760001504661,18040.390288014252,1992.610662404323,0.41343129169071136,797.04426496172925,74.700522300253795,1.24500870500423,10.669862009238205,null,1195.5663974425938,179.33495961638906,538.0048788491672,179.33495961638906,59.778319872129693]
[15,7.0338146177216889E-4,7.8069114911033877E-3,1.7584536544304223E-3,1.9517278727758471E-2,2062.8273201609986,20103.217608175251,2036.6174688835226,0.39491768389504744,814.64698755340908,75.970431179358116,1.2661738529893019,10.723211319284395,null,1221.9704813301137,183.29557219951704,549.88671659855117,183.29557219951704,61.098524066505689]
[16,7.3635574741457029E-4,8.5432672385179573E-3,1.8408893685364256E-3,2.1358168096294896E-2,2207.2252325722689,22310.442840747521,2081.5961656838144,0.37723312237744799,832.63846627352586,77.261928509407184,1.2876988084901198,10.776827375880817,null,1248.9576994102886,187.34365491154327,562.03096473462983,187.34365491154327,62.44788497051443]
[17,7.7087585644402407E-4,9.3141430949619814E-3,1.9271896411100602E-3,2.3285357737404956E-2,2361.730998852328,24672.173839599847,2127.5682170029418,0.36034048213565778,851.0272868011765,78.5753812940671,1.3095896882344518,10.830711512760219,null,1276.5409302017651,191.48113953026476,574.44341859079429,191.48113953026476,63.827046510088259]
[18,8.070142565394326E-4,1.0121157351501413E-2,2.0175356413485814E-3,2.5302893378753539E-2,2527.0521687719911,27199.226008371839,2174.5555610754514,0.34420430063890067,869.82222443018043,79.911162776066234,1.3318527129344373,10.88486507032402,null,1304.7333366452708,195.71000049679063,587.13000149037191,195.71000049679063,65.236666832263538]
[19,8.4484681264003784E-4,1.0966004164141452E-2,2.1121170316000947E-3,2.7415010410353633E-2,2703.9458205860305,29903.171828957871,2222.5806206418019,0.32879070338178573,889.03224825672078,81.269652543259355,1.3544942090543226,10.939289395675639,null,1333.5483723850812,200.03225585776218,600.09676757328657,200.03225585776218,66.677418619254055]
[20,8.8445294620784058E-4,1.1850457110349292E-2,2.2111323655196013E-3,2.9626142775873235E-2,2893.2220280270531,32796.393856984927,2271.6663136486754,0.31406733277193682,908.66652545947034,82.651236636494758,1.377520610608246,10.993985842654016,null,1362.999788189205,204.44996822838075,613.34990468514229,204.44996822838075,68.149989409460247]
[21,9.2591580195618714E-4,1.2776372912305479E-2,2.3147895048904678E-3,3.1940932280763702E-2,3095.7475699889469,35892.141426973874,2321.8360641856066,0.30000328020206074,928.73442567424263,84.056307659315166,1.400938460988586,11.048955771867286,null,1393.1016385113639,208.96524577670459,626.89573733011377,208.96524577670459,69.655081925568197]
[22,9.6932242239453742E-4,1.3745695334700016E-2,2.4233060559863437E-3,3.4364238336750043E-2,3312.4498998881736,39204.59132686205,2373.1138136631448,0.28656902116385335,949.24552546525797,85.485264889523506,1.4247544148253919,11.10420055072662,null,1423.8682881978868,213.58024322968302,640.74072968904909,213.58024322968302,71.193414409894345]
[23,1.0147639305558298E-3,1.4760459265255847E-2,2.5369098263895743E-3,3.6901148163139615E-2,3544.3213928803461,42748.912719742395,2425.524032237895,0.27373635326752993,970.2096128951581,86.938514392645402,1.4489752398774234,11.159721553480253,null,1455.314419342737,218.29716290141053,654.89148870423162,218.29716290141053,72.765720967136858]
[24,1.0623357212900474E-3,1.5822794986545895E-2,2.6558393032251183E-3,3.9556987466364733E-2,3792.4238903819705,46541.336610124366,2479.091730489868,0.2614783370368628,991.63669219594738,88.416469137320362,1.4736078189553394,11.215520161247653,null,1487.4550382939206,223.11825574408809,669.35476723226429,223.11825574408809,74.372751914696025]
[25,1.1121376615255587E-3,1.6934932648071454E-2,2.7803441538138966E-3,4.233733162017863E-2,4057.8935627087085,50599.230172833079,2533.8424713577374,0.24976923935544104,1013.5369885430948,89.919549112654806,1.49865915187758,11.27159776205389,null,1520.3054828146426,228.04582242219638,684.13746726658917,228.04582242219638,76.015274140732132]
[26,1.1642742999186449E-3,1.8099206947990099E-2,2.910685749796612E-3,4.5248017369975239E-2,4341.9461120983187,54941.176284931396,2589.8023823376725,0.23858447944542607,1035.920952935069,91.448181447569937,1.5241363574594988,11.327955750864158,null,1553.8814294026035,233.08221441039052,699.24664323117156,233.08221441039052,77.694071470130183]
[27,1.2188550863313232E-3,1.9318062034321421E-2,3.0471377158283082E-3,4.8295155085803551E-2,4645.8823399452012,59587.058624876598,2646.9981679515995,0.22790057726540019,1058.7992671806396,93.002800532178611,1.5500466755363103,11.384595529618478,null,1588.1989007709599,238.22983511564397,714.68950534693192,238.22983511564397,79.409945038548003]
[28,1.2759946015982195E-3,2.0594056635919639E-2,3.189986503995549E-3,5.1485141589799097E-2,4971.0941037413659,64558.152728617963,2705.45712249081,0.21769510421897803,1082.1828489963239,94.583848141225644,1.5763974690204274,11.441518507266569,null,1623.2742734944861,243.49114102417292,730.47342307251881,243.49114102417292,81.163713674724306]
[29,1.335812798064833E-3,2.1929869433984471E-2,3.3395319951620827E-3,5.4824673584961181E-2,5319.0706910032613,69877.223419621223,2765.2071430410197,0.20794663607070482,1106.0828572164075,96.191773559626483,1.6031962259937746,11.4987260998029,null,1659.1242858246121,248.86864287369181,746.60592862107546,248.86864287369181,82.956214291230609]
[30,1.3984352514021556E-3,2.3328304685386627E-2,3.4960881285053887E-3,5.8320761713466569E-2,5691.40563937349,75568.629058994717,2826.2767427950785,0.19863470797039837,1130.5106971180317,97.827033710140114,1.6304505618356686,11.556219730301914,null,1695.7660456770468,254.36490685155701,763.09472055467108,254.36490685155701,84.788302283852346]
[31,1.4639934242262694E-3,2.4792298109612896E-2,3.6599835605656736E-3,6.1980745274032245E-2,6089.8040341296346,81658.433093124346,2888.6950646597084,0.1897397714915183,1155.4780258638832,99.490093283212502,1.6581682213868749,11.614000828953422,null,1733.2170387958251,259.98255581937377,779.94766745812137,259.98255581937377,86.660851939791257]
[32,1.5326249420763523E-3,2.6324923051689247E-2,3.8315623551908808E-3,6.5812307629223132E-2,6516.0903165187092,88174.52340964305,2952.4918951627169,0.18124315359337237,1180.9967580650869,101.1814248690271,1.6863570811504516,11.672070833098187,null,1771.49513709763,265.72427056464448,797.17281169393357,265.72427056464448,88.574756854881514]
[33,1.6044738823304302E-3,2.7929396934019676E-2,4.0111847058260756E-3,6.9823492335049211E-2,6972.2166386750196,95146.740048318068,3017.6976786673845,0.17312701742101114,1207.0790714669538,102.90150909180053,1.715025151530009,11.730431187263678,null,1810.6186072004307,271.59279108006461,814.77837324019379,271.59279108006461,90.530930360021543]
[34,1.679691076665405E-3,2.960908801068508E-2,4.1992276916635127E-3,7.4022720026712729E-2,7460.2718033822712,102607.01185170034,3084.3435319007535,0.1653743248605179,1233.7374127603014,104.65083474636114,1.744180579106019,11.789083343199994,null,1850.6061191404522,277.5909178710678,832.77275361320346,277.5909178710678,92.53030595702262]
[35,1.758434427696311E-3,3.1367522438381389E-2,4.3960860692407776E-3,7.8418806095953503E-2,7982.4908296190306,110589.50268131937,3152.4612588027808,0.15796880077108635,1260.9845035211124,106.42989893704927,1.7738316489508212,11.848028759915993,null,1891.4767552816684,283.72151329225022,851.16453987675084,283.72151329225022,94.573837764083422]
[36,1.8408692404595049E-3,3.320839167884089E-2,4.6021731011487623E-3,8.302097919710226E-2,8541.2651876923628,119130.76786901173,3222.0833657034395,0.15089489881879978,1288.833346281376,108.2392072189791,1.8039867869829851,11.907268903715572,null,1933.2500194220636,289.98750291330953,869.96250873992858,289.98750291330953,96.662500971103185]
[37,1.9271685694356837E-3,3.5135560248276576E-2,4.817921423589209E-3,8.7838900620691468E-2,9139.1537508308284,128269.92161984256,3293.243076835,0.14413776884038593,1317.2972307339999,110.07927374170174,1.8346545623616957,11.966805248234149,null,1975.9458461010001,296.39187691515002,889.17563074545012,296.39187691515002,98.797292305050007]
[38,2.0175135818412187E-3,3.7153073830117796E-2,5.0437839546030473E-3,9.2882684575294513E-2,9778.8945133889865,138048.81613323154,3365.9743501868998,0.13768322566843533,1346.3897400747599,111.95062139531065,1.8658436899218442,12.026639274475318,null,2019.5846101121399,302.93769151682096,908.81307455046294,302.93769151682096,100.97923050560701]
[39,2.1120939379504684E-3,3.9265167768068265E-2,5.2802348448761707E-3,9.8162919420170691E-2,10463.417129326217,148512.23326255774,3440.3118937107774,0.13151771935263801,1376.1247574843107,113.85378195903093,1.8975630326505155,12.086772470847693,null,2064.1871362264665,309.62807043396998,928.88421130190989,309.62807043396998,103.20935681132333]
[40,2.2111081892474712E-3,4.1476275957315734E-2,5.5277704731186783E-3,0.10369068989328938,11195.856328379054,159708.08959093678,3516.2911818833795,0.1256283067145243,1406.5164727533515,115.78929625233444,1.929821604205574,12.147206333201931,null,2109.774709130028,316.46620636950416,949.39861910851266,316.46620636950416,105.4887354565014]
[41,2.3147641952428566E-3,4.3791040152558587E-2,5.7869104881071417E-3,0.10947760038139652,11979.566271365587,171687.65586230237,3593.948472635273,0.12000262417599489,1437.579389054109,117.75771428862411,1.9626285714770686,12.207942364867939,null,2156.369083581164,323.45536253717461,970.36608761152377,323.45536253717461,107.81845417905821]
[42,2.4232795598309901E-3,4.6214319712389575E-2,6.0581988995774749E-3,0.11553579928097399,12818.135910361179,184505.79177266356,3673.3208246534214,0.11462886180459972,1469.3283298613687,119.75959543153071,1.9959932571921786,12.268982076692279,null,2203.9924947920526,330.59887421880791,991.79662265642366,330.59887421880791,110.19962473960264]
[43,2.536882088103396E-3,4.8751201800492971E-2,6.3422052202584895E-3,0.12187800450123248,13715.405424086463,198221.19719675003,3754.4461150658922,0.10949573852107879,1501.778446026357,121.79550855386674,2.0299251425644456,12.330326987075738,null,2252.6676690395352,337.90015035593029,1013.7004510677908,337.90015035593029,112.63338345197677]
[44,2.6558102645774418E-3,5.1407012065070416E-2,6.6395256614436042E-3,0.12851753016267609,14675.483803772515,212896.68100052254,3837.363057517121,0.10459247841711848,1534.9452230068487,123.86603219928246,2.0644338699880409,12.391978622011115,null,2302.4178345102723,345.36267517654085,1036.0880255296227,345.36267517654085,115.12089172551362]
[45,2.7803137538442131E-3,5.4187325818914632E-2,6.9507843846105333E-3,0.13546831454728661,15702.767670036592,228599.44867055913,3922.1112206423873,9.990878813360797E-2,1568.8444882569547,125.97175474667026,2.0995292457778376,12.45393851512117,null,2353.2667323854325,352.99000985781487,1058.9700295734447,352.99000985781487,117.66333661927163]
[46,2.9106539246866055E-3,5.7097979743601236E-2,7.276634811716514E-3,0.14274494935900311,16801.961406939154,245401.41007749829,4008.7310469502722,9.5434835251905298E-2,1603.4924187801091,128.11327457736363,2.1352212429560606,12.516208207696774,null,2405.2386281701629,360.7857942255244,1082.3573826765733,360.7857942255244,120.26193140850815]
[47,3.0471043987678791E-3,6.0145084142369118E-2,7.6177609969196982E-3,0.1503627103559228,17978.098705424894,263379.50878292316,4097.2638721221692,9.1161227652751059E-2,1638.905548848868,130.29120024517883,2.1715200040863136,12.578789248735257,null,2458.3583232733013,368.75374849099518,1106.2612454729856,368.75374849099518,122.91791616366507]
[48,3.1899516250425662E-3,6.3335035767411688E-2,7.9748790626064155E-3,0.15833758941852921,19236.565614804636,282616.07439772779,4187.7519447379864,8.7078993799497226E-2,1675.1007778951946,132.50615064934684,2.2084358441557805,12.641683194978931,null,2512.651166842792,376.89767502641877,1130.6930250792564,376.89767502641877,125.6325583421396]
[49,3.3394954810955528E-3,6.6674531248507238E-2,8.3487387027388824E-3,0.1666863281212681,20583.125207840963,303199.19960556878,4280.2384464375236,8.3179563904260831E-2,1712.0953785750094,134.75875521038571,2.2459792535064285,12.704891610953824,null,2568.1430678625143,385.22146017937712,1155.6643805381314,385.22146017937712,128.40715339312572]
[50,3.4960499026717362E-3,7.0170581151178968E-2,8.7401247566793409E-3,0.17542645287794745,22023.943972389832,325223.14357795863,4374.7675125270962,7.9454751937463944E-2,1749.9070050108382,137.04965404896225,2.2841609008160377,12.768416069008593,null,2624.8605075162577,393.72907612743865,1181.1872283823161,393.72907612743865,131.24302537581289]
[51,3.6599435427178357E-3,7.383052469389681E-2,9.1498588567945887E-3,0.18457631173474204,23565.620050457121,348788.76362841576,4471.3842530412558,7.5896738442993272E-2,1788.5537012165021,139.37949816779459,2.3229916361299101,12.832258149353635,null,2682.8305518247535,402.42458277371298,1207.273748321139,402.42458277371298,134.14152759123769]
[52,3.8315204613198358E-3,7.7662045155216644E-2,9.5788011532995897E-3,0.19415511288804163,25215.213453989119,374003.97708240489,4570.1347742696717,7.2498054122903541E-2,1828.0539097078686,141.7489496366471,2.3624824939441185,12.896419440100402,null,2742.0808645618031,411.31212968427047,1233.9363890528114,411.31212968427047,137.10404322809015]
[53,4.0111408479844889E-3,8.1673186003201129E-2,1.0027852119961222E-2,0.20418296500800284,26980.27839576836,400984.25547817326,4671.0662007594156,6.9251564157203585E-2,1868.4264803037663,144.15868178047009,2.4026446963411683,12.960901537300902,null,2802.6397204556492,420.3959580683474,1261.1878742050421,420.3959580683474,140.13198602278246]
[54,4.1991817777811075E-3,8.5872367780982242E-2,1.0497954444452768E-2,0.2146809194524556,28868.897883472146,429853.15336164541,4774.2266978031867,6.61504532258088E-2,1909.6906791212748,146.60937937073808,2.4434896561789681,13.025706044987405,null,2864.5360186819116,429.68040280228672,1289.0412084068603,429.68040280228672,143.22680093409559]
[55,4.3960380029310527E-3,9.0268405783913291E-2,1.0990095007327632E-2,0.22567101445978324,30889.720735315197,460742.87409696059,4879.6654944241709,6.3188211201215677E-2,1951.8661977696679,149.10173882004062,2.4850289803340102,13.090834575212341,null,2927.799296654503,439.16989449817544,1317.5096834945264,439.16989449817544,146.38996483272516]
[56,4.6021227815066538E-3,9.4870528565419943E-2,1.1505306953766635E-2,0.23717632141354988,33052.00118678726,493794.87528374785,4987.4329068685265,6.0358619481864037E-2,1994.9731627474107,151.6364683799813,2.5272744729996881,13.156288748088402,null,2992.4597441211158,448.86896161816736,1346.6068848545021,448.86896161816736,149.6229872060558]
[57,4.8178687449792531E-3,9.968839731039919E-2,1.2044671862448132E-2,0.249220993275998,35365.641269862368,529160.51655361021,5097.5803626167171,5.7655737937496253E-2,2039.032145046687,154.21428834244097,2.5702381390406828,13.222070191828843,null,3058.5482175700299,458.7822326355045,1376.3466979065136,458.7822326355045,152.92741087850149]
[58,5.0437288064376258E-3,0.10473212611683681,1.2609322016094065E-2,0.26183031529209205,37841.236158752734,567001.75271236291,5210.1604249251077,5.507389243910827E-2,2084.0641699700427,156.83593124426244,2.6139321874043739,13.288180542787986,null,3126.096254955065,468.91443824325972,1406.7433147297793,468.91443824325972,156.30481274775326]
[59,5.2801771113833613E-3,0.11001230322822017,1.3200442778458403E-2,0.27503075807055044,40490.122689865428,607491.87540222832,5325.2268179095763,5.2607662947313977E-2,2130.0907271638303,159.50214207541487,2.658369034590248,13.354621445501925,null,3195.1360907457461,479.2704136118619,1437.8112408355857,479.2704136118619,159.75680453728731]
[60,5.5277100330992012E-3,0.11554001326131937,1.3819275082748004E-2,0.28885003315329844,43324.431278156007,650816.30668038432,5442.8344521831086,5.0251872134117193E-2,2177.1337808732433,162.21367849069694,2.7035613081782821,13.421394552729433,null,3265.7006713098654,489.85510069647978,1469.5653020894395,489.85510069647978,163.28503356549328]
[61,5.78684721467994E-3,0.1213268604759993,1.4467118036699851E-2,0.3033171511899983,46357.141467626934,697173.44814801123,5563.0394510595715,4.8001574514204823E-2,2225.2157804238286,164.97131102503877,2.7495218504173127,13.48850152549308,null,3337.8236706357429,500.67355059536141,1502.0206517860843,500.67355059536141,166.89118353178716]
[62,6.0581326599133513E-3,0.12738499313591264,1.5145331649783378E-2,0.31846248283978168,49602.14137036082,746775.58951837209,5685.8991773362204,4.5852046062944886E-2,2274.3596709344883,167.77582331246441,2.7962637218744066,13.555944033120543,null,3411.5395064017321,511.73092596025981,1535.1927778807794,511.73092596025981,170.5769753200866]
[63,6.342135875301259E-3,0.13372712901121389,1.5855339688253148E-2,0.33431782252803482,53074.291266286084,799849.88078465813,5811.4722606676905,4.37987742992944E-2,2324.588904267076,170.62801230877628,2.8438002051462714,13.623723753286145,null,3486.8833564006145,523.03250346009213,1569.0975103802766,523.03250346009213,174.34416782003075]
[64,6.6394530656181715E-3,0.14036658207683206,1.6598632664045428E-2,0.35091645519208026,56789.491654926111,856639.37243958423,5939.8186255445353,4.1837448812798411E-2,2375.9274502178137,173.52868851802546,2.8921448086337578,13.691842372052573,null,3563.8911753267216,534.58367629900818,1603.7510288970248,534.58367629900818,178.19455876633609]
[65,6.9507083855172942E-3,0.14731729046234934,1.7376770963793236E-2,0.36829322615587351,60764.756070770942,917404.12851035513,6070.9995198896868,3.9963952214793513E-2,2428.3998079558742,176.47867622283189,2.9413112703805315,13.760301583912835,null,3642.5997119338126,546.38995679007189,1639.1698703702157,546.38995679007189,182.12998559669063]
[66,{"$f":"D67/2.5","v":7.2765552498114238E-3},0.15459384571216075,{"$f":"F67/J67/60/24","v":1.819138812452856E-2},0.38648461428040209,65018.288995724914,982422.41750608,6205.0775442864469,{"$f":"J67/F67","v":3.8174351494819826E-2},{"$f":"K67*M67","v":2482.0310177145789},{"$f":"L67*60","v":179.47881371862002},2.9913135619770004,13.829103091832398,null,{"$f":"H67-J67","v":3723.0465265718681},{"$f":"O67*0.15","v":558.45697898578021},{"$f":"O67*0.45","v":1675.3709369573407},{"$f":"O67*0.15","v":558.45697898578021},{"$f":"O67*0.05","v":186.1523263285934}]
[67,7.6176777051793392E-3,{"$f":"B68+C67","v":0.1622115234173401},1.9044194262948348E-2,0.40552880854335044,{"$f":"F67*1.07","v":69569.569225425657},{"$f":"F68+G67","v":1051991.9867315057},{"$f":"F68/B68/60/24","v":6342.1166818520114},3.6464889764096182E-2,2536.8466727408049,182.52995355183654,{"$f":"L67*1.017","v":3.0421658925306092},{"$f":"M67*1.005","v":13.898248607291558},null,3805.2700091112065,570.79050136668093,1712.371504100043,570.79050136668093,190.26350045556035]
[68,7.9747918661773678E-3,0.17018631528351746,1.993697966544342E-2,{"$f":"D69+E68","v":0.42546578820879388},74439.439071205459,1126431.4258027112,6482.182328770712,3.4831978368725452E-2,2592.8729315082851,185.63296276221774,3.0938827127036292,13.967739850328014,null,3889.309397262427,583.396409589364,1750.1892287680921,583.396409589364,194.46546986312137]
[69,8.3486474185706528E-3,0.17853496270208813,2.0871618546426631E-2,0.44633740675522049,79650.199806189848,1206081.625608901,6625.341325501613,3.3272189356073595E-2,2650.1365302006452,188.78872312917542,3.1464787188195906,14.037578549579653,null,3975.2047953009678,596.2807192951451,1788.8421578854357,596.2807192951451,198.7602397650484]
[70,8.7400291931400993E-3,0.18727499189522823,2.1850072982850247E-2,0.46818747973807073,85225.713792623137,1291307.339401524,6771.6619886753169,3.1782248278506987E-2,2708.6647954701261,191.99813142237142,3.1999688570395235,14.10776644232755,null,4062.9971932051908,609.4495789807786,1828.3487369423358,609.4495789807786,203.14985966025955]
[71,9.1497588132688663E-3,0.1964247507084971,2.2874397033172168E-2,0.49106187677124291,91191.513758106768,1382498.8531596309,6921.2141436952088,3.0359027319381126E-2,2768.4856574780833,195.26209965655173,3.2543683276091953,14.178305274539186,null,4152.7284862171255,622.9092729325688,1868.7278187977065,622.9092729325688,207.63642431085628]
[72,9.5786964197671336E-3,0.20600344712826424,2.3946741049417835E-2,0.51500861782066076,97574.919721174243,1480073.7728808052,7074.0691580587145,2.8999538726850144E-2,2829.6276632234863,198.58155535071307,3.3096925891785514,14.24919680091188,null,4244.4414948352278,636.66622422528417,1909.9986726758525,636.66622422528417,212.22207474176139]
[73,1.0027742476556094E-2,0.21603118960482035,2.5069356191390234E-2,0.54007797401205104,104405.16410165644,1584478.9369824617,7230.2999754144394,2.770092854171273E-2,2892.119990165776,201.95744179167517,3.3659573631945863,14.320442784916438,null,4338.1799852486638,650.72699778729952,1952.1809933618988,650.72699778729952,216.90899926243321]
[74,1.0497839661001797E-2,0.22652902926582213,2.6244599152504492E-2,0.56632257316455559,111713.52558877239,1696192.4625712342,7389.9811503714673,2.6460470606127523E-2,2955.9924601485868,205.39071830213362,3.4231786383688938,14.392044998841019,null,4433.9886902228809,665.09830353343216,1995.2949106002964,665.09830353343216,221.69943451114406]
[75,1.0989974842867203E-2,0.23751900410868934,2.7474937107168005E-2,0.59379751027172356,119533.47237998646,1815725.9349512206,7553.1888840774191,2.5275560840620416E-2,3021.2755536309678,208.88236051326987,3.4813726752211647,14.464005223835223,null,4531.9133304464513,679.78699956696767,2039.3609987009031,679.78699956696767,226.59566652232257]
[76,1.1505181156036838E-2,0.24902418526472617,2.8762952890092095E-2,0.62256046316181568,127900.81544658552,1943626.7503978061,7720.0010605822672,2.4143711777369636E-2,3088.0004242329069,212.43336064199545,3.5405560106999241,14.536325249954396,null,4632.0006363493603,694.80009545240398,2084.4002863572123,694.80009545240398,231.60003181746802]
[77,1.2044540167363203E-2,0.26106872543208937,3.0111350418408008E-2,0.65267181358022364,136853.87252784651,2080480.6229256527,7890.4972840052251,2.3062547338292369E-2,3156.1989136020898,216.04472777290934,3.6007454628818225,14.609006876204166,null,4734.2983704031358,710.14475556047034,2130.4342666814114,710.14475556047034,236.7149185201568]
[78,1.2609184147187983E-2,0.27367790957927735,3.1522960367969956E-2,0.68419477394819361,146433.64360479577,2226914.2665304486,8064.7589165224781,2.2029797846970608E-2,3225.9035666089912,219.71748814504878,3.6619581357508131,14.682051910585185,null,4838.8553499134869,725.82830248702305,2177.4849074610693,725.82830248702305,241.94276749567436]
[79,1.320029844630451E-2,0.28687820802558184,3.3000746115761273E-2,0.71719552006395493,156683.99865713148,2383598.2651875801,8242.8691171938754,2.1043295263944814E-2,3297.1476468775504,223.45268544351461,3.7242114240585766,14.755462170138109,null,4945.7214703163245,741.8582205474487,2225.5746616423462,741.8582205474487,247.28607351581624]
[80,1.3819123984351426E-2,0.30069733200993326,3.4547809960878563E-2,0.75174333002483351,167651.87856313068,2551250.1437507109,8424.912881647102,2.0100968635372925E-2,3369.9651526588405,227.25138109605433,3.7875230182675721,14.829239480988798,null,5054.9477289882616,758.24215934823917,2274.7264780447176,758.24215934823917,252.74738644941309]
[81,1.4466959854861419E-2,0.31516429186479467,3.6167399637153548E-2,0.78791072966198705,179387.51006254985,2730637.6538132606,8610.9770826382755,1.9200839745500121E-2,3444.3908330553099,231.11465457468722,3.8519109095781205,14.903385678393741,null,5166.586249582966,774.98793743744488,2324.963812312335,774.98793743744488,258.32931247914831]
[82,1.514516605243372E-2,0.33030945791722838,3.78629151310843E-2,0.82577364479307136,191944.63576692835,2922582.2895801892,8801.1505115083401,1.8341018963812607E-2,3520.460204603336,235.04360370245689,3.9173933950409481,14.977902606785708,null,5280.690306905004,792.10354603575058,2376.3106381072521,792.10354603575058,264.03451534525021]
[83,1.5855166327755601E-2,0.34616462424498395,3.9637915819389004E-2,0.86541156061246038,205380.76027061333,3127963.0498508024,8995.5239205550006,1.7519701278157385E-2,3598.2095682220001,239.03934496539864,3.983989082756644,15.052792119819635,null,5397.314352333,809.59715284995002,2428.7914585498502,809.59715284995002,269.86571761664999]
[84,1.6598451176466245E-2,0.3627630754214502,4.1496127941165611E-2,0.90690768855362602,219757.41348955629,3347720.4633403588,9194.190066340454,1.6735162505500455E-2,3677.6760265361822,243.10301382981041,4.0517168971635069,15.128056080418732,null,5516.5140398042713,827.47710597064065,2482.4313179119222,827.47710597064065,275.82570199021359]
[85,1.7376580968137566E-2,0.38013965638958774,4.3441452420343911E-2,0.95034914097396994,235140.43243382525,3582860.8957741843,9397.2437539555831,1.5985755672368627E-2,3758.8975015822339,247.23576506491719,4.1205960844152862,15.203696360820825,null,5638.3462523733488,845.75193785600231,2537.2558135680069,845.75193785600231,281.91731261866744]
[86,1.8191189221940639E-2,0.39833084561152837,4.54779730548516E-2,0.99582711402882151,251600.26270419304,3834461.1584783774,9604.7818822616919,1.5269907557376528E-2,3841.9127529046768,251.43877307102076,4.1906462178503459,15.279714842624927,null,5762.8691293570155,864.43036940355228,2593.2911082106571,864.43036940355228,288.1434564678508]
[87,1.9043986035874209E-2,0.41737483164740258,4.760996508968552E-2,1.043437079118507,269212.28109348658,4103673.439571864,9816.903490131439,1.4586115388580543E-2,3926.7613960525755,255.71323221322808,4.2618872035538011,15.356113416838049,null,5890.142094078863,883.52131411182938,2650.5639423354883,883.52131411182938,294.50710470394318]
[88,1.9936761676754296E-2,0.43731159332415687,4.9841904191885743E-2,1.0932789833103929,288057.14077003067,4391730.5803418942,10033.709803710988,1.3932943688726484E-2,4013.4839214843951,260.0603571608529,4.3343392860142149,15.432893983922238,null,6020.2258822265931,903.03388233398891,2709.1016470019667,903.03388233398891,301.01129411132968]
[89,2.0871390338501303E-2,0.45818298366265819,5.2178475846253257E-2,1.1454574591566462,308221.14062393282,4699951.7209658269,10255.30428472594,1.3309021261768228E-2,4102.1217138903767,264.48138323258735,4.4080230538764562,15.510058453841847,null,6153.1825708355636,922.97738562533448,2768.9321568760038,922.97738562533448,307.65912854177822]
[90,2.1849834076614373E-2,0.48003281773927259,5.4624585191535929E-2,1.2000820443481821,329796.62046760815,5029748.3414334347,10481.79267985411,1.2713038314331191E-2,4192.7170719416445,268.97756674754129,4.4829594457923552,15.587608746111055,null,6289.0756079124658,943.36134118686982,2830.0840235606097,943.36134118686982,314.45378039562331]
[91,2.2874146927092547E-2,0.50290696466636509,5.7185367317731363E-2,1.2572674116659135,352882.38390034076,5382630.7253337754,10713.283071188687,1.2143743706077749E-2,4285.3132284754747,273.55018538224948,4.5591697563708244,15.665546789841608,null,6427.9698427132125,964.19547640698181,2892.5864292209458,964.19547640698181,321.39849213566066]
[92,2.3946479218449571E-2,0.5268534438848147,5.9866198046123927E-2,1.3171336097120374,377584.15077336464,5760214.8761071404,10949.885927815887,1.1599942323202311E-2,4379.954371126355,278.2005385337477,4.636675642229128,15.743874523790815,null,6569.931556689532,985.48973350342976,2956.4692005102893,985.48973350342976,328.49657783447662]
[93,2.5069082085874512E-2,0.55192252597068925,6.2672705214686278E-2,1.3798063149267237,404015.04132750019,6164229.9174346402,11191.714158531699,1.1080492569542272E-2,4476.6856634126798,282.92994768882136,4.7154991281470231,15.822593896409767,null,6715.0284951190188,1007.2542742678528,3021.7628228035587,1007.2542742678528,335.75142475595095]
[94,2.6244312197014657E-2,0.57816683816770387,6.5610780492536644E-2,1.4454170954192602,432296.09422042524,6596526.0116550652,11438.883165722873,1.0584303970037954E-2,4575.5532662891483,287.73975679953134,4.795662613325522,15.901706865891814,null,6863.3298994337247,1029.4994849150587,3088.4984547451763,1029.4994849150587,343.16649497168623]
[95,2.7474636699301624E-2,0.60564147486700548,6.8686591748254061E-2,1.5141036871675142,462556.82081585506,7059082.8324709199,11691.510900437856,1.0110334881510502E-2,4676.6043601751426,292.6313326651233,4.8771888777520553,15.981215400221272,null,7014.906540262713,1052.2359810394069,3156.707943118221,1052.2359810394069,350.74532701313569]
[96,2.8762638399206276E-2,0.63440411326621171,7.1906595998015688E-2,1.5860102831655298,494935.79827296495,7554018.6307438845,11949.717918674025,9.6575903059520161E-3,4779.8871674696093,297.60606532043039,4.9601010886738397,16.061121477222375,null,7169.8307512044157,1075.4746126806624,3226.423838041987,1075.4746126806624,358.49153756022082]
[97,3.011102118429556E-2,0.66451513445050725,7.5277552960738903E-2,1.6612878361262688,529581.30415207252,8083599.9348959569,12213.627438907935,9.2251198017373488E-3,4885.4509755631743,302.66536843087766,5.0444228071812942,16.141427084608484,null,7328.176463344761,1099.2264695017141,3297.6794085051424,1099.2264695017141,366.4088231672381]
[98,3.1522615699473393E-2,0.69603775014998059,7.8806539248683485E-2,1.7400943753749523,566651.99544271769,8650251.9303386752,12483.365400896213,8.81201548837263E-3,4993.3461603584856,307.81067969420252,5.1301779949033754,16.222134220031524,null,7490.0192405377275,1123.502886080659,3370.5086582419776,1123.502886080659,374.50096202688638]
[99,3.3000385289321872E-2,0.72903813543930251,8.2500963223304677E-2,1.822595338598257,606317.63512370794,9256569.5654623825,12759.060525774999,8.4174101405919046E-3,5103.6242103100012,313.04346124900394,5.2173910208167324,16.30324489113168,null,7655.4363154649982,1148.3154473197496,3444.9463419592494,1148.3154473197496,382.77181577324995]
[100,3.4547432219017397E-2,0.76358556765831986,8.6368580547543497E-2,1.9089639191458005,648759.86958236748,9905329.4350447506,13040.844377486743,8.0404753678008176E-3,5216.3377509946968,318.36520009023695,5.3060866681706162,16.384761115587338,null,7824.5066264920461,1173.675993973807,3521.0279819214206,1173.675993973807,391.22533132460234]
[101,3.6167004186881346E-2,0.79975257184520121,9.0417510467203366E-2,1.9993814296130039,694173.06045313319,10599502.495497884,13328.851425563536,7.6804198750455134E-3,5331.5405702254147,323.77740849177098,5.3962901415295166,16.466684921165275,null,7997.3108553381217,1199.5966283007183,3598.7898849021549,1199.5966283007183,399.86554276690612]
[102,3.786250114223675E-2,0.83761507298743798,9.4656252855591871E-2,2.0940376824685956,742765.17468485259,11342267.670182737,13623.219109297106,7.3364878018559732E-3,5449.2876437188424,329.2816244361311,5.4880270739355179,16.549018345771099,null,8173.9314655782637,1226.0897198367395,3678.2691595102187,1226.0897198367395,408.69657327891321]
[103,3.9637482422883945E-2,0.87725255541032188,9.9093706057209865E-2,2.1931313885258055,794758.73691279232,12137026.407095529,13924.087903325926,7.0079571354765982E-3,5569.6351613303714,334.87941205154527,5.5813235341924212,16.631763437499952,null,8354.4527419955557,1253.1679112993334,3759.5037338980001,1253.1679112993334,417.72263709977778]
[104,4.1495674227178592E-2,0.91874822963750047,0.10373918556794648,2.2968705740937518,850391.84849668783,12987418.255592218,14231.601384670879,6.6941381951528952E-3,5692.6405538683521,340.57236205642153,5.676206034273692,16.714922254687451,null,8538.9608308025272,1280.844124620379,3842.5323738611373,1280.844124620379,426.94804154012638]
[105,4.3440977436398256E-2,0.96218920707389877,0.10860244359099563,2.4054730176847476,909919.27789145603,13897337.533483673,14545.906301251331,6.394372184292378E-3,5818.3625205005328,346.36209221138063,5.7727015368563439,16.798496865960885,null,8727.5437807507988,1309.1315671126197,3927.3947013378597,1309.1315671126197,436.37718903753995]
[106,4.547747580381882E-2,1.0076666828777177,0.11369368950954704,2.5191667071942945,973613.62734385801,14870951.160827531,14867.152641914459,6.1080298074602541E-3,5946.8610567657843,352.25024777897403,5.8708374629829008,16.882489350290687,null,8920.2915851486759,1338.0437377723013,4014.1312133169045,1338.0437377723013,446.01457925743381]
[107,4.7609444527692071E-2,1.0552761274054097,0.11902361131923017,2.6381903185135247,1041766.5812579282,15912717.742085459,15195.493708011136,5.8345099493065525E-3,6078.1974832044552,358.23850199121654,5.9706416998536094,16.966901797042137,null,9117.2962248066797,1367.5944337210019,4102.7833011630064,1367.5944337210019,455.86481124033401]
[108,4.9841359226121623E-2,1.1051174866315312,0.12460339806530406,2.7627937165788286,1114690.2419459831,17027407.984031443,15531.086186552564,5.5732384126513908E-3,6212.4344746210254,364.3285565250672,6.0721426087511201,17.051736306027347,null,9318.6517119315395,1397.7977567897308,4193.3932703691926,1397.7977567897308,465.93258559657698]
[109,5.2177905332677951E-2,1.1572953919642091,0.13044476333169489,2.8932384799105235,1192718.558882202,18220126.542913646,15874.090224982574,5.3236667130792479E-3,6349.6360899930296,370.52214198599336,6.1753690330998889,17.136994987557483,null,9524.4541349895444,1428.6681202484317,4286.0043607452953,1428.6681202484317,476.22270674947725]
[110,5.4623987932476678E-2,1.2119193798966856,0.1365599698311917,3.0297984497417154,1276208.8580039563,19496335.400917601,16224.669507601311,5.085270927511776E-3,6489.8678030405235,376.82101839975519,6.2803503066625863,17.222679962495267,null,9734.8017045607885,1460.2202556841182,4380.6607670523554,1460.2202556841182,486.74008522803945]
[111,5.7184742059368895E-2,1.2691041219560546,0.14296185514842225,3.1727603048901378,1365543.4780642332,20861878.878981832,16582.99133367668,4.8575505943419381E-3,6633.1965334706729,383.226975712551,6.3871162618758497,17.308793362307743,null,9949.7948002060075,1492.4692200309012,4477.4076600927037,1492.4692200309012,497.48974001030041]
[112,5.9865543475860358E-2,1.328969665431915,0.1496638586896509,3.3224241635797886,1461131.5215287297,22323010.400510561,16949.226697280927,4.6400276628205403E-3,6779.6906789123714,389.74183429966433,6.4956972383277387,17.395337329119279,null,10169.536018368555,1525.4304027552832,4576.2912082658504,1525.4304027552832,508.47680091842778]
[113,6.2672019958389572E-2,1.3916416853903046,0.15668004989597392,3.4791042134757624,1563410.7280357408,23886421.128546301,17323.550368890374,4.432245489489655E-3,6929.4201475561495,396.36744548275857,6.6061240913793098,17.482314015764874,null,10394.130221334224,1559.1195332001337,4677.3585996004012,1559.1195332001337,519.70651106671119]
[114,6.5610063111655931E-2,1.4572517485019605,0.16402515777913981,3.643129371254902,1672849.4789982426,25559270.607544545,17706.140978787316,4.2337678795561053E-3,7082.4563915149256,403.10569205596545,6.7184282009327578,17.569725585843695,null,10623.68458727239,1593.5526880908585,4780.6580642725758,1593.5526880908585,531.18422936361947]
[115,6.8685840736799647E-2,1.5259375892387601,0.17171460184199913,3.814843973096901,1789948.9425281198,27349219.550072666,18097.181102303828,4.0441781711926172E-3,7238.8724409215311,409.95848882091684,6.832641480348614,17.657574213772911,null,10858.308661382296,1628.7462992073445,4886.2388976220336,1628.7462992073445,542.91543306911478]
[116,7.1905809779397631E-2,1.5978433990181578,0.17976452444849408,3.994608497545395,1915245.3685050884,29264464.918577753,18496.857346948207,3.8630783608443043E-3,7398.7429387792827,416.9277831308724,6.94879638551454,17.745862084841775,null,11098.114408168924,1664.7171612253385,4994.1514836760161,1664.7171612253385,554.9057204084462]
[117,7.5276729884457258E-2,1.673120128902615,0.18819182471114315,4.1828003222565382,2049312.5443004447,31313777.462878197,18905.360441455552,3.6900882677042518E-3,7562.144176582221,424.01555544409717,7.0669259240682862,17.834591395265981,null,11343.216264873332,1701.4824397309997,5104.4473191929992,1701.4824397309997,567.16081324366667]
[118,7.8805677586863396E-2,1.7519258064894783,0.1970141939671585,4.3798145162236963,2192764.4224014757,33506541.885279674,19322.885326805095,3.5248447356042052E-3,7729.1541307220377,431.22381988664682,7.1870636647774466,17.923764352242308,null,11593.731196083058,1739.0596794124585,5217.1790382373756,1739.0596794124585,579.68655980415292]
[119,8.250006116706915E-2,1.8344258676565475,0.20625015291767287,4.5860646691413693,2346257.9319695793,35852799.817249253,19749.631249247581,3.367000870644881E-3,7899.8524996990318,438.55462482471972,7.3092437470786624,18.013383174003518,null,11849.77874954855,1777.4668124322825,5332.4004372968475,1777.4668124322825,592.4889374774275]
[120,8.6367636203215983E-2,1.9207935038597634,0.21591909050803995,4.801983759649409,2510495.98720745,38363295.804456703,20185.80185538721,3.2162253129654882E-3,8074.3207421548832,446.0100534467399,7.4335008907789986,18.103450089873533,null,12111.481113232327,1816.7221669848489,5450.1665009545468,1816.7221669848489,605.5740556616164]
[121,9.0416521852332371E-2,2.0112100257120957,0.22604130463083094,5.0280250642802402,2686230.7063119714,41049526.510768674,20631.60528936343,3.0722015411236733E-3,8252.6421157453715,453.59222435533445,7.5598704059222408,18.193967340322899,null,12378.963173618058,1856.8444760427087,5570.5334281281266,1856.8444760427087,618.94815868090291]
[122,9.4655217894789229E-2,2.105865243606885,0.23663804473697306,5.2646631090172136,2874266.8557538097,43923793.366522484,21087.254292179019,2.9346272076255973E-3,8434.9017168716073,461.30329216937508,7.6883882028229182,18.284937177024513,null,12652.352575307412,1897.8528862961116,5693.5586588883352,1897.8528862961116,632.61762876537068]
[123,9.9092622577793929E-2,2.2049578661846789,0.24773155644448483,5.5123946654616987,3075465.5356565765,46999258.902179062,21552.96630322179,2.803213504211222E-3,8621.1865212887151,469.1454481362544,7.8190908022709067,18.376361862909633,null,12931.779781933075,1939.7669672899613,5819.300901869884,1939.7669672899613,646.58898909665379]
[124,0.10373805129538105,2.3086959174800601,0.25934512823845263,5.7717397937001511,3290748.1231525373,50290007.025331602,22028.963564028436,2.6776845555623605E-3,8811.5854256113744,477.12092075457065,7.9520153459095111,18.46824367222418,null,13217.378138417062,1982.6067207625592,5947.8201622876777,1982.6067207625592,660.86890692085308]
[125,0.10860125614411498,2.4172971736241751,0.27150314036028744,6.043242934060439,3521100.4917732151,53811107.517104819,22515.473224339996,2.5577768401607052E-3,9006.1892897359994,485.23197640739829,8.0871996067899712,18.5605848905853,null,13509.283934603996,2026.3925901905993,6079.1777705717986,2026.3925901905993,675.46419673019989]
[126,0.11369244639555716,2.5309896200197324,0.28423111598889289,6.3274740500493323,3767577.5261973403,57578685.043302163,23012.727450499548,2.4432386370800501E-3,9205.0909801998168,493.48092000632397,8.2246820001053997,18.653387815038226,null,13807.636470299731,2071.1454705449596,6213.4364116348788,2071.1454705449596,690.38182351498654]
[127,0.1190223099284758,2.6500119299482083,0.2975557748211895,6.6250298248705217,4031307.9530311543,61609992.996333316,23520.963536243824,2.3338294975513668E-3,9408.3854144975285,501.87009564643142,8.3645015941071907,18.746654754113415,null,14112.578121746295,2116.8867182619442,6350.6601547858327,2116.8867182619442,705.62890608731482]
[128,0.12460203566579017,2.7746139656139985,0.31150508916447545,6.936534914034997,4313499.5097433357,65923492.506076649,24040.424015941768,2.2293197401913908E-3,9616.1696063767049,510.40188727242077,8.5066981212070125,18.840388027883979,null,14424.254409565063,2163.6381614347592,6490.9144843042786,2163.6381614347592,721.21272047825323]
[129,0.13044333706335137,2.9050573026773501,0.32610834265837846,7.2626432566933756,4615444.4754253691,70538936.981502011,24571.356780333837,2.129489968835063E-3,9828.5427121335324,519.07871935605192,8.6513119892675316,18.934589968023396,null,14742.814068200305,2211.4221102300457,6634.2663306901377,2211.4221102300457,737.14070341001525]
[130,{"$f":"D131/2.5","v":0.13655847669986942},3.0416157793772194,{"$f":"F131/J131/60/24","v":0.34139619174967356},7.6040394484430491,4938525.5887051448,75477462.570207149,25114.015194827491,{"$f":"J131/F131","v":2.0341306119596118E-3},{"$f":"K131*M131","v":10045.606077930999},{"$f":"L131*60","v":527.90305758510476},8.7983842930850784,19.029262917863509,null,{"$f":"H131-J131","v":15068.409116896491},{"$f":"O131*0.15","v":2260.2613675344737},{"$f":"O131*0.45","v":6780.7841026034212},{"$f":"O131*0.15","v":2260.2613675344737},{"$f":"O131*0.05","v":753.42045584482457}]
[131,0.14296029201960733,{"$f":"B132+C131","v":3.1845760713968265},0.35740073004901834,7.9614401784920679,{"$f":"F131*1.07","v":5284222.3799145054},{"$f":"F132+G131","v":80761684.950121656},{"$f":"F132/B132/60/24","v":25668.65822040525},1.9430414827334007E-3,10267.4632881621,536.87740956405139,{"$f":"L131*1.017","v":8.9479568260675233},{"$f":"M131*1.005","v":19.124409232452823},null,15401.19493224315,2310.1792398364723,6930.5377195094179,2310.1792398364723,770.0597466121576]
[132,0.14966222228188447,3.3342382936787112,0.37415555570471115,{"$f":"D133+E132","v":8.3355957341967795},5654117.9465085212,86415802.896630183,26235.550537202897,1.8560313587659507E-3,10494.220214881158,546.00432552664017,9.1000720921106701,19.220031278615085,null,15741.330322321739,2361.1995483482606,7083.5986450447826,2361.1995483482606,787.06651611608697]
[133,0.15667833677396345,3.4909166304526744,0.39169584193490864,8.7272915761316874,6049906.2027641181,92465709.099394307,26814.962670817014,1.7729175806769123E-3,10725.985068326805,555.286399060593,9.2547733176765501,19.31613143500816,null,16088.977602490209,2413.3466403735315,7240.039921120594,2413.3466403735315,804.44888012451054]
[134,0.16402336434654743,3.6549399947992218,0.41005841086636857,9.1373499869980552,6473399.6369576063,98939108.736351907,27407.171121402003,1.6935256686412723E-3,10962.868448560799,564.72626784462295,9.4121044640770499,19.412712092183199,null,16444.302672841204,2466.6454009261806,7399.9362027785419,2466.6454009261806,822.21513364206021]
[135,0.17171272433389179,3.8266527191331137,0.42928181083472944,9.5666317978327839,6926537.6115446389,105865646.34789655,28012.458495618161,1.617688956105808E-3,11204.983398247263,574.32661439798153,9.5721102399663582,19.509775652644112,null,16807.475097370898,2521.1212646056347,7563.363793816904,2521.1212646056347,840.37375486854489]
[136,0.17976255892344009,4.0064152780565534,0.44940639730860021,10.016038195141384,7411395.2443527645,113277041.5922493,28631.113641493881,1.5452482399078544E-3,11452.445456597552,584.09016684274718,9.7348361140457857,19.607324530907331,null,17178.668184896327,2576.800227734449,7730.4006832033474,2576.800227734449,858.9334092448164]
[137,0.18818976704293772,4.1946050450994914,0.47047441760734426,10.486512612748728,7930192.9114574585,121207234.50370677,29263.431786266257,1.4760514460618868E-3,11705.372714506506,594.01969967907382,9.900328327984564,19.705361153561864,null,17558.059071759752,2633.7088607639625,7901.1265822918886,2633.7088607639625,877.90295358798767]
[138,0.19701203983616172,4.3916170849356533,0.49253009959040428,10.979042712339131,8485306.4152594805,129692540.91896625,29909.714677265947,1.4099533105123023E-3,11963.885870906381,604.11803457361805,10.068633909560301,19.803887959329671,null,17945.828806359568,2691.8743209539352,8075.6229628618057,2691.8743209539352,897.29144031797841]
[139,0.20624789780174163,4.597864982737395,0.5156197445043541,11.494662456843486,9079277.8643276449,138771818.7832939,30570.270725913364,1.3468150741822113E-3,12228.108290365346,614.38804116136953,10.239800686022825,19.902907399126317,null,18342.162435548016,2751.3243653322024,8253.9730959966073,2751.3243653322024,917.10812177740081]
[140,0.2159167296730346,4.8137817124104298,0.53979182418258653,12.034454281026072,9714827.3148305807,148486646.09812447,31245.41515489516,1.286504191678061E-3,12498.166061958063,624.83263786111274,10.413877297685213,20.002421936121948,null,18747.249092937098,2812.0873639405645,8436.2620918216944,2812.0873639405645,937.36245464685499]
[141,0.22603883312067691,5.0398205455311071,0.56509708280169224,12.599551363827764,10394865.226868723,158881511.32499319,31935.470148591019,1.2288940530385708E-3,12774.188059436407,635.45479270475164,10.59091321174586,20.102434045802557,null,19161.282089154614,2874.1923133731921,8622.5769401195776,2874.1923133731921,958.06410445773076]
[142,0.23663545736325683,5.2764560028943643,0.5915886434081421,13.191140007235907,11122505.792749533,170004017.11774272,32640.765006822639,1.1738637179438572E-3,13056.306002729056,646.25752418073239,10.770958736345539,20.202946216031567,null,19584.459004093584,2937.6688506140376,8813.0065518421125,2937.6688506140376,979.22295020467925]
[143,0.24772884777556162,5.5241848506699256,0.61932211943890403,13.81046212667481,11901081.198242001,181905098.31598473,33361.636301998304,1.1212976618267729E-3,13344.654520799324,657.24390209180478,10.954065034863413,20.303960947111722,null,20016.981781198978,3002.5472671798466,9007.6418015395411,3002.5472671798466,1000.8490890599489]
[144,0.25934229258804409,5.7835271432579693,0.64835573147011016,14.45881785814492,12734156.882118942,194639255.19810367,34098.428039727929,1.0710855333534736E-3,13639.371215891175,668.41704842736544,11.140284140456091,20.405480751847278,null,20459.056823836756,3068.8585235755131,9206.5755707265398,3068.8585235755131,1022.9528411918378]
[145,0.27150017177554431,6.0550273150335139,0.67875042943886077,15.137568287583781,13625547.86386727,208264803.06197095,34851.491822985321,1.0231219227640979E-3,13940.596729194129,679.78013825063056,11.329668970843843,20.507508155606512,null,20910.895093791194,3136.6342640686789,9409.9027922060377,3136.6342640686789,1045.5447546895598]
[146,0.28422800823789846,6.3392553232714119,0.71057002059474617,15.848138308178527,14579336.21433798,222844139.27630892,35621.187019895951,9.7730614058723613E-4,14248.474807958379,691.33640060089124,11.522273343348187,20.610045696384542,null,21372.712211937571,3205.9068317906354,9617.7204953719065,3205.9068317906354,1068.6356105968787]
[147,0.29755252137987698,6.6368078446512886,0.74388130344969239,16.592019611628221,15599889.749341641,238444029.02565056,36407.880935230336,9.3354200626364953E-4,14563.152374092137,703.08911941110637,11.718151990185106,20.713095924866462,null,21844.728561138199,3276.7092841707299,9830.1278525121907,3276.7092841707299,1092.23642805691]
[148,0.31150168320293159,6.94830952785422,0.77875420800732897,17.370773819635549,16691882.031795556,255135911.05744612,37211.948985684903,8.9173764623549717E-4,14884.779594273958,715.04163444109508,11.917360574018252,20.816661404490791,null,22327.169391410946,3349.0754087116416,10047.226226134926,3349.0754087116416,1116.3584695705474]
[149,0.32610477702650653,7.2744143048807262,0.81526194256626627,18.186035762201815,17860313.774021246,272996224.83146739,38033.774879033743,8.5180530107720382E-4,15213.509951613498,727.19734222659372,12.119955703776562,20.920744711513244,null,22820.264927420245,3423.0397391130368,10269.11921733911,3423.0397391130368,1141.0132463710122]
[150,0.34139245896218229,7.6158067638429081,0.85348114740545566,19.039516909607272,19110535.738202732,292106760.56967014,38873.75079723719,8.1366114126307819E-4,15549.500318894878,739.55969704444578,12.325994950740762,21.025348435070807,null,23324.250478342314,3498.637571751347,10495.912715254042,3498.637571751347,1166.2125239171157]
[151,0.35739682226970865,7.9732035861126169,0.89349205567427159,19.933008965281545,20448273.239876926,312555033.80954707,39732.277583594165,7.7722509118492798E-4,15892.911033437667,752.1322118942013,12.535536864903355,21.130475177246158,null,23839.366550156497,3575.9049825234747,10727.714947570425,3575.9049825234747,1191.9683275078248]
[152,0.3741514647300257,8.3473550508426424,0.93537866182506424,20.86838762710661,21879652.366668314,334434686.17621541,40609.764934027837,7.4242066105023076E-4,16243.905973611136,764.91845949640265,12.748640991606711,21.236127553132388,null,24365.858960416699,3654.8788440625049,10964.636532187515,3654.8788440625049,1218.292948020835]
[153,0.39169155917670989,8.7390466100193525,0.9792288979417747,21.847616525048384,23411228.032335099,357845914.20855051,41506.631592595848,7.0917478630796744E-4,16602.65263703834,777.92207330784152,12.965367888464025,21.342308190898049,null,24903.978955557508,3735.5968433336261,11206.790530000879,3735.5968433336261,1245.1989477778754]
[154,0.41005392733391027,9.149100537353263,1.0251348183347757,22.872751343383161,25050013.994598556,382895928.20314908,42423.305551318314,6.7741767426502666E-4,16969.322220527323,791.14674855407463,13.185779142567911,21.449019731852538,null,25453.98333079099,3818.0974996186483,11454.292498855946,3818.0974996186483,1272.6991665395497]
[155,0.42927711711578215,9.5783776544690458,1.0731927927894553,23.945944136172617,26803514.974220458,409699443.17736953,43360.224254419169,6.4708265757118663E-4,17344.089701767669,804.59624327949393,13.409937387991565,21.556264830511797,null,26016.1345526515,3902.4201828977248,11707.260548693175,3902.4201828977248,1300.8067276325751]
[156,0.44940148354969189,10.027779138018738,1.1235037088742297,25.069447845046845,28679761.022415891,438379204.19978541,44317.834807078012,6.1810605426508992E-4,17727.133922831206,818.27437941524522,13.637906323587421,21.664046154664355,null,26590.700884246806,3988.6051326370207,11965.815397911063,3988.6051326370207,1329.5350442123404]
[157,0.47046927349307588,10.498248411511815,1.1761731837326896,26.245621028779535,30687344.293985005,469066548.49377042,45296.594188792333,5.904270340874151E-4,18118.637675516929,832.18504386530435,13.869750731088406,21.772366385437675,null,27177.956513275403,4076.6934769913105,12230.080430973932,4076.6934769913105,1358.8978256637702]
[158,0.49252471432179457,10.990773125833609,1.2313117858044864,27.476932814584021,32835458.394563958,501902006.88833439,46296.96947145179,5.6398749078059396E-4,18518.787788580717,846.33218961101443,14.105536493516906,21.88122821736486,null,27778.181682871073,4166.7272524306609,12500.181757291983,4166.7272524306609,1388.9090841435536]
[159,0.51561410677616859,11.506387232609779,1.2890352669404215,28.765968081524441,35133940.482183434,537035947.37051785,47319.438042228787,5.3873192010699372E-4,18927.775216891518,860.71983683440158,14.345330613906693,21.990634358451683,null,28391.662825337269,4258.7494238005902,12776.248271401771,4258.7494238005902,1419.5831412668635]
[160,0.53978592215960564,12.046173154769384,1.3494648053990141,30.115432886923454,37593316.315936275,574629263.68645418,48364.487831391401,5.146073033294921E-4,19345.795132556563,875.35207406058635,14.589201234343106,22.100587530243939,null,29018.692698834839,4352.8039048252258,13058.411714475678,4352.8039048252258,1450.9346349417419]
[161,0.56509090409386509,12.611264058863249,1.4127272602346628,31.528160147158118,40224848.458051816,614854112.14450598,49432.617545147688,4.9156299590983536E-4,19773.047018059071,890.23305931961625,14.837217655326937,22.211090467895154,null,29659.570527088617,4448.9355790632926,13346.806737189878,4448.9355790632926,1482.9785263544309]
[162,0.59158217504457655,13.202846233907826,1.4789554376114413,33.007115584769558,43040587.850115448,657894699.9946214,50524.336903632247,4.6955062119112507E-4,20209.734761452899,905.36702132804953,15.089450355467493,22.322145920234629,null,30314.602142179348,4547.1903213269024,13641.570963980706,4547.1903213269024,1515.7301071089676]
[163,0.61931534784063658,13.822161581748462,1.5482883696015914,34.555403954371151,46053428.99962353,703948128.99424493,51640.166884148952,4.4852396884124393E-4,20656.066753659583,920.75826069062634,15.345971011510439,22.4337566498358,null,30984.100130489369,4647.6150195734053,13942.845058720217,4647.6150195734053,1549.2050065244684]
[164,0.64834864242160006,14.470510224170063,1.6208716060540003,36.176275560425154,49277169.029597178,753225298.0238421,52780.639969785385,4.284388978440212E-4,21112.255987914152,936.41115112236685,15.606852518706114,22.545925433084978,null,31668.383981871233,4750.2575972806844,14250.772791842055,4750.2575972806844,1583.4191990935617]
[165,0.67874300805814802,15.149253232228212,1.6968575201453702,37.873133080570526,52726570.861668982,805951868.88551104,53946.300403518086,4.0925324383449192E-4,21578.520161407232,952.33014069144701,15.872169011524116,22.6586550602504,null,32367.780242110854,4855.1670363166277,14565.501108949884,4855.1670363166277,1618.3890121055429]
[166,0.7105622513022094,15.85981548353042,1.7764056282555234,39.64953870882605,56417430.821985811,862369299.70749688,55137.704447929755,3.909267305837164E-4,22055.081779171906,968.51975308320152,16.141995884720025,22.771948335551649,null,33082.622668757846,4962.3934003136765,14887.180200941031,4962.3934003136765,1654.1311334378925]
[167,0.74387316993534225,16.603688653465763,1.8596829248383555,41.509221633664403,60366650.979524821,922735950.68702173,56355.420650662272,3.7342088544734366E-4,22542.168260264913,984.98458888561584,16.416409814760264,22.885808077229406,null,33813.252390397363,5071.9878585596043,15215.963575678814,5071.9878585596043,1690.6626195198683]
[168,0.77874569319657005,17.382434346662333,1.9468642329914252,43.456085866655826,64592316.548091561,987328267.23511326,57600.030115732145,3.5669895860041879E-4,23040.012046292857,1001.7293268966712,16.695488781611186,23.000237117615551,null,34560.018069439291,5184.0027104158935,15552.008131247681,5184.0027104158935,1728.0009034719646]
[169,0.81525302858405146,18.197687375246385,2.0381325714601286,45.494218438115958,69113778.706457973,1056442045.9415712,58872.126780838073,3.4072584588888682E-4,23548.850712335228,1018.7587254539144,16.979312090898574,23.115238303203625,null,35323.276068502848,5298.4914102754274,15895.474230826281,5298.4914102754274,1766.1638034251425]
[170,0.85347181553876172,19.051159190785146,2.1336795388469043,47.627897976962863,73951743.215910032,1130393789.1574812,60172.317700792868,3.2546801513583441E-4,24068.927080317146,1036.0776237866307,17.267960396443847,23.230814494719642,null,36103.390620475722,5415.5085930713585,16246.525779214075,5415.5085930713585,1805.1695310237862]
[171,0.88905910669750399,19.940218297482652,2.2226477667437599,49.850545743706626,79128365.241023734,1209522154.398505,61807.199572723395,3.1244016925894858E-4,24722.879829089361,1053.6909433910034,17.56151572318339,{"$f":"M171*1.01","v":23.463122639666839},null,37084.319743634034,5562.6479615451053,16687.943884635315,5562.6479615451053,1854.2159871817018]
[172,0.92613028434079026,20.866348581823441,2.3153257108519756,52.165871454558598,84667350.807895407,1294189505.2064004,63486.501185114292,2.99933802483845E-4,25394.600474045717,1071.6036894286503,17.860061490477506,{"$f":"M172*1.01","v":23.697753866063508},null,38091.900711068578,5713.7851066602861,17141.355319980859,5713.7851066602861,1904.5950355534289]
[173,0.96474722221700948,21.831095804040451,2.4118680555425236,54.577739510101125,90594065.364448085,1384783570.5708485,65211.429422313835,2.8792804102554306E-4,26084.571768925536,1089.8209521489373,18.163682535815621,23.934731404724143,null,39126.857653388302,5869.028648008245,17607.085944024737,5869.028648008245,1956.3428826694153]
[174,1.0049743740298103,22.836070178070262,2.5124359350745258,57.090175445175653,96935649.939959452,1481719220.510808,66983.223959718089,2.7640284663570748E-4,26793.289583887239,1108.3479083354691,18.472465138924484,24.174078718771383,null,40189.934375830853,6028.490156374628,18085.470469123884,6028.490156374628,2009.4967187915427]
[175,1.0468788810147271,23.882949059084989,2.617197202536818,59.707372647712468,103721145.43575662,1585440365.9465647,68803.158154703633,2.653389831577566E-4,27521.26326188145,1127.1898227771719,18.786497046286197,24.415819505959096,null,41281.89489282218,6192.2842339233266,18576.852701769982,6192.2842339233266,2064.0947446411092]
[176,1.0905306840014393,24.973479743086429,2.7263267100035979,62.433699357716065,110981625.61625959,1696421991.5628242,70672.539961766903,2.5471798442070354E-4,28269.015984706763,1146.3520497643835,19.10586749607306,24.659977701018686,null,42403.52397706014,6360.528596559021,19081.585789677065,6360.528596559021,2120.176198853007]
[177,1.1360026401487002,26.109482383235129,2.8400066003717508,65.273705958087817,118750339.40939777,1815172330.9722221,72592.712872528093,2.4452212341814387E-4,29037.085149011236,1165.8400346103779,19.430667243506299,24.906577478028872,null,43555.627723516853,6533.3441585275277,19600.032475582586,6533.3441585275277,2177.7813861758427]
[178,1.1833706445467735,27.292853027781902,2.9584266113669337,68.232132569454748,127062863.16805562,1942235194.1402776,74565.056881274679,2.3473438272094842E-4,29826.022752509871,1185.6593151987543,19.760988586645905,25.15564325280916,null,44739.034128764804,6710.8551193147205,20132.565357944164,6710.8551193147205,2236.9517064382403]
[179,1.2327137568903375,28.52556678467224,3.0817843922258437,71.31391696168059,135957263.58981952,2078192457.7300971,76590.989476738905,2.2533842607427718E-4,30636.395790695562,1205.815523557133,20.096925392618882,25.40719968533725,null,45954.593686043343,6893.1890529065013,20679.567158719507,6893.1890529065013,2297.7296843021672]
[180,1.284114333433279,29.809681118105519,3.2102858335831974,74.52420279526379,145474272.04110691,2223666729.771204,78671.966660821912,2.1631857113150958E-4,31468.78666432876,1226.3143874576042,20.438573124293402,25.661271682190623,null,47203.179996493156,7080.4769994739736,21241.430998421922,7080.4769994739736,2360.1589998246577]
[181,1.3376581644456216,31.14733928255114,3.3441454111140541,77.868348206377846,155657471.0839844,2379324200.8551884,80809.483994996393,2.0765976327958189E-4,32323.793597998563,1247.1617320443831,20.786028867406387,25.917884399012529,null,48485.69039699783,7272.8535595496742,21818.560678649024,7272.8535595496742,2424.2845198498917]
[182,1.3934346174020029,32.540773899953145,3.4835865435050075,81.351934749882858,166553494.05986333,2545877694.9150515,83005.077675140448,1.9934755051204489E-4,33202.031070056175,1268.3634814891375,21.139391358152292,26.177063243002653,null,49803.046605084273,7470.456990762641,22411.370972287925,7470.456990762641,2490.1523302542137]
[183,1.4515367861407007,33.992310686093845,3.6288419653517519,84.980776715234612,178212238.64405379,2724089933.5591054,85260.325635574001,1.9136805930790383E-4,34104.130254229596,1289.9256606744527,21.49876101124088,26.438833875432678,null,51156.195381344405,7673.4293072016608,23020.287921604984,7673.4293072016608,2557.8097690672203]
[184,1.512061646242151,35.504372332335997,3.7801541156053773,88.760930830839982,190687095.34913757,2914777028.9082432,87576.848683092525,1.837079714759809E-4,35030.739473237016,1311.8543969059183,21.864239948431972,26.703222214187004,null,52546.109209855509,7881.916381478326,23645.74914443498,7881.916381478326,2627.3054604927756]
[185,1.5751102168863009,37.079482549222298,3.9377755422157521,92.698706373055728,204035192.02357721,3118812220.9318204,89956.311661812142,1.7635450192615262E-4,35982.524664724864,1334.155921653319,22.235932027555315,26.970254436328876,null,53973.786997087278,8096.0680495630913,24288.204148689274,8096.0680495630913,2698.6893498543641]
[186,1.6407877294589426,38.720270278681241,4.1019693236473564,96.800675696703081,218317655.46522763,3337129876.397048,92400.424649663604,1.6929537733036086E-4,36960.169859865433,1356.8365723214251,22.613942872023753,27.239956980692163,null,55440.254789798171,8316.0382184697246,24948.114655409179,8316.0382184697246,2772.0127394899087]
[187,1.7092038031884393,40.429474081869678,4.2730095079710981,101.07368520467418,233599891.34779358,3570729767.7448416,94910.944187394925,1.6251881563778198E-4,37964.37767495797,1379.9027940508893,22.998379900848153,27.512356550499085,null,56946.566512436955,8541.9849768655422,25625.954930596632,8541.9849768655422,2847.3283256218479]
[188,1.7804726281059904,42.209946709975668,4.4511815702649757,105.52486677493916,249951883.74213913,3820681651.4869809,97489.674540966444,1.560135064099631E-4,38995.869816386577,1403.3611415497542,23.389352359162569,27.787480116004076,null,58493.804724579866,8774.0707086869788,26322.212126060942,8774.0707086869788,2924.6902362289934]
[189,1.8547131556348124,44.06465986561048,4.6367828890870308,110.16164966402619,267448515.60408887,4088130167.0910697,100138.46899824445,1.4976859194310447E-4,40055.387599297792,1427.2182809560998,23.786971349268331,28.065354917164118,null,60083.081398946662,9012.4622098419986,27037.386629525998,9012.4622098419986,3004.1540699473335]
[190,1.932049297126327,45.996709162736806,4.8301232428158176,114.991772906842,286169911.69637513,4374300078.7874451,102859.23120092676,1.4377364914598001E-4,41143.692480370715,1451.4809917323535,24.19134986220589,28.346008466335761,null,61715.538720556047,9257.3308080834067,27771.99242425022,9257.3308080834067,3085.7769360278025]
[191,2.0126101306747377,48.009319293411544,5.031525326686844,120.02329823352885,306201805.5151214,4680501884.3025665,105653.91651265595,1.3801867214324883E-4,42261.566605062384,1476.1561685918032,24.602602809863388,28.629468550999118,null,63392.349907593569,9508.8524861390342,28526.557458417108,9508.8524861390342,3169.6174953796785]
[192,2.0965301165551655,50.105849409966709,5.2413252913879136,125.26462352491676,327635931.90117991,5008137816.2037468,108524.5334243048,1.3249405557512231E-4,43409.813369721924,1501.2508234578638,25.020847057631062,28.915763236509108,null,65114.720054582875,9767.2080081874301,29301.624024562294,9767.2080081874301,3255.7360027291438]
[193,2.1839493216449353,52.289798731611647,5.459873304112338,130.72449682902911,350570447.1342625,5358708263.3380089,111473.14499744312,1.2719057856551248E-4,44589.257998977257,1526.7720874566471,25.446201457610787,29.204920868874201,null,66883.886998465867,10032.583049769879,30097.749149309642,10032.583049769879,3344.1943499232934]
[194,{"$f":"D195/2.5","v":2.2750136532025667},54.564812384814211,{"$f":"F195/J195/60/24","v":5.6875341330064169},136.41203096203552,375110378.43366092,5733818641.7716694,114501.87034702367,{"$f":"J195/F195","v":1.2209938933190414E-4},{"$f":"K195*M195","v":45800.748138809467},{"$f":"L195*60","v":1552.72721294341},25.878786882390166,29.496970077562942,null,{"$f":"H195-J195","v":68701.12220821419},{"$f":"O195*0.15","v":10305.168331232127},{"$f":"O195*0.45","v":30915.504993696388},{"$f":"O195*0.15","v":10305.168331232127},{"$f":"O195*0.05","v":3435.0561104107096}]
[195,2.3698751023946829,{"$f":"B196+C195","v":56.93468748720889},5.9246877559867075,142.33671871802221,{"$f":"F195*1.07","v":401368104.92401719},{"$f":"F196+G195","v":6135186746.6956863},{"$f":"F196/B196/60/24","v":117612.8861643523},1.1721199041126353E-4,47045.154465740918,1579.1235755634477,{"$f":"L195*1.017","v":26.318726259390797},29.791939778338573,null,70567.731698611373,10585.159754791706,31755.479264375117,10585.159754791706,3528.3865849305689]
[196,2.4686919979772686,59.403379485186157,6.1717299949431714,{"$f":"D197+E196","v":148.50844871296539},429463872.26869839,6564650618.964385,120808.42828143774,1.1252022447732482E-4,48323.371312575095,1605.9686763480263,26.766144605800438,30.089859176121958,null,72485.056968862642,10872.758545329396,32618.27563598819,10872.758545329396,3624.2528484431323]
[197,2.5716292705547064,61.975008755740866,6.4290731763867663,154.93752188935215,459526343.32750732,7024176962.2918921,124090.79327784439,1.0801626072558292E-4,49636.317311137762,1633.2701438459426,27.221169064099044,30.39075776788318,null,74454.475966706639,11168.171395005995,33504.514185017986,11168.171395005995,3722.723798335332]
[198,2.6788587278576439,64.653867483598503,6.69714681964411,161.63466870899626,491693187.36043286,7515870149.6523247,127462.34013120343,1.0369258180326821E-4,50984.936052481367,1661.0357362913235,27.683928938188725,30.694665345562012,null,76477.404078722058,11471.610611808308,34414.831835424928,11471.610611808308,3823.8702039361033]
[199,2.7905593414991476,67.444426825097651,6.9763983537478689,168.61106706274413,526111710.47566319,8041981860.1279879,130925.49191256822,9.9541971262488772E-5,52370.196765027278,1689.2733438082757,28.154555730137929,31.001611999017634,null,78555.29514754095,11783.294272131143,35349.88281639343,11783.294272131143,3927.7647573770478]
[200,2.9069175456877527,70.351344370785398,7.2672938642193818,175.8783609269635,562939530.2089597,8604921390.3369484,134482.73752783265,9.5557501515598669E-5,53793.095011133068,1717.9909906530163,28.633183177550272,31.311628119007811,null,80689.64251669959,12103.446377504939,36310.339132514819,12103.446377504939,4034.4821258349798]
[201,3.0281275483959762,73.37947191918137,7.5703188709899409,183.44867979795345,602345297.32358694,9207266687.6605358,138136.63350646393,9.173252227268923E-5,55254.653402585558,1747.1968374941175,29.119947291568625,31.624744400197891,null,82881.980103878363,12432.297015581755,37296.891046745266,12432.297015581755,4144.0990051939179]
[202,3.1543916555036606,76.533863574685029,7.8859791387591516,191.3346589367126,644509468.1362381,9851776155.7967739,141889.80583883452,8.8060649441904843E-5,56755.922335533804,1776.8991837315173,29.614986395525289,31.940991844199871,null,85133.88350330072,12770.082525495107,38310.247576485322,12770.082525495107,4256.6941751650365]
[203,3.2859206084571375,79.819784183142161,8.214801521142844,199.54946045785545,689625130.90577483,10541401286.702549,145744.95186347564,8.453575447405737E-5,58297.980745390254,1807.106469854953,30.118441164249216,32.26040176264187,null,87446.971118085377,13117.045667712806,39351.137003138421,13117.045667712806,4372.3485559042692]
[204,3.4229339360078059,83.24271811914997,8.5573348400195144,208.10679529787495,737898890.06917906,11279300176.771729,149704.84220560623,8.1151954133754667E-5,59881.936882242495,1837.8272798424869,30.630454664041448,32.583005780268287,null,89822.905323363724,13473.435798504559,40420.307395513679,13473.435798504559,4491.145266168186]
[205,3.5656603206171837,86.808378439767154,8.9141508015429594,217.02094609941793,789551812.37402165,12068851989.14575,153772.32276833252,7.7903600679970814E-5,61508.929107333017,1869.0703435998089,31.15117239333015,32.908835838070971,null,92263.393660999514,13839.509049149927,41518.527147449786,13839.509049149927,4613.1696830499759]
[206,3.7143379801399838,90.522716419907141,9.2858449503499596,226.3067910497679,844820439.24020326,12913672428.385954,157950.31677794814,7.4785272439668776E-5,63180.126711179248,1900.8445394410055,31.680742324016759,33.237924196451679,null,94770.190066768904,14215.528510015336,42646.58553004601,14215.528510015336,4738.509503338445]
[207,3.869215065422261,94.391931485329408,9.6730376635556521,235.97982871332354,903957869.98701751,13817630298.372971,162241.82688480496,7.1791764758742598E-5,64896.730753921984,1933.1588966115025,32.219314943525042,33.570303438416197,null,97345.096130882972,14601.764419632445,43805.293258897342,14601.764419632445,4867.2548065441488]
[208,4.0305500744782456,98.42248155980765,10.076375186195614,246.05620389951915,967234920.88610876,14784865219.259079,166649.93732126508,6.8918081315175344E-5,66659.974928506039,1966.0225978538981,32.767043297564967,33.906006472800357,null,99989.962392759044,14998.494358913857,44995.48307674157,14998.494358913857,4999.4981196379522]
[209,4.1986122839371509,102.6210938437448,10.496530709842878,256.55273460936201,1034941365.3481364,15819806584.607216,171177.81611828387,6.6159425779914623E-5,68471.126447313538,1999.4449820174141,33.324083033623566,34.245066537528359,null,102706.68967097033,15406.003450645549,46218.010351936646,15406.003450645549,5135.3344835485168]
[210,4.3736821984800507,106.99477604222486,10.934205496200127,267.48694010556216,1107387260.9225061,16927193845.529722,175828.71738221755,6.3511193811546614E-5,70331.486952887019,2033.4355467117095,33.890592445195161,34.587517202903641,null,105497.23042933054,15824.58456439958,47473.753693198742,15824.58456439958,5274.8615214665269]
[211,4.5560520190169633,111.55082806124182,11.390130047542408,278.87707015310457,1184904369.1870816,18112098214.716805,180605.9836334924,6.0968965371407782E-5,72242.393453396959,2068.0039510058082,34.466732516763471,34.93339237493268,null,108363.59018009545,16254.538527014316,48763.615581042948,16254.538527014316,5418.1795090047726]
[212,4.7460261303855766,116.29685419162739,11.865065325963942,290.74213547906851,1267847675.0301774,19379945889.746983,185513.04820881435,5.85284973463074E-5,74205.219283525745,2103.1600181729068,35.052666969548447,35.282726298682007,null,111307.8289252886,16696.174338793291,50088.52301637987,16696.174338793291,5565.3914462644307]
[213,4.9439216093855611,121.24077580101294,12.359804023463903,303.10193950253239,1356597012.2822897,20736542902.029274,190553.43772864784,5.6185716466548197E-5,76221.375091459136,2138.9137384818459,35.648562308030769,35.635553561668829,null,114332.0626371887,17149.809395578304,51449.42818673492,17149.809395578304,5716.603131859436]
[214,5.1500687539964662,126.39084455500941,12.875171884991166,315.97711138752356,1451558803.14205,22188101705.171326,195730.77463173517,5.3936712507424588E-5,78292.309852694074,2175.2752720360372,36.25458786726729,35.991909097285514,null,117438.4647790411,17615.769716856164,52847.309150568493,17615.769716856164,5871.9232389520548]
[215,5.364811634662443,131.75565618967184,13.412029086656107,329.38914047417967,1553167919.3619936,23741269624.533318,201048.77977847934,5.1777731762851678E-5,80419.511911391746,2212.2549516606496,36.870915861010829,36.351828188258366,null,120629.26786708759,18094.390180063139,54283.170540189414,18094.390180063139,6031.4633933543801]
[216,5.5885086685639322,137.34416485823579,13.971271671409831,343.36041214558952,1661889673.7173331,25403159298.250652,206511.27512506061,4.9705170780232105E-5,82604.510050024255,2249.8632858388805,37.497721430648006,36.71534647014095,null,123906.76507503635,18586.014761255454,55758.044283766358,18586.014761255454,6195.3382537518182]
[217,5.8215332178348351,143.16569807607061,14.553833044587087,357.91424519017659,1778221950.8775465,27181381249.128201,212122.18647020854,4.7715570346103746E-5,84848.874588083418,2288.1109616981412,38.135182694969018,37.08249993484236,null,127273.31188212513,19090.996782318769,57272.990346956307,19090.996782318769,6363.6655941062563]
[218,6.0642742127235758,149.22997228879419,15.160685531808939,373.07493072198554,1902697487.4389749,29084078736.567177,217885.54627660406,4.5805609712530253E-5,87154.218510641615,2327.008848047009,38.783480800783487,37.453324934190782,null,130731.32776596244,19609.699164894366,58829.097494683097,19609.699164894366,6536.5663882981225]
[219,6.3171368007381714,155.54710908953237,15.792842001845429,388.86777272383097,2035886311.5597031,31119965048.126881,223805.49656893933,4.3972101054597834E-5,89522.198627575723,2366.5679984638077,39.442799974396799,37.82785818353269,null,134283.29794136359,20142.494691204538,60427.484073613618,20142.494691204538,6714.1648970681799]
[220,6.5805430228587722,162.12765211239113,16.451357557146931,405.3191302809779,2178398353.3688827,33298363401.495762,229886.29191071738,4.2211984149767525E-5,91954.516764286949,2406.7996544376924,40.113327573961541,38.206136765368015,null,137931.77514643042,20689.766271964563,62069.298815893686,20689.766271964563,6896.5887573215214]
[221,6.8549325179462857,168.98258463033741,17.137331294865714,422.4564615758436,2330886238.1047044,35629249639.600464,236132.30246193157,4.0522321270202528E-5,94452.920984772616,2447.7152485631327,40.795254142718882,38.588198133021699,null,141679.38147715895,21251.907221573842,63755.721664721532,21251.907221573842,7083.9690738579484]
[222,7.140763256522801,176.12334788686022,17.851908141307003,440.30836971715058,2494048274.7720337,38123297914.372498,242548.01711982224,3.890029227954573E-5,97019.206847928886,2489.3264077887061,41.488773463145101,38.974080114351914,null,145528.81027189334,21829.321540784,65487.964622352003,21829.321540784,7276.4405135946672]
[223,7.4385123051485156,183.56186019200874,18.596280762871288,458.90465048002187,2668631654.0060763,40791929568.378571,249138.04674496772,3.7343189925963531E-5,99655.218697987104,2531.6449567211139,42.194082612018562,39.363820915495431,null,149482.8280469806,22422.42420704709,67267.272621141281,22422.42420704709,7474.1414023490306]
[224,7.748676622670942,191.31053681467966,19.371691556677355,478.27634203669925,2855435869.7865019,43647365438.16507,255907.12747502851,3.5848415323599961E-5,102362.85099001141,2574.6829209853727,42.911382016422877,39.757459124650389,null,153544.27648501709,23031.641472752563,69094.924418257695,23031.641472752563,7677.2138242508554]
[225,8.0717738896754287,199.38231070435509,20.179434724188571,498.45577676088783,3055316380.6715574,46702681818.836624,262860.12412852503,3.4413473614899222E-5,105144.04965141002,2618.4525306421237,43.64087551070206,40.155033715896892,null,157716.07447711501,23657.411171567252,70972.233514701758,23657.411171567252,7885.8037238557508]
[226,8.4083433725213084,207.79065407687639,21.020858431303271,519.47663519219111,3269188527.3185668,49971870346.15519,270002.03370109695,3.3035969806557026E-5,108000.8134804388,2662.9662236630393,44.382770394383989,40.556584053055857,null,162001.22022065817,24300.183033098725,72900.549099296186,24300.183033098725,8100.0610110329089]
[227,8.7589468234058643,216.54960090028226,21.897367058514661,541.37400225070576,3498031724.2308669,53469902070.386055,277337.98895675578,3.1713604772150625E-5,110935.1955827023,2708.2366494653106,45.137277491088511,40.962149893586414,null,166402.79337405349,24960.419006108023,74881.257018324075,24960.419006108023,8320.1396687026754]
[228,9.1241694179583472,225.6737703182406,22.810423544895869,564.18442579560167,3742893944.9270277,57212796015.31308,284873.26211671083,3.0444171414775656E-5,113949.3048466843,2754.2766725062206,45.904611208437011,41.371771392522277,null,170923.95727002653,25638.593590503977,76915.780771511942,25638.593590503977,8546.1978635013274]
[229,9.5046207319289255,235.17839105016952,23.761551829822313,587.94597762542401,4004896521.0719199,61217692536.385002,292613.2686484218,2.9225550983285146E-5,117045.30745936871,2801.0993759388261,46.684989598980437,41.7854891064475,null,175567.96118905308,26335.19417835796,79005.582535073889,26335.19417835796,8778.3980594526547]
[230,9.9009357586027154,245.07932680877224,24.752339396506787,612.69831702193085,4285239277.5469546,65502931813.931953,300563.57115759939,2.805570953598224E-5,120225.42846303975,2848.718065329786,47.478634422163097,42.203343997511972,null,180338.14269455965,27050.721404183947,81152.164212551841,27050.721404183947,9016.9071347279823]
[231,10.313775968637042,255.39310277740927,25.784439921592604,638.48275694352344,4585206026.9752417,70088137840.907196,308729.88338595122,2.6932694545864363E-5,123491.9533543805,2897.1462724403918,48.285771207339863,42.625377437487089,null,185237.93003157072,27785.689504735608,83357.068514206825,27785.689504735608,9261.8965015785361]
[232,10.743830414090791,266.13693319150008,26.859576035226976,665.34233297875039,4906170448.8635092,74994308289.770706,317118.07431754743,2.5854631641752798E-5,126847.229727019,2946.3977590718782,49.106629317864638,43.05163121186196,null,190270.84459052843,28540.626688579265,85621.880065737801,28540.626688579265,9513.5422295264216]
[233,11.191816878488613,277.3287500699887,27.97954219622153,693.32187517497186,5249602380.2839556,80243910670.054657,325734.17239675525,2.4819721479868427E-5,130293.66895870211,2996.4865209761001,49.941442016268333,43.482147523980579,null,195440.50343805313,29316.075515707969,87948.226547123908,29316.075515707969,9772.0251719026564]
[234,11.658483074839427,288.98723314482811,29.146207687098567,722.46808286207045,5617074546.9038324,85860985216.958496,334584.36986077513,2.3826236740632196E-5,133833.74794431005,3047.4267918326937,50.790446530544891,43.916968999220387,null,200750.62191646508,30112.593287469761,90337.779862409283,30112.593287469761,10037.531095823255]
[235,12.144607893608837,301.13184103843696,30.361519734022092,752.82960259609251,6010269765.1871014,91871254982.145599,343675.02718989231,2.2872519245677729E-5,137470.01087595694,3099.2330472938488,51.653884121564147,44.356138689212592,null,206205.01631393537,30930.752447090304,92792.257341270917,30930.752447090304,10310.250815696769]
[236,12.651002702728331,313.78284374116527,31.627506756820825,784.45710935291333,6430988648.7501984,98302243630.895798,353012.67767864163,2.1956977190264288E-5,141205.07107145665,3151.9200090978438,52.532000151630733,{"$f":"M236*1.01","v":44.79970007610472},null,211807.60660718498,31771.140991077744,95313.422973233246,31771.140991077744,10590.38033035925]
[237,13.178512701811107,326.96135644297635,32.946281754527767,817.40339110744105,6881157854.1627131,105183401485.05852,362604.03213117033,2.1078082486470813E-5,145041.61285246816,3205.5026492525071,53.42504415420845,45.247697076865769,null,217562.41927870217,32634.362891805325,97903.088675415987,32634.362891805325,10878.120963935109]
[238,13.728018332834765,340.68937477581113,34.320045832086912,851.72343693952791,7362838903.9541035,112546240389.01262,372455.98368417425,2.0234368212736651E-5,148982.39347366968,3259.9961942897994,54.33326990482999,45.700174047634427,null,223473.59021050457,33521.038531575687,100563.11559472706,33521.038531575687,11173.679510525229]
[239,14.300436749645334,354.98981152545645,35.751091874113335,887.4745288136412,7878237627.2308912,120424478016.24352,382575.61276087328,1.9424426165492251E-5,153030.24510434931,3315.4161295927261,55.256935493212097,46.15717578811077,null,229545.36765652397,34431.805148478597,103295.41544543579,34431.805148478597,11477.2683828262]
[240,14.896723348735373,369.8865348741918,37.241808371838431,924.71633718547969,8429714261.1370544,128854192277.38057,392970.19215958606,1.8646904508793146E-5,157188.07686383443,3371.7782037958018,56.196303396596697,46.61874754599188,null,235782.11529575163,35367.317294362743,106101.95188308823,35367.317294362743,11789.105764787582]
[241,15.517873363851018,385.40440823804283,38.794683409627545,963.5110205951072,9019794259.4166489,137873986536.79721,403647.19228056207,1.790050551803463E-5,161458.8769122248,3429.0984332603298,57.151640554338833,47.084935021451798,null,242188.31536833727,36328.247305250588,108984.74191575177,36328.247305250588,12109.415768416864]
[242,16.164923527089567,401.5693317651324,40.412308817723918,1003.9233294128311,9651179857.5758152,147525166394.37302,414614.28649482498,1.7183983413980963E-5,165845.71459792997,3487.3931066257555,58.123218443762589,47.55578437166632,null,248768.57189689501,37315.285784534251,111945.85735360275,37315.285784534251,12438.42859484475]
[243,16.838953799259947,418.40828556439237,42.097384498149871,1046.0207139109809,10326762447.606123,157851928841.97913,425879.35665888927,1.6496142283494227E-5,170351.74266355569,3546.6787894383929,59.111313157306547,48.031342215382985,null,255527.61399533358,38329.142099300036,114987.42629790011,38329.142099300036,12776.38069976668]
[244,17.541089172394198,435.94937473678658,43.852722930985493,1089.8734368419664,11049635818.938553,168901564660.91766,437450.49877931125,1.58358340834923E-5,174980.1995117245,3606.9723288588452,60.116205480980753,48.511655637536812,null,262470.29926758679,39370.544890138015,118111.63467041406,39370.544890138015,13123.514963379341]
[245,18.272501547418436,454.221876284205,45.681253868546094,1135.5546907105124,11823110326.264252,180724674987.18192,449336.02883114503,1.5201956724804469E-5,179734.41153245801,3668.2908584494453,61.138180974157422,48.996772193912179,null,269601.61729868699,40440.24259480305,121320.72778440914,40440.24259480305,13480.080864934351]
[246,19.034411690117246,473.25628797432222,47.586029225293117,1183.1407199358055,12650728049.102751,193375403036.28467,461544.48873448721,1.4593452232726545E-5,184617.79549379487,3730.6518030430852,62.17753005071809,49.486739915851302,null,276926.69324069237,41539.003986103853,124617.01195831157,41539.003986103853,13846.33466203462]
[247,19.82809126865607,493.08437924297829,49.570228171640174,1232.7109481074456,13536279012.539944,206911682048.82462,474084.65249340312,1.400930498120535E-5,189633.86099736128,3794.0728836948174,63.234548061580291,49.981607315009818,null,284450.79149604181,42667.618724406268,128002.85617321882,42667.618724406268,14222.539574802091]
[248,20.654864976062381,513.73924421904064,51.637162440155954,1284.3481105476014,14483818543.41774,221395500592.24237,486965.53250164888,1.3448539997705326E-5,194786.21300065957,3858.5721227176286,64.309535378627146,50.481423388159918,null,292179.31950098928,43826.897925148391,131480.69377544519,43826.897925148391,14608.965975049465]
[249,21.516112741208126,535.25535696024872,53.790281853020311,1338.1383924006218,15497685841.456982,236893186433.69934,500196.38601971866,1.2910221335928017E-5,200078.55440788745,3924.1678488038278,65.402797480063796,50.986237622041514,null,300117.83161183121,45017.674741774681,135053.02422532404,45017.674741774681,15005.89158059156]
[250,22.413272031983698,557.66862899223247,56.033180079959244,1394.1715724805811,16582523850.358971,253475710284.05832,513786.72182787443,1.2393450513668392E-5,205514.68873114974,3990.8787022334927,66.514645037224881,51.496099998261933,null,308272.03309672466,46240.804964508694,138722.41489352609,46240.804964508694,15413.601654836233]
[251,23.347840254507592,581.01646924674003,58.369600636268977,1452.5411731168501,17743300519.884098,271219010803.94241,527746.30705993751,1.1897365013200712E-5,211098.52282397507,4058.7236401714617,67.645394002857699,52.011060998244552,null,316647.78423596243,47497.167635394362,142491.5029061831,47497.167635394362,15832.389211798123]
[252,24.321377252376067,605.33784649911604,60.803443130940167,1513.3446162477903,18985331556.275986,290204342360.21838,542085.17422275606,1.1421136841691003E-5,216834.06968910244,4127.7219420543761,68.795365700906274,52.531171608226998,null,325251.10453365359,48787.665680048034,146362.99704014411,48787.665680048034,16262.55522668268]
[253,25.335507910124317,630.67335440924035,63.338769775310794,1576.6833860231011,20314304765.215305,310518647125.43372,556813.62840638834,1.0963971149233407E-5,222725.45136255532,4197.8932150692999,69.964886917821673,53.056483324309269,null,334088.17704383301,50113.226556574948,150339.67966972486,50113.226556574948,16704.408852191653]
[254,26.391924865244334,657.06527927448474,65.979812163110836,1642.663198186212,21736306098.780376,332254953224.21411,571942.25469018985,1.0525104902203811E-5,228776.90187607592,4269.2573997254776,71.154289995424634,53.58704815755236,null,343165.35281411395,51474.802922117095,154424.40876635129,51474.802922117095,17158.267640705697]
[255,27.492391333286047,684.55767060777077,68.73097833321512,1711.394176519427,23257847525.695004,355512800749.90912,587481.92575012252,1.0103805609716533E-5,234992.77030004896,4341.8347755208115,72.363912925346852,54.122918639127882,null,352489.15545007354,52873.373317511032,158620.1199525331,52873.373317511032,17624.457772503676]
[256,28.638744050757015,713.19641465852783,71.596860126892537,1782.9910366463196,24885896852.493656,380398697602.40277,603443.80967275309,9.6993701010584373E-6,241377.52386910125,4415.6459667046647,73.594099445077745,54.664147825519159,null,362066.28580365184,54309.942870547777,162929.82861164334,54309.942870547777,18103.314290182592]
[257,29.832896340732315,743.02931099926013,74.58224085183079,1857.5732774981504,26627909632.168213,407026607234.57098,619839.3779815617,9.3111233520599942E-6,247935.75119262468,4490.7119481386435,74.845199135644066,55.210789303774348,null,371903.62678893702,55785.544018340552,167356.63205502168,55785.544018340552,18595.181339446852]
[258,{"$f":"D259/2.5","v":31.076841306291634},774.10615230555175,{"$f":"F259/J259/60/24","v":77.692103265729088},1935.2653807638794,28491863306.419991,435518470540.99097,636680.41388132074,{"$f":"J259/F259","v":8.9384173584443572E-6},{"$f":"K259*M259","v":254672.16555252828},{"$f":"L259*60","v":4567.0540512570005},76.117567520950004,55.762897196812091,null,{"$f":"H259-J259","v":382008.24832879246},{"$f":"O259*0.15","v":57301.237249318867},{"$f":"O259*0.45","v":171903.71174795661},{"$f":"O259*0.15","v":57301.237249318867},{"$f":"O259*0.05","v":19100.412416439623}]
[259,32.372655157113286,{"$f":"B260+C259","v":806.47880746266503},80.931637892783215,2016.1970186566627,{"$f":"F259*1.07","v":30486293737.869392},{"$f":"F260+G259","v":466004764278.86035},{"$f":"F260/B260/60/24","v":653979.02072647621},8.5806300542741029E-6,261591.60829059046,4644.6939701283691,{"$f":"L259*1.017","v":77.411566168806146},56.320526168780212,null,392387.41243588575,58858.11186538286,176574.33559614859,58858.11186538286,19619.370621794289]
[260,33.722500674777514,840.20130813744254,84.306251686943781,{"$f":"D261+E260","v":2100.5032703436063},32620334299.520252,498625098578.38062,671747.63071961456,8.2371642736904004E-6,268699.05228784581,4723.6537676205508,78.727562793675844,56.883731430468018,null,403048.57843176875,60457.286764765311,181371.86029429594,60457.286764765311,20152.428921588438]
[261,35.128630822562918,875.32993896000551,87.821577056407293,2188.3248474000138,34903757700.486671,533528856278.86731,689999.0138462662,7.9074467542117454E-6,275999.60553850653,4803.9558816700992,80.065931361168325,57.452568744772698,null,413999.40830775967,62099.911246163945,186299.73373849186,62099.911246163945,20699.970415387987]
[262,36.593392505760811,911.9233314657663,91.48348126440203,2279.808328664416,37347020739.520744,570875877018.38806,708746.28705246921,7.5909271799286683E-6,283498.51482098771,4885.6231316584908,81.427052194308175,58.027094432220423,null,425247.7722314815,63787.165834722226,191361.49750416668,63787.165834722226,21262.388611574075]
[263,38.11923048878382,950.04256195455014,95.298076221959548,2375.1064048863755,39961312191.287201,610837189209.67529,728002.92367168469,7.2870772629975024E-6,291201.16946867388,4968.6787248966839,82.811312081611405,58.607365376542624,null,436801.75420301082,65520.263130451618,196560.78939135486,65520.263130451618,21840.087710150543]
[264,39.708691475606471,989.75125343015657,99.271728689016186,2474.3781335753915,42758604044.677307,653595793254.35254,747782.76310784416,6.9953898619001338E-6,299113.10524313769,5053.1462632199273,84.219104386998794,59.193439030308049,null,448669.65786470647,67300.448679705965,201901.34603911793,67300.448679705965,22433.482893235327]
[265,41.364428360348263,1031.1156817905048,103.41107090087066,2577.7892044762621,45751706327.804718,699347499582.15723,768100.02078148432,6.7153781349980943E-6,307240.00831259374,5139.0497496946655,85.650829161577761,59.78537342061113,null,460860.01246889058,69129.001870333581,207387.00561100076,69129.001870333581,23043.000623444532]
[266,43.089204655093752,1074.2048864455985,107.72301163773439,2685.5122161139966,48954325770.751053,748301825352.90833,788969.29834611714,6.4465747279682151E-6,315587.71933844686,5226.4135954394742,87.106893257324572,60.383227154817241,null,473381.57900767028,71007.236851150534,213021.71055345164,71007.236851150534,23669.078950383515]
[267,44.885899102339756,1119.0907855479384,112.21474775584939,2797.7269638698458,52381128574.703629,800682953927.61194,810405.59418218106,6.1885309937636546E-6,324162.23767287243,5315.2626265619447,88.587710442699077,60.987059426365413,null,486243.35650930862,72936.50347639629,218809.51042918887,72936.50347639629,24312.167825465433]
[268,46.757510479768236,1165.8482960277065,116.89377619942059,2914.6207400692665,56047807574.932884,856730761502.5448,832424.3141761109,5.9408162437983299E-6,332969.72567044437,5405.6220912134977,90.093701520224954,61.596930020629067,null,499454.58850566653,74918.188275849971,224754.56482754994,74918.188275849971,24972.729425283327]
[269,48.707162605364275,1214.5554586330709,121.76790651341069,3036.3886465826772,59971154105.178192,916701915607.72302,855041.28279227577,5.7030170291049805E-6,342016.5131169103,5497.5176667641263,91.625294446068764,62.212899320835355,null,513024.76967536547,76953.715451304815,230861.14635391446,76953.715451304815,25651.238483768277]
[270,50.738109551232789,1265.2935681843037,126.84527387808197,3163.2339204607592,64169134892.540672,980871050500.26367,878272.75444574177,5.4747364502670671E-6,351309.1017782967,5590.975467099116,93.182924451651928,62.835028314043711,null,526963.65266744513,79044.54790011677,237133.64370035031,79044.54790011677,26348.182633372257]
[271,52.853741074816341,1318.14730925912,132.13435268704086,3295.3682731478002,68660974335.018524,1049532024835.2822,902135.4251840323,5.2555934949727306E-6,360854.17007361294,5686.0220500398,94.767034167329996,63.463378597184146,null,541281.25511041936,81192.188266562895,243576.56479968873,81192.188266562895,27064.062755520968]
[272,55.057588276578841,1373.2048975356988,137.64397069144709,3433.0122438392473,73467242538.469818,1122999267373.752,926646.44468628254,5.0452224020851769E-6,370658.57787451299,5782.6844248904763,96.3780737481746,64.098012383155989,null,555987.86681176955,83398.180021765424,250194.54006529631,83398.180021765424,27799.393340588478]
[273,57.353329493598309,1430.5582270292971,143.38332373399578,3576.3955675732432,78609949516.162704,1201609216889.9146,951823.42858840851,4.843272051168066E-6,380729.37143536343,5880.9900601136133,98.016501001893559,64.738992506987543,null,571094.05715304508,85664.108572956757,256992.3257188703,85664.108572956757,28554.702857652257]
[274,59.744796438905141,1490.3030234682021,149.36199109726286,3725.7575586705061,84112645982.294098,1285721862872.2087,977684.47114315571,4.6494053764470105E-6,391073.78845726221,5980.9668911355438,99.682781518925736,65.386382432057417,null,586610.68268589349,87991.602402884018,263974.80720865208,87991.602402884018,29330.534134294678]
[275,62.235980596813093,1552.5390040650152,155.58995149203272,3881.347510162539,90000531201.054688,1375722394073.2634,1004248.1582241151,4.4632988042290432E-6,401699.26328964607,6082.6433282848484,101.37738880474747,66.040246256377998,null,602548.89493446914,90382.33424017037,271147.00272051111,90382.33424017037,30127.444746723457]
[276,64.831039884916834,1617.3700439499321,162.07759971229208,4043.4251098748309,96300568385.128525,1472022962458.3918,1031533.5806830642,4.28464171284107E-6,412613.43227322568,6186.0482648656898,103.10080441442817,66.700648718941778,null,618920.14840983856,92838.02226147578,278514.06678442738,92838.02226147578,30946.007420491929]
[277,67.534305593875416,1684.9043495438075,168.83576398468853,4212.2608738595191,103041608172.08752,1575064570630.4795,1059560.3480702231,4.1131359141859459E-6,423824.13922808925,6291.2110853684062,104.85351808947344,67.367655206131204,null,635736.20884213387,95360.431326320075,286081.29397896025,95360.431326320075,31786.810442106696]
[278,70.350289616564638,1755.2546391603721,175.87572404141159,4388.1365979009306,110254520744.13365,1685319091374.613,1088348.6027272909,3.9484951560508205E-6,435339.4410909164,6398.161673819669,106.63602789699448,68.041331758192513,null,653009.16163637454,97951.374245456173,293854.12273636856,97951.374245456173,32650.458081818728]
[279,73.283691978663882,1828.538331139036,183.20922994665969,4571.34582784759,117972337196.22301,1803291428570.8359,1117919.0342633913,3.790444644337122E-6,447167.61370535655,6506.9304222746023,108.44884037124338,68.721745075774436,null,670751.42055803468,100612.7130837052,301838.13925111562,100612.7130837052,33537.571027901737]
[280,76.339408683246546,1904.8777398222826,190.84852170811635,4762.1943495557061,126230400799.95862,1929521829370.7944,1148292.8944243274,3.6387205844147299E-6,459317.15776973101,6617.5482394532701,110.2924706575545,69.408962526532179,null,688975.7366545964,103346.36049818946,310039.08149456838,103346.36049818946,34448.78683272982]
[281,79.522539882467171,1984.4002797047497,198.80634970616794,4961.0006992618737,135066528855.95573,2064588358226.7502,1179492.0123658364,3.493069740834839E-6,471796.80494633463,6730.0465595239757,112.16744265873292,70.103052151797499,null,707695.20741950185,106154.28111292528,318462.84333877586,106154.28111292528,35384.760370975091]
[282,82.838398389984022,2067.2386780947336,207.09599597496006,5168.0966952368335,144521185875.87265,2209109544102.623,1211538.8103418162,3.3532490146666548E-6,484615.52413672645,6844.4573510358823,114.07428918393137,70.804082673315477,null,726923.28620508965,109038.49293076344,327115.47879229038,109038.49293076344,36346.164310254484]
[283,86.292518548324949,2153.5311966430586,215.73129637081237,5383.8279916076463,154637668887.18375,2363747212989.8066,1244456.3198188029,3.2190250377524741E-6,497782.52792752127,6960.8131260034916,116.01355210005819,71.512123500048631,null,746673.79189128161,112001.06878369224,336003.20635107672,112001.06878369224,37333.689594564079]
[284,89.890665465996591,2243.4218621090554,224.72666366499149,5608.5546552726373,165462305709.28662,2529209518699.0933,1278268.1980282797,3.0901737832039324E-6,511307.27921131189,7079.14694914555,117.98578248575917,72.227244735049112,null,766960.91881696787,115044.13782254518,345132.41346763558,115044.13782254518,38348.045940848395]
[285,93.638844639754268,2337.0607067488095,234.09711159938567,5842.6517668720226,177044667108.93671,2706254185808.0298,1312998.7449687077,2.9664801914893294E-6,525199.49798748316,7199.4924472810235,119.99154078801706,72.949517182399603,null,787799.24698122451,118169.88704718367,354509.66114155104,118169.88704718367,39389.962349061228]
[286,97.543311978092291,2434.6040187269018,243.85827994523072,6086.5100468172532,189437793806.56229,2895691979614.5923,1348672.9208695076,2.8477378114879387E-6,539469.16834780306,7321.8838188848003,122.03139698141334,73.679012354223602,null,809203.75252170453,121380.56287825567,364141.68863476702,121380.56287825567,40460.18762608523]
[287,101.61058424268501,2536.2146029695868,254.0264606067125,6340.5365074239653,202698439373.02167,3098390418987.6138,1385316.3641295324,2.7337484559122112E-6,554126.54565181292,7446.3558438058417,124.10593073009736,74.415802477765837,null,831189.81847771944,124678.47277165791,374035.41831497377,124678.47277165791,41559.490923885976]
[288,105.84744992520515,2642.062052894792,264.6186248130129,6605.1551322369778,216887330129.13321,3315277749116.7471,1422955.4097429316,2.6243218705227523E-6,569182.16389717255,7572.9438931505401,126.215731552509,75.159960502543498,null,853773.24584575905,128065.98687686386,384197.96063059161,128065.98687686386,42688.662292287954]
[289,110.26098057767415,2752.3230334724662,275.65245144418537,6880.8075836811631,232069443238.17255,3547347192354.9194,1461617.1082256467,2.5192754165839766E-6,584646.84329025866,7701.6839393340988,128.36139898890164,75.911560107568931,null,876970.264935388,131545.53974030819,394636.61922092462,131545.53974030819,43848.513246769406]
[290,114.85854261525485,2867.1815760877212,287.14635653813713,7167.9539402193004,248314304264.84464,3795661496619.7642,1501329.2450561377,2.4184337660304329E-6,600531.69802245498,7832.6125663027779,130.54354277171296,76.670675708644623,null,900797.5470336827,135119.63205505241,405358.8961651572,135119.63205505241,45039.877351684139]
[291,119.64780961118677,2986.829385698908,299.11952402796692,7467.0734642472671,265696305563.38379,4061357802183.1479,1542120.3606443126,2.3216286088350275E-6,616848.1442577251,7965.7669799299247,132.76278299883208,77.437382465731076,null,925272.21638658748,138790.83245798812,416372.49737396435,138790.83245798812,46263.610819329377]
[292,124.63677510438372,3111.4661608032916,311.5919377609593,7778.665402008226,284295046952.82068,4345652849135.9688,1584019.770843019,2.2286983720907248E-6,633607.90833720763,8101.1850185887333,135.01975030981222,78.211756290388394,null,950411.86250581138,142561.7793758717,427685.3381276151,142561.7793758717,47520.593125290572]
[293,129.8337659410717,3241.2999267443633,324.58441485267923,8103.2498168609054,304195700239.51813,4649848549375.4873,1627057.5880168232,2.1394879503368499E-6,650823.03520672943,8238.9051639047411,137.31508606507902,78.993873853292271,null,976234.55281009374,146435.18292151406,439305.54876454221,146435.18292151406,48811.727640504687]
[294,135.24745617273356,3376.5473829170969,338.11864043183391,8441.3684572927395,325489399256.28442,4975337948631.7715,1671264.7426832404,2.0538484466799082E-6,668505.89707329625,8378.9665516911209,139.64944252818535,79.783812591825196,null,1002758.8456099442,150413.82684149162,451241.48052447487,150413.82684149162,50137.942280497213]
[295,140.88688153355818,3517.4342644506551,352.21720383389544,8793.5856611266354,348273657204.22437,5323611605835.9961,1716673.0057419438,1.9716369242768231E-6,686669.20229677751,8521.4089830698686,142.02348305116448,80.581650717743443,null,1030003.8034451663,154500.57051677495,463501.71155032486,154500.57051677495,51500.190172258321]
[296,146.76145452155657,3664.1957189722116,366.90363630389146,9160.4892974305276,372652813208.52008,5696264419044.5166,1763315.0113079527,1.8927161677658169E-6,705326.00452318089,8666.2729357820554,144.43788226303425,81.387467224920883,null,1057989.0067847718,158698.35101771576,476095.05305314733,158698.35101771576,52899.450339238596]
[297,152.88098010851718,3817.0766990807288,382.20245027129295,9542.6917477018214,398738510133.11652,6095002929177.6328,1811224.2801651889,1.8169544542467418E-6,724489.71206607565,8813.5995756903485,146.89332626150582,82.201341897170096,null,1086734.5680991132,163010.18521486697,489030.55564460094,163010.18521486697,54336.728404955662]
[298,159.25567210501998,3976.3323711857488,398.13918026254993,9940.8309279643709,426650205842.43469,6521653135020.0674,1860435.2438572773,1.7442253334286222E-6,744174.09754291095,8963.4307684770847,149.39051280795141,83.023355316141803,null,1116261.1463143663,167439.17194715494,502317.5158414648,167439.17194715494,55813.057315718317]
[299,165.89617020782478,4142.2285413935733,414.74042551956194,10355.571353483932,456515720251.40515,6978168855271.4727,1910983.2694328793,1.6744074165774556E-6,764393.30777315178,9115.809091541194,151.93015152568657,83.853588869303223,null,1146589.9616597276,171988.49424895915,515965.48274687742,171988.49424895915,57329.498082986385]
[300,172.81355775808535,4315.0420991516585,432.03389439521339,10787.605247879146,488471820669.00354,7466640675940.4766,1962904.6848633706,1.6073841739120232E-6,785161.8739453482,9270.7778460973932,154.51296410162323,{"$f":"M300*1.01","v":84.692124757996254},null,1177742.8109180224,176661.42163770334,529984.26491311006,176661.42163770334,58887.140545901122]
[301,180.01938024002976,4495.0614793916884,450.04845060007443,11237.65369847922,522664848115.8338,7989305524056.3105,2016236.8051511084,1.5430437401095446E-6,806494.72206044325,9428.3810694810491,157.13968449135081,85.539046005576211,null,1209742.0830906653,181461.31246359978,544383.9373907994,181461.31246359978,60487.10415453327]
[302,187.52566455098173,4682.5871439426701,468.81416137745435,11706.467859856675,559251387483.94226,8548556911540.2529,2071017.9591470638,1.4812787275965612E-6,828407.18365882535,9588.663547662225,159.81105912770374,86.394436465631969,null,1242610.7754882383,186391.61632323574,559174.84896970727,186391.61632323574,62130.538774411922]
[303,195.34493907488587,4877.9320830175557,488.36234768721471,12194.83020754389,598398984607.81824,9146955896148.0703,2127287.517097089,1.4219860473134198E-6,850915.00683883543,9751.6708279724808,162.52784713287468,87.258380830288289,null,1276372.5102582537,191455.87653873806,574367.6296162142,191455.87653873806,63818.625512912688]
[304,203.49025459284047,5081.4223376103964,508.72563648210121,12703.55584402599,640286913530.3656,9787242809678.4355,2185085.9189366163,1.3650667366532008E-6,874034.36757464637,9917.4492320480113,165.29082053413353,88.130964638591166,null,1311051.5513619699,196657.73270429549,589973.19811288652,196657.73270429549,65552.577568098495]
[305,211.97520606553863,5293.3975436759347,529.93801516384656,13233.493859189837,685106997477.49121,10472349807155.926,2244454.703354124,1.3104257942879143E-6,897781.88134164957,10086.045868992827,168.10076448321379,89.012274284977082,null,1346672.8220124743,202000.92330187114,606002.7699056135,202000.92330187114,67333.641100623718]
[306,220.813955323974,5514.2114989999091,552.03488830993501,13785.528747499771,733064487300.91565,11205414294456.842,2305436.5376442554,1.2579720216062773E-6,922174.61505770206,10257.508648765704,170.95847747942841,89.902397027826851,null,1383261.9225865533,207489.28838798299,622467.86516394897,207489.28838798299,69163.096129327663]
[307,230.02125470628249,5744.2327537061919,575.0531367657062,14360.581884265477,784379001411.97974,11989793295868.822,2368075.2483720495,1.2076178704984297E-6,947230.0993488197,10431.88629579472,173.86477159657866,90.801420998105115,null,1420845.1490232297,213126.77235348444,639380.31706045335,213126.77235348444,71042.257451161495]
[308,239.61247168017204,5983.8452253863643,599.03117920043007,14959.613063465908,839285531510.81836,12829078827379.641,2432415.8528703176,1.1592792972335249E-6,972966.34114812699,10609.228362823229,176.82047271372048,91.709435208086163,null,1459449.5117221908,218917.4267583286,656752.28027498582,218917.4267583286,72972.475586109547]
[309,249.6036144920356,6233.4488398783997,624.00903623008901,15583.622099695996,898035518716.57568,13727114346096.217,2498504.5915928031,1.1128756221863174E-6,999401.83663712139,10789.585244991222,179.8264207498537,92.626529560167029,null,1499102.7549556817,224865.41324335226,674596.23973005684,224865.41324335226,74955.137747784087]
[310,260.01135888555757,6493.4601987639571,650.02839721389387,16233.65049690989,960898005026.73608,14688012351122.953,2566388.961346379,1.0683293951786162E-6,1026555.5845385519,10973.008194156071,182.88346990260118,93.552794855768695,null,1539833.376807827,230975.00652117404,692925.01956352219,230975.00652117404,76991.668840391358]
[311,270.85307593440876,6764.3132746983656,677.13268983602188,16910.78318674591,1028160865378.6077,15716173216501.561,2636117.74942616,1.0255662662108587E-6,1054447.099770464,11159.549333456722,185.99248889094537,94.488322804326387,null,1581670.649655696,237250.59744835438,711751.79234506318,237250.59744835438,79083.532482784809]
[312,282.14686103548331,7046.4601357338488,705.36715258870834,17616.150339334617,1100132125955.1104,16816305342456.672,2707741.0686780689,9.8451486136804436E-7,1083096.4274712275,11349.261672125485,189.15436120209142,95.433206032369654,null,1624644.6412068415,243696.6961810262,731090.08854307863,243696.6961810262,81232.232060342081]
[313,293.91156411106948,7340.3716998449181,734.77891027767373,18350.929249612291,1177141374771.9683,17993446717228.641,2781310.3935140516,9.4510666369291032E-7,1112524.1574056207,11542.199120551617,192.36998534252695,96.387538092693347,null,1668786.2361084309,250317.93541626463,750953.80624879396,250317.93541626463,83439.311805421545]
[314,306.16682107036263,7646.538520915281,765.41705267590658,19116.346302288199,1259541271006.0061,19252987988234.648,2856878.596905828,9.0727589882752017E-7,1142751.4387623314,11738.416505600993,195.64027509334989,97.351413473620283,null,1714127.1581434966,257119.07372152447,771357.22116457345,257119.07372152447,85706.357907174839]
[315,318.93308658283246,7965.4716074981134,797.33271645708112,19913.679018745279,1347709159976.4265,20600697148211.074,2934499.9883837593,8.7095942523239597E-7,1173799.9953535036,11937.969586196208,198.96615976993681,98.324927608356489,null,1760699.9930302557,264104.99895453831,792314.99686361512,264104.99895453831,88034.999651512786]
[316,332.2316682181438,8297.7032757162578,830.57917054535949,20744.258189290638,1442048801174.7764,22042745949385.852,3014230.3530681455,8.3609662879996277E-7,1205692.1412272584,12140.915069161543,202.34858448602571,99.308176884440059,null,1808538.2118408871,271280.73177613306,813842.19532839919,271280.73177613306,90426.910592044354]
[317,346.08476200961275,8643.7880377258698,865.21190502403181,21609.470094314671,1542992217257.0107,23585738166642.863,3096126.9917610069,8.0262932168640904E-7,1238450.7967044029,12347.310625337288,205.78851042228814,100.30125865328446,null,1857676.195056604,278651.42925849056,835954.28777547181,278651.42925849056,92883.809752830202]
[318,360.51548950055565,9004.303527226426,901.28872375138906,22510.75881806606,1651001672465.0017,25236739839107.863,3180248.7621271531,7.7050164519311082E-7,1272099.5048508614,12557.214905968021,209.28691509946702,101.30427123981731,null,1908149.2572762917,286222.38859144377,858667.16577433131,286222.38859144377,95407.462863814595]
[319,375.54793633536281,9379.8514635617885,938.86984083840696,23449.628658904468,1766571789537.552,27003311628645.414,3266656.1209941474,7.3965997653552108E-7,1306662.4483976592,12770.687559369477,212.84479265615795,102.31731395221549,null,1959993.6725964881,293999.05088947323,881997.15266841964,293999.05088947323,97999.683629824416]
[320,391.20719245970793,9771.0586560214961,978.01798114926976,24427.646640053739,1890231814805.1807,28893543443450.594,3355411.167801559,7.1005283934391699E-7,1342164.4671206237,12987.789247878758,216.46315413131262,103.34048709173764,null,2013246.7006809353,301987.00510214031,905961.01530642086,301987.00510214031,100662.33503404677]
[321,407.51939399698938,10178.578050018485,1018.7984849924734,25446.445125046212,2022548041841.5435,30916091485292.137,3446577.6892307266,6.8163081774662709E-7,1378631.0756922907,13208.581665092694,220.14302775154491,104.37389196265502,null,2067946.6135384359,310191.9920307654,930575.97609229619,310191.9920307654,103397.3306769218]
[322,{"$f":"D323/2.5","v":424.51176687089639},10603.089816889382,{"$f":"F323/J323/60/24","v":1061.2794171772409},26507.724542223452,2164126404770.4517,33080217890062.59,3540221.205047125,{"$f":"J323/F323","v":6.543464738923392E-7},{"$f":"K323*M323","v":1416088.4820188503},{"$f":"L323*60","v":13433.127553399268},223.88545922332113,105.41763088228157,null,{"$f":"H323-J323","v":2124132.7230282747},{"$f":"O323*0.15","v":318619.90845424117},{"$f":"O323*0.45","v":955859.72536272369},{"$f":"O323*0.15","v":318619.90845424117},{"$f":"O323*0.05","v":106206.63615141374}]
[323,442.21267224691064,{"$f":"B324+C323","v":11045.302489136293},1105.5316806172766,27613.25622284073,{"$f":"F323*1.07","v":2315615253104.3833},{"$f":"F324+G323","v":35395833143166.977},{"$f":"F324/B324/60/24","v":3636409.0151882558},6.2815426877382611E-7,1454563.6060753022,13661.490721807055,{"$f":"L323*1.017","v":227.69151203011756},106.47180719110439,null,2181845.4091129536,327276.811366943,981830.43410082918,327276.811366943,109092.27045564768]
[324,460.65165386858507,11505.954143004878,1151.6291346714627,{"$f":"D325+E324","v":28764.885357512194},2477708320821.6904,37873541463988.664,3735210.2481309194,6.0301048622094464E-7,1494084.0992523679,13893.736064077772,231.56226773462953,107.53652526301543,null,2241126.1488785516,336168.9223317827,1008506.7669953483,336168.9223317827,112056.30744392758]
[325,479.85948736760827,11985.813630372486,1199.6487184190207,29964.534075931213,2651147903279.209,40524689367267.875,3836695.9105726355,5.7887315993604448E-7,1534678.3642290544,14129.929577167091,235.4988262861182,108.61189051564558,null,2302017.5463435808,345302.6319515371,1035907.8958546114,345302.6319515371,115100.87731717905]
[326,499.86823162995506,12485.681862002441,1249.6705790748877,31214.204655006102,2836728256508.7539,43361417623776.625,3940938.9384628939,5.5570200345000626E-7,1576375.5753851577,14370.138379978931,239.50230633298219,109.69800942080204,null,2364563.3630777365,354684.50446166046,1064053.5133849815,354684.50446166046,118228.16815388683]
[327,520.71128230385614,13006.393144306297,1301.7782057596403,32515.982860765744,3035299234464.3667,46396716858240.992,4048014.2494209311,5.3345834288200263E-7,1619205.6997683723,14614.430732438572,243.57384554064285,110.79498951501006,null,2428808.5496525588,364321.2824478838,1092963.8473436516,364321.2824478838,121440.42748262794]
[328,542.42342753889443,13548.816571845193,1356.0585688472361,33872.041429612982,3247770180876.8726,49644487039117.867,4157998.7965776962,5.1210505239075382E-7,1663199.5186310788,14862.876054890026,247.71460091483377,111.90293941016016,null,2494799.2779466175,374219.89169199258,1122659.6750759778,374219.89169199258,124739.96389733088]
[329,565.04090604925875,14113.857477894451,1412.6022651231469,35284.643694736129,3475114093538.2539,53119601132656.125,4270971.6238807132,4.9160649220954253E-7,1708388.649552285,15115.544947823155,251.92574913038592,113.02196880426176,null,2562582.9743284285,384387.44614926429,1153162.3384477929,384387.44614926429,128129.14871642143]
[330,588.60146759806742,14702.458945492519,1471.5036689951685,36756.147363731296,3718372080085.9321,56837973212742.055,4387013.9229015512,4.7192844916156614E-7,1754805.5691606207,15372.509211936149,256.20848686560248,114.15218849230438,null,2632208.3537409306,394831.25306113955,1184493.7591834187,394831.25306113955,131610.41768704655]
[331,613.14443600371146,15315.60338149623,1532.8610900092788,38289.008453740571,3978658125691.9478,60816631338434,4506209.0911867861,4.5303807955634183E-7,1802483.6364747146,15633.841868539061,260.56403114231767,115.29371037722743,null,2703725.4547120715,405558.81820681068,1216676.4546204321,405558.81820681068,135186.27273560359]
[332,638.71077477337872,15954.314156269609,1596.7769369334467,39885.78539067402,4257164194490.3843,65073795532924.383,4628642.7921943301,4.3490385437185754E-7,1851457.1168777323,15899.617180304223,264.99361967173706,116.4466474809997,null,2777185.6753165978,416577.85129748966,1249733.553892469,416577.85129748966,138859.2837658299]
[333,665.3431554733055,16619.657311742914,1663.3578886832638,41549.143279357282,4555165688104.7119,69628961221029.094,4754403.0168582508,4.1749550663097277E-7,1901761.2067433004,16169.910672369395,269.49851120615659,117.6111139558097,null,2852641.8101149504,427896.27151724254,1283688.8145517276,427896.27151724254,142632.09050574753]
[334,693.08602894986905,17312.743340692785,1732.7150723746727,43281.858351731957,4874027286272.042,74502988507301.141,4883580.1468262896,4.0078398088423951E-7,1953432.0587305159,16444.799153799675,274.07998589666124,118.7872250953678,null,2930148.0880957739,439522.21321436606,1318566.6396430982,439522.21321436606,146507.40440478871]
[335,721.98569952039077,18034.729040213177,1804.964248800977,45086.822600532934,5215209196311.085,79718197703612.219,5016267.0194155602,3.8474138471482638E-7,2006506.8077662238,16724.360739414267,278.73934565690445,119.97509734632148,null,3009760.2116493364,451464.03174740047,1354392.0952422014,451464.03174740047,150488.01058246681]
[336,752.09040225748276,18786.81944247066,1880.2260056437069,46967.048606176642,5580273840052.8613,85298471543665.078,5152558.9943330782,3.6934094218460572E-7,2061023.5977332315,17008.674871984305,283.47791453307178,121.17484831978469,null,3091535.3965998469,463730.30948997702,1391190.9284699312,463730.30948997702,154576.76982999235]
[337,783.45038349592221,19570.269825966581,1958.6259587398056,48925.674564916451,5970893008856.5615,91269364552521.641,5292554.0222091088,3.5455694914370228E-7,2117021.6088836435,17297.822344808039,288.29703908013397,122.38659680298254,null,3175532.4133254653,476329.86199881975,1428989.5859964595,476329.86199881975,158776.62066627329]
[338,816.11798469643497,20386.387810663015,2040.2949617410875,50965.969526657536,6388855519476.5215,97658220071998.156,5436352.7149925297,3.4036473032891265E-7,2174541.0859970115,17591.885324669773,293.1980887444962,123.61046277101237,null,3261811.6289955182,489271.7443493277,1467815.2330479831,489271.7443493277,163090.58144977593]
[339,850.14772980634712,21236.535540469362,2125.3693245158679,53091.338851173401,6836075405839.8779,104494295477838.03,5584058.4182588747,3.2674059817939181E-7,2233623.3673035502,17890.947375189156,298.18245625315262,124.84656739872248,null,3350435.0509553244,502565.25764329865,1507695.7729298961,502565.25764329865,167521.75254776623]
[340,885.59641626292773,22122.13195673229,2213.9910406573194,55305.329891830719,7314600684248.6699,111808896162086.7,5735777.2854829691,3.1366181330086523E-7,2294310.9141931874,18195.093480567371,303.25155800945618,126.09503307270971,null,3441466.3712897818,516219.95569346723,1548659.8670804019,516219.95569346723,172073.31856448911]
[341,922.52320979130286,23044.655166523593,2306.3080244782573,57611.637916308973,7826622732146.0771,119635518894232.78,5891618.3543295413,3.0110654651238298E-7,2356647.3417318165,18504.410069737016,308.40683449561692,127.35598340343681,null,3534971.0125977248,530245.65188965865,1590736.9556689763,530245.65188965865,176748.55062988625]
[342,960.98974315516841,24005.644909678762,2402.4743578879211,60014.112274196894,8374486323396.3027,128010005217629.08,6051693.6250166735,2.8905384241226578E-7,2420677.4500066699,18818.985040922544,313.6497506820424,128.62954323747118,null,3631016.1750100036,544652.4262515005,1633957.2787545016,544652.4262515005,181550.8087505002]
[343,1001.0602190251177,25006.705128703881,2502.6505475627941,62516.762821759687,8960700366034.0449,136970705583663.13,6216118.1408083783,2.7748358440243647E-7,2486447.2563233511,19138.907786618227,318.98179644363711,129.9158386698459,null,3729670.8844850273,559450.63267275412,1678351.8980182623,559450.63267275412,186483.54422425138]
[344,1042.8015171362833,26049.506645840163,2607.0037928407082,65123.766614600398,9587949391656.4277,146558654975319.56,6385010.0706941411,2.6637646111275756E-7,2554004.0282776561,19464.269218990736,324.40448698317891,131.21499705654435,null,3831006.042416485,574650.90636247268,1723952.7190874184,574650.90636247268,191550.30212082426]
[345,1086.2833059141362,27135.789951754301,2715.7082647853408,67839.474879385743,10259105849072.379,156817760824391.94,6558490.7943148995,2.5571393416933748E-7,2623396.3177259597,19795.161795713575,329.9193632618929,132.52714702710981,null,3935094.4765889398,590264.17148834094,1770792.5144650228,590264.17148834094,196754.723829447]
[346,1131.5781587547592,28267.368110509062,2828.9453968868979,70668.420276272635,10977243258507.445,167795004082899.38,6736684.9891964346,2.4547820725300785E-7,2694673.9956785738,20131.679546240703,335.52799243734506,133.85241849738091,null,4042010.9935178608,606301.64902767912,1818904.9470830373,606301.64902767912,202100.54967589304]
[347,1178.7616751536675,29446.129785662728,2946.9041878841686,73615.324464156802,11745650286602.967,179540654369502.34,6919720.7203529002,2.3565219639632899E-7,2767888.2881411603,20473.918098526792,341.23196830877987,135.19094268235472,null,4151832.4322117399,622774.86483176099,1868324.594495283,622774.86483176099,207591.621610587]
[348,1227.9126068853495,30674.042392548079,3069.7815172133737,76685.105981370172,12567845806665.176,192108500176167.53,7107729.5323248878,2.2621950146954878E-7,2843091.8129299553,20821.974706201745,347.0329117700291,136.54285210917826,null,4264637.7193949325,639695.65790923988,1919086.9737277196,639695.65790923988,213231.88596974663]
[349,1279.1129894441272,31953.155381992205,3197.782473610318,79882.888454980493,13447595013131.738,205556095189299.28,7300846.5437181545,2.1716437880792186E-7,2920338.6174872615,21175.948276207171,352.93247127011955,137.90828063027004,null,4380507.9262308925,657076.18893463386,1971228.5668039017,657076.18893463386,219025.39631154464]
[350,1332.4482789657172,33285.603660957924,3331.1206974142933,83214.009152394792,14388926664050.961,219945021853350.25,7499210.5443109795,2.0847171493470383E-7,2999684.2177243908,21535.939396902693,358.93232328171155,139.28736343657275,null,4499526.3265865892,674928.94898798841,2024786.8469639651,674928.94898798841,224976.31632932948]
[351,1388.0074948580252,34673.611155815946,3470.0187371450629,86684.027889539851,15396151530534.529,235341173383884.78,7702964.0947999069,2.0012700133596234E-7,3081185.6379199624,21902.050366650037,365.0341727775006,140.68023707093849,null,4621778.4568799445,693266.76853199163,2079800.3055959751,693266.76853199163,231088.92284399725]
[352,1445.8833683792238,36119.494524195172,3614.7084209480595,90298.736310487904,16473882137671.947,251815055521556.72,7912253.629255618,1.9211631024510318E-7,3164901.4517022474,22274.385222883084,371.23975371471806,142.08703944164787,null,4747352.1775533706,712102.82663300552,2136308.4798990167,712102.82663300552,237367.60887766854]
[353,1506.1724974111098,37625.667021606285,3765.4312435277748,94064.167554015672,17627053887308.984,269442109408865.69,8127229.5603624927,1.8442627139669403E-7,3250891.8241449972,22653.049771672093,377.55082952786825,143.50790983606436,null,4876337.7362174951,731450.66043262428,2194351.981297873,731450.66043262428,243816.88681087477]
[354,1568.9755076860579,39194.642529292345,3922.4387692151445,97986.606323230822,18860947659420.613,288303057068286.31,8348046.3875175389,1.7704404971078709E-7,3339218.5550070163,23038.151617790518,383.96919362984198,144.94298893442499,null,5008827.8325105226,751324.17487657839,2253972.5246297354,751324.17487657839,250441.39162552613]
[355,1634.3972207366669,40829.039750029013,4085.9930518416672,102072.59937507249,20181213995580.059,308484271063866.38,8574862.8078663908,1.6995732387049451E-7,3429945.1231465568,23429.800195292955,390.49666992154926,146.39241882376925,null,5144917.6847198345,771737.65270797512,2315212.9581239256,771737.65270797512,257245.88423599175]
[356,1702.5468288484221,42531.586578877432,4256.3670721210556,106328.96644719354,21593898975270.664,330078170039137.06,8807841.8303561192,1.6315426575706152E-7,3523136.7321424484,23828.106798612935,397.13511331021556,147.85634301200693,null,5284705.0982136708,792705.76473205059,2378117.2941961521,792705.76473205059,264235.25491068355]
[357,1773.5380773073707,44305.124656184802,4433.8451932684266,110762.81164046196,23105471903539.613,353183641942676.69,9047150.8928868957,1.5662352070811295E-7,3618860.3571547582,24233.184614189351,403.88641023648921,149.33490644212699,null,5428290.535732137,814243.58035982051,2442730.7410794618,814243.58035982051,271414.52678660688]
[358,1847.489454246996,46152.614110431801,4618.7236356174899,115381.53527607945,24722854936787.387,377906496879464.06,9292961.9826466311,1.5035418856612367E-7,3717184.7930586524,24645.148752630568,410.75247921050948,150.82825550654826,null,5575777.1895879786,836366.5784381968,2509099.7353145904,836366.5784381968,278788.85947939893]
[359,1924.5243884111551,48077.138498842956,4811.3109710278877,120192.84624710734,26453454782362.504,404359951661826.56,9545451.759715138,1.4433580548548152E-7,3818180.7038860554,25064.116281425286,417.7352713570881,152.33653806161374,null,5727271.0558290826,859090.65837436239,2577271.9751230874,859090.65837436239,286363.55279145413]
[360,2004.7714551631532,50081.909954006107,5011.9286379078831,125204.77488501523,28305196617127.879,432665148278954.44,9804801.6840265971,1.3855832646777763E-7,3921920.6736106393,25490.206258209513,424.83677097015857,153.85990344222986,null,5882881.0104159582,882432.15156239376,2647296.4546871814,882432.15156239376,294144.0505207979]
[361,2088.3645910847999,52170.274545090906,5220.9114777120003,130425.68636272723,30286560380326.832,462951708659281.25,10071198.145781601,1.3301210859617487E-7,4028479.2583126402,25923.539764599074,432.05899607665123,155.39850247665217,null,6042718.8874689601,906407.83312034397,2719223.4993610322,906407.83312034397,302135.94437344803]
[362,2175.44331752362,54345.717862614525,5438.6082938090494,135864.29465653628,32406619606949.711,495358328266230.94,10344832.599402484,1.276878949408719E-7,4137933.0397609938,26364.239940597254,439.40399900995425,156.95248750141869,null,6206899.5596414898,931034.93394622346,2793104.8018386704,931034.93394622346,310344.97798207449]
[363,2266.1529734613287,56611.870836075854,5665.3824336533216,141529.67709018959,34675082979436.191,530033411245667.13,10625901.70112825,1.2257679910879941E-7,4250360.6804513,26812.432019587406,446.87386699312344,158.52201237643288,null,6375541.02067695,956331.1531015425,2868993.4593046275,956331.1531015425,318777.0510338475]
[364,2360.6449580922558,58972.51579416811,5901.6123952306398,147431.28948542025,37102338787996.727,567135750033663.88,10914607.450347902,1.1767029041176213E-7,4365842.9801391615,27268.243363920388,454.47072273200649,{"$f":"M364*1.01","v":160.10723250019723},null,6548764.4702087408,982314.67053131107,2946944.0115939332,982314.67053131107,327438.22351043706]
[365,2459.0769835165688,61431.59277768468,6147.6924587914218,153578.98194421167,39699502503156.5,606835252536820.38,11211157.334773855,1.1296017962827075E-7,4484462.9339095429,27731.803501107031,462.19672501845054,161.70830482519921,null,6726694.4008643124,1009004.1601296468,3027012.4803889408,1009004.1601296468,336334.72004321567]
[366,2561.6133379700823,63993.206115654764,6404.0333449252057,159983.01528913688,42478467678377.461,649313720215197.88,11515764.479559658,1.0843860533529984E-7,4606305.791823864,28203.244160625847,470.05406934376413,163.32538787345121,null,6909458.6877357941,1036418.803160369,3109256.4094811073,1036418.803160369,345472.93438678974]
[367,2668.4251600299731,66661.631275684733,6671.0629000749332,166654.07818921181,45451960415863.883,694765680631061.75,11828647.800469296,1.0409802078715883E-7,4731459.1201877184,28682.699311356486,478.04498852260809,164.95864175218571,null,7097188.6802815776,1064578.3020422366,3193734.9061267101,1064578.3020422366,354859.43401407893]
[368,2779.6907242540883,69441.321999938824,6949.2268106352203,173603.30499984702,48633597644974.359,743399278276036.13,12150032.161208047,9.9931181319575623E-8,4860012.8644832186,29170.305199649545,486.17175332749241,166.60822816970756,null,7290019.296724828,1093502.8945087241,3280508.6835261728,1093502.8945087241,364500.96483624144]
[369,2895.5957387305652,72336.917738669392,7238.9893468264136,180842.29434667344,52037949480122.57,795437227756158.75,12480148.53502807,9.5931132257970531E-8,4992059.414011227,29666.200388043584,494.43667313405973,168.27431045140463,null,7488089.1210168432,1123213.3681525264,3369640.1044575796,1123213.3681525264,374404.45605084219]
[370,3016.3336550344202,75353.251393703817,7540.8341375860509,188383.12848425951,55680605943731.156,851117833699889.88,12819234.170724781,9.2091197309737926E-8,5127693.6682899119,30170.525794640322,502.84209657733868,169.95705355591869,null,7691540.5024348693,1153731.0753652304,3461193.2260956913,1153731.0753652304,384577.0251217435]
[371,3142.1059911084149,78495.357384812232,7855.2649777710367,196238.39346203054,59578248359792.344,910696082059682.25,13167532.763143374,8.8404967421162135E-8,5267013.1052573482,30683.424733149204,511.3904122191534,171.65662409147788,null,7900519.6578860255,1185077.9486829038,3555233.8460487113,1185077.9486829038,395025.9828943013]
[372,3273.1226676071196,81768.480052419356,8182.8066690177993,204421.20013104833,63748725744977.813,974444807804660,13525294.628317975,8.4866290080369232E-8,5410117.8513271892,31205.042953612738,520.08404922687896,173.37319033239265,null,8115176.7769907853,1217276.5165486177,3651829.5496458532,1217276.5165486177,405758.83884953929]
[373,3409.6023582655425,85178.082410684903,8524.0058956638568,212945.2060267122,68211136547126.266,1042655944351786.3,13892776.883369377,8.1469259048460621E-8,5557110.7533477498,31735.528683824155,528.92547806373591,175.10692223571658,null,8335666.1300216271,1250349.9195032441,3751049.7585097323,1250349.9195032441,416783.30650108139]
[374,3551.7728548771215,88729.85526556203,8879.4321371928036,221824.63816390501,72985916105425.109,1115641860457211.4,14270243.631290516,7.8208204501689045E-8,5708097.4525162065,32275.03267144916,537.91721119081933,176.85799145807374,null,8562146.1787743084,1284321.9268161461,3852965.7804484391,1284321.9268161461,428107.30893871543]
[375,3699.8714474902117,92429.726713052238,9249.6786187255293,231074.31678263054,78094930232804.875,1193736790690016.3,14657966.150752677,7.5077683568224212E-8,5863186.4603010705,32823.70822686379,547.06180378106319,178.62657137265447,null,8794779.6904516071,1319216.953567741,3957650.8607032234,1319216.953567741,439738.9845225804]
[376,3854.1453204576924,96283.872033509935,9635.3633011442307,240709.68008377479,83561575349101.219,1277298366039117.5,15056223.09106862,7.2072471243712938E-8,6022489.2364274496,33381.711266720471,556.36185444534124,180.41283708638102,null,9033733.8546411693,1355060.0781961754,4065180.2345885262,1355060.0781961754,451686.69273205847]
[377,4014.8519650006615,100298.7239985106,10037.129912501654,250746.80999627645,89410885623538.313,1366709251662655.8,15465300.672452964,6.9187551670471612E-8,6186120.2689811839,33949.200358254719,565.82000597091201,182.21696545724484,null,9279180.4034717791,1391877.0605207668,4175631.1815623008,1391877.0605207668,463959.020173589]
[378,4182.2596089748613,104480.98360748545,10455.649022437154,261202.45901871362,95669647617186,1462378899279841.8,15885492.891723508,6.6418109765755442E-8,6354197.1566894036,34526.336764345047,575.43894607241748,184.0391351118173,null,9531295.7350341044,1429694.3602551157,4289083.080765347,1429694.3602551157,476564.78675170522]
[379,4356.6476645570865,108837.63127204253,10891.619161392717,272094.07818010636,102366522950389.03,1564745422230230.8,16317101.733591637,6.3759523185131783E-8,6526840.6934366543,35113.284489338912,585.22140815564853,185.87952646293547,null,9790261.0401549824,1468539.1560232474,4405617.4680697424,1468539.1560232474,489513.05200774915]
[380,4538.3071945988331,113375.93846664137,11345.767986497083,283439.84616660344,109532179556916.27,1674277601787147,16760437.387693318,6.1207354607543739E-8,6704174.9550773269,35710.210325657667,595.17017209429446,187.73832172756482,null,10056262.432615992,1508439.3648923987,4525318.0946771968,1508439.3648923987,502813.12163079961]
[381,4727.5413984255292,118103.4798650669,11818.853496063823,295258.69966266729,117199432125900.41,1791477033913047.5,17215818.471516944,5.8757344329187568E-8,6886327.3886067774,36317.283901193849,605.28806501989743,189.61570494484047,null,10329491.082910167,1549423.6624365251,4648270.9873095751,1549423.6624365251,516474.55414550839]
[382,4924.666117892185,123028.14598295907,12311.665294730463,307570.36495739775,125403392374713.44,1916880426287761,17683572.259388063,5.6405403153842618E-8,7073428.9037552243,36934.677727514143,615.57796212523567,191.51186199428889,null,10610143.355632838,1591521.5033449256,4774564.5100347772,1591521.5033449256,530507.16778164194]
[383,5130.0103645400868,128158.15634749916,12825.025911350218,320395.39086874796,134181629840943.39,2051062056128704.5,18164034.917675629,5.414760556778738E-8,7265613.9670702517,37562.567248881875,626.0427874813646,193.42698061423178,null,10898420.950605378,1634763.1425908066,4904289.4277724205,1634763.1425908066,544921.0475302689]
[384,5343.9168687343799,133502.07321623355,13359.79217183595,333755.18304058391,143574343929809.44,2194636400058514,18657551.746388879,5.198018318791043E-8,7463020.6985555505,38201.130892112866,636.68551486854778,195.36125042037409,null,11194531.047833327,1679179.6571749991,5037538.9715249976,1679179.6571749991,559726.55239166634]
[385,5566.7426516991218,139068.81586793266,13916.856629247804,347672.03966983169,153624548004896.09,2348260948063410,19164477.427338261,4.9899518472080335E-8,7665790.9709353046,38850.550117278784,647.50916862131305,197.31486292457782,null,11498686.456402957,1724802.9684604437,5174408.9053813312,1724802.9684604437,574934.32282014785]
[386,{"$f":"D387/2.5","v":5798.859621404501},144867.67548933715,{"$f":"F387/J387/60/24","v":14497.149053511253},362169.18872334296,164378266365238.84,2512639214428649,19685176.27903904,{"$f":"J387/F387","v":4.7902138681277327E-8},{"$f":"K387*M387","v":7874070.5116156153},{"$f":"L387*60","v":39511.009469272518},658.51682448787528,199.28801155382359,null,{"$f":"H387-J387","v":11811105.767423425},{"$f":"O387*0.15","v":1771665.8651135138},{"$f":"O387*0.45","v":5314997.5953405416},{"$f":"O387*0.15","v":1771665.8651135138},{"$f":"O387*0.05","v":590555.28837117122}]
[387,6040.6551933008341,{"$f":"B388+C387","v":150908.33068263798},15101.637983252085,377270.82670659502,{"$f":"F387*1.07","v":175884745010805.56},{"$f":"F388+G387","v":2688523959439454.5},{"$f":"F388/B388/60/24","v":20220022.518540528},4.5984710083408993E-8,8088009.0074162101,40182.696630250146,{"$f":"L387*1.017","v":669.71161050416913},201.28089166936184,null,12132013.511124317,1819802.0266686475,5459406.0800059428,1819802.0266686475,606600.67555621581]
[388,6292.5329369353594,157200.86361957336,15731.332342338399,{"$f":"D389+E388","v":393002.15904893342},188196677161561.97,2876720636601016.5,20769400.530369271,4.4144032389135709E-8,8307760.2121477081,40865.802472964395,681.09670788273991,203.29370058605545,null,12461640.318221562,1869246.0477332342,5607738.1431997027,1869246.0477332342,623082.01591107808]
[389,6554.9132495310769,163755.77686910442,16387.283123827692,409389.44217276113,201370444562871.31,3078091081163888,21333705.142779399,4.2377033410419177E-8,8533482.0571117606,41560.521115004783,692.67535191674642,205.32663759191601,null,12800223.085667638,1920033.4628501455,5760100.3885504371,1920033.4628501455,640011.154283382]
[390,6828.2340576518518,170584.01092675628,17070.585144129629,426460.02731689077,215466375682272.31,3293557456846160.5,21913341.911508717,4.068076393287875E-8,8765336.7646034863,42267.049973959867,704.45083289933109,207.37990396783516,null,13148005.14690523,1972200.7720357846,5916602.3161073541,1972200.7720357846,657400.25734526152]
[391,7112.9515481249273,177696.96247488121,17782.378870312317,444242.40618720307,230549021980031.38,3524106478826192,22508727.411244407,3.9052392793397256E-8,9003490.9644977637,42985.589823517184,716.4264970586197,209.45370300751352,null,13505236.446746644,2025785.4670119965,6077356.4010359896,2025785.4670119965,675261.82233733218]
[392,7409.5409294407673,185106.50340432196,18523.852323601917,462766.25851080497,246687453518633.59,3770793932344825.5,23120289.53500792,3.7489202154760613E-8,9248115.8140031677,43716.344850516973,728.60574750861622,211.54824003758867,null,13872173.721004752,2080826.0581507129,6242478.1744521391,2080826.0581507129,693608.68605023762]
[393,7718.4972249010589,192825.00062922301,19296.243062252648,482062.50157305761,263955575264937.97,4034749507609763.5,23748467.801674087,3.5988582969444353E-8,9499387.1206696332,44459.522712975755,740.99204521626257,213.66372243796457,null,14249080.681004453,2137362.1021506679,6412086.3064520042,2137362.1021506679,712454.03405022272]
[394,8040.3360988386876,200865.33672806169,20100.840247096719,502163.34182015434,282432465533483.63,4317181973143247,24393713.67184557,3.4548030624975844E-8,9757485.4687382262,45215.334599096335,753.58890998493894,215.80035966234422,null,14636228.203107344,2195434.2304661013,6586302.6913983049,2195434.2304661013,731811.41015536722]
[395,8375.5947172886645,209240.93144535035,20938.986793221662,523102.32861337601,302202738120827.5,4619384711264074,25056490.872309607,3.3165140763604144E-8,10022596.348923843,45983.995287280974,766.39992145468284,217.95836325896767,null,15033894.523385763,2255084.1785078645,6765252.5355235934,2255084.1785078645,751694.72616928816]
[396,8724.8326445465445,217965.7640898969,21812.08161136636,544914.41022474237,323356929789285.44,4942741641053359,25737275.729310255,3.1837605269300236E-8,10294910.291724101,46765.723207164738,779.42872011941233,220.13794689155733,null,15442365.437586155,2316354.8156379233,6949064.4469137695,2316354.8156379233,772118.27187930781]
[397,9088.6327771107044,227054.3968670076,22721.58194277676,567635.99216751917,345991914874535.44,5288733555927894,26436557.510875612,3.0563208415389835E-8,10574623.004350245,47560.740501686538,792.67900836144224,222.33932636047291,null,15861934.506525367,2379290.1759788049,7137870.5279364157,2379290.1759788049,793096.72532626847]
[398,9467.6023165673232,236521.99918357492,23669.005791418309,591304.99795893743,370211348915752.94,5658944904843647,27154838.778446097,2.9339823166388756E-8,10861935.511378439,48369.273090215203,806.15455150358673,224.56271962407763,null,16292903.267067658,2443935.4900601488,7331806.4701804463,2443935.4900601488,814645.16335338296]
[399,9862.3737830417922,246384.37296661671,24655.934457604479,615960.93241654185,396126143339855.69,6055071048183503,27892635.748056475,2.8165407627868723E-8,11157054.29922259,49191.550732748859,819.85917887914763,226.80834682031841,null,16735581.448833885,2510337.2173250825,7531011.651975248,2510337.2173250825,836779.07244169433]
[400,10273.606070908141,256657.97903752484,25684.015177270354,641644.94759381225,423854973373645.63,6478926021557149,28650478.661331177,2.7038001638427957E-8,11460191.464532468,50027.807095205586,833.79678492009305,229.07643028852158,null,17190287.196798708,2578543.079519806,7735629.2385594193,2578543.079519806,859514.35983993544]
[401,10701.985548518471,267359.96458604332,26754.963871296175,668399.91146510839,453524821509800.88,6932450843066950,29428912.166559532,2.5955723498078539E-8,11771564.866623813,50878.279815824077,847.97133026373456,231.36719459140679,null,17657347.299935721,2648602.0949903582,7945806.2849710742,2648602.0949903582,882867.36499678611]
[402,11148.22720378785,278508.19178983115,27870.568009469625,696270.47947457805,485271559015486.94,7417722402082437,30228495.710124951,2.4916766827590026E-8,12091398.28404998,51743.210572693075,862.38684287821798,233.68086653732087,null,18137097.426074971,2720564.6139112455,8161693.8417337369,2720564.6139112455,906854.87130374857]
[403,11613.075837546849,290121.26762737799,29032.689593867122,725303.16906844522,519240568146571.06,7936962970229008,31049803.938569054,2.3919397553547335E-8,12419921.57542762,52622.845152428861,877.04741920714764,236.01767520269408,null,18629882.363141432,2794482.3544712146,8383447.0634136451,2794482.3544712146,931494.11815707164]
[404,12097.30730665336,302218.57493403135,30243.2682666334,755546.4373350786,555587407916831.06,8492550378145839,31893427.111579966,2.2961951014090851E-8,12757370.844631987,53517.433520020146,891.95722533366904,238.37785195472102,null,19136056.266947977,2870408.4400421963,8611225.3201265894,2870408.4400421963,956802.81334739889]
[405,12601.729818938538,314820.30475296988,31504.324547346347,787050.76188242494,594478526471009.25,9087028904616848,32759971.526201587,2.2042829180508124E-8,13103988.610480634,54427.229889860479,907.12049816434137,240.76163047426823,null,19655982.915720955,2948397.4373581433,8845192.3120744303,2948397.4373581433,982799.1457860478]
[406,13127.185282148266,327947.49003511813,32817.963205370666,819868.72508779564,636092023323979.88,9723120927940828,33650059.952568479,2.1160497990039748E-8,13460023.981027393,55352.492797988103,922.54154663313511,243.1692467790109,null,20190035.971541084,3028505.3957311627,9085516.1871934887,3028505.3957311627,1009501.7985770543]
[407,13674.550709131543,341622.04074424965,34186.376772828859,854055.10186062451,680618464956658.5,1.0403739392897486E+16,34564332.081479765,2.0313484785447782E-8,13825732.832591906,56293.485175553898,938.22475292589831,245.600939246801,null,20738599.248887859,3110789.8873331789,9332369.6619995367,3110789.8873331789,1036929.962444393]
[408,14244.739681621108,355866.78042587073,35611.849204052771,889666.95106467733,728261757503624.63,1.113200115040111E+16,35503444.984133564,1.9500375857073269E-8,14201377.993653428,57250.474423538311,954.17457372563854,248.05694863926902,null,21302066.990480136,3195310.0485720201,9585930.1457160618,3195310.0485720201,1065103.3495240069]
[409,14838.703875049492,370705.48430092022,37096.759687623729,926763.71075230103,779240080528878.38,1.1911241230929988E+16,36468073.584352478,1.8719814083280324E-8,14587229.43374099,58223.73248873846,970.39554147897434,250.53751812566171,null,21880844.15061149,3282126.6225917232,9846379.8677751701,3282126.6225917232,1094042.2075305746]
[410,15457.43464694545,386162.91894786566,38643.586617363624,965407.29736966465,833786886165899.88,1.2745028117095888E+16,37458911.143639326,1.7970496665348646E-8,14983564.457455734,59213.535941047012,986.89226568411686,253.04289330691833,null,22475346.686183594,3371302.0029275389,10113906.008782618,3371302.0029275389,1123767.3343091798]
[411,16101.964691561894,402264.88363942754,40254.911728904735,1005662.2090985694,892151968197512.88,1.36371800852934E+16,38476669.759412013,1.7251172953033799E-8,15390667.903764803,60220.166052044806,1003.6694342007468,255.5733222399875,null,23086001.85564721,3462900.2783470815,10388700.835041245,3462900.2783470815,1154300.0927823605]
[412,16773.369763497016,419038.25340292457,41933.42440874254,1047595.6335073119,954602605971338.88,1.4591782691264738E+16,39522080.876775235,1.6560642357166097E-8,15808832.350710092,61243.908874929562,1020.7318145821594,258.12905546238738,null,23713248.526065141,3556987.2789097712,10670961.836729314,3556987.2789097712,1185662.426303257]
[413,17472.770473185366,436511.02387610992,43681.926182963412,1091277.5596902752,1021424788389332.6,1.561320747965407E+16,40595895.814197205,1.5897752345804015E-8,16238358.325678883,62285.055325803354,1038.0842554300559,260.71034601701126,null,24357537.48851832,3653630.623277748,10960891.869833244,3653630.623277748,1217876.874425916]
[414,18201.334157255707,454712.35803336563,45503.33539313927,1136780.8950834144,1092924523576586,1.6706132003230656E+16,41698886.303468935,1.526139652059767E-8,16679554.521387575,63343.901266342007,1055.7316877723667,263.31744947718136,null,25019331.782081358,3752899.7673122035,11258699.301936612,3752899.7673122035,1250966.589104068]
[415,18960.276826877347,473672.63486024295,47400.692067193369,1184181.5871506077,1169429240226947,1.7875561243457604E+16,42831845.044334196,1.4650512770151689E-8,17132738.017733674,64420.747587869817,1073.6791264644969,265.95062397195318,null,25699107.026600521,3854866.0539900782,11564598.161970235,3854866.0539900782,1284955.3513300261]
[416,19750.865197346859,493423.50005758979,49377.162993367143,1233558.7501439748,1251289287042833.3,1.9126850530500436E+16,43995586.274188735,1.4064081497305336E-8,17598234.509675495,65515.900296863598,1091.9316716143933,268.6101302116727,null,26397351.764513239,3959602.7646769858,11878808.294030959,3959602.7646769858,1319867.588225662]
[417,20574.418802302571,513997.91885989235,51436.047005756431,1284994.7971497313,1338879537135831.8,2.0465730067636268E+16,45190946.353258461,1.3501123917371141E-8,18076378.541303381,66629.670601910271,1110.4945100318378,271.29623151378945,null,27114567.811955079,4067185.1717932615,12201555.515379786,4067185.1717932615,1355728.3905977542]
[418,21432.312196095834,535430.23105598823,53580.780490239587,1338575.5776399709,1432601104735340,2.1898331172371608E+16,46418784.36567647,1.2960700424491693E-8,18567513.74627059,67762.37500214274,1129.3729167023789,274.00919382892732,null,27851270.619405881,4177690.5929108821,12533071.778732646,4177690.5929108821,1392563.530970294]
[419,22325.977247994535,557756.20830398274,55814.943119986339,1394390.5207599574,1532883182066814,2.3431214354438424E+16,47679982.736891903,1.2441909023387972E-8,19071993.09475676,68914.335377179159,1148.5722562863193,276.74928576721658,null,28607989.642135143,4291198.4463202711,12873595.338960815,4291198.4463202711,1430399.4821067574]
[420,23256.905532048408,581013.11383603117,58142.263830121017,1452532.7845900783,1640185004811491,2.5071399359249916E+16,48975447.867853232,1.1943883823881701E-8,19590179.147141296,70085.879078591199,1168.0979846431867,279.51677862488873,null,29385268.720711935,4407790.3081067903,13223370.924320372,4407790.3081067903,1469263.4360355968]
[421,24226.650816604648,605239.76465263579,60566.627041511616,1513099.41163159,1754997955148295.5,2.6826397314398212E+16,50306110.786422819,1.1465793595679032E-8,20122444.314569123,71277.339022927234,1187.9556503821207,282.31194641113763,null,30183666.471853696,4527549.9707780546,13582649.912334163,4527549.9707780546,1509183.3235926849]
[422,25236.831657629191,630476.59631026501,63092.079144072981,1576191.4907756629,1877847812008676.3,2.8704245126406888E+16,51672927.816489913,1.1006840381003393E-8,20669171.126595967,72489.053786317003,1208.1508964386167,285.13506587524898,null,31003756.689893946,4650563.5034840917,13951690.510452276,4650563.5034840917,1550187.8344946974]
[423,26289.134100161849,656765.73041042686,65722.83525040462,1641914.3260260676,2009297158849283.8,3.0713542285256172E+16,53076881.265263923,1.0566258162761918E-8,21230752.506105576,73721.367700684379,1228.689461678073,287.98641653400148,null,31846128.759158347,4776919.313873752,14330757.941621257,4776919.313873752,1592306.4379579173]
[424,27385.31449241428,684151.04490284109,68463.286231035701,1710377.6122571032,2149947959968733.8,3.2863490245224904E+16,54518980.129241161,1.0143311586022577E-8,21807592.051696461,74974.630951596017,1249.5771825266002,290.86628069934147,null,32711388.0775447,4906708.2116317051,14720124.634895116,4906708.2116317051,1635569.403877235]
[425,28527.202417207758,712678.24732004886,71318.006043019399,1781695.6183001227,2300444317166545,3.5163934562391448E+16,56000260.819352604,9.7372947306680449E-9,22400104.327741046,76249.199677773126,1270.8199946295522,293.77494350633486,null,33600156.491611555,5040023.4737417335,15120070.421225199,5040023.4737417335,1680007.8245805779]
[426,29716.703745643183,742394.951065692,74291.759364107958,1855987.3776642305,2461475419368203.5,3.7625409981759648E+16,57521787.905814417,9.3475299331778432E-9,23008715.162325766,77545.436072295255,1292.4239345382543,296.71269294139819,null,34513072.743488654,5176960.9115232984,15530882.734569894,5176960.9115232984,1725653.6371744329]
[427,30955.803818100423,773350.75488379248,77389.509545251058,1933376.8872094816,2633778698723978,4.0259188680483624E+16,59084654.88321539,8.9733666555722283E-9,23633861.953286156,78863.708485524272,1314.3951414254045,299.6798198708122,null,35450792.929929234,5317618.9394893851,15952856.818468155,5317618.9394893851,1772539.6464964617]
[428,32246.570757875965,805597.3256416684,80616.42689468991,2013993.3141041715,2818143207634656.5,4.307733188811828E+16,60689984.956392348,8.6141803996300218E-9,24275993.982556939,80204.391529778179,1336.7398588296362,{"$f":"M428*1.01","v":302.67661806952032},null,36413990.973835409,5462098.6460753111,16386295.938225934,5462098.6460753111,1820699.5486917705]
[429,33591.158922989649,839188.48456465802,83977.897307474122,2097971.2114116456,3015413232169082.5,4.609274512028736E+16,62338931.847657531,8.2693716645681971E-9,24935572.739063013,81567.866185784398,1359.4644364297399,305.70338425021555,null,37403359.108594522,5610503.8662891779,16831511.598867536,5610503.8662891779,1870167.9554297263]
[430,34991.812501921719,874180.29706657969,87479.5312548043,2185450.7426664499,3226492158420918.5,4.931923727870828E+16,64032680.625958383,7.9383649464434702E-9,25613072.250383351,82954.519910942719,1382.5753318490454,308.76041809271771,null,38419608.375575036,5762941.256336255,17288823.769008767,5762941.256336255,1920980.418778752]
[431,36450.869259281564,910631.16632586124,91127.173148203918,2276577.915814654,3452346609510383,5.2771583888218664E+16,65772448.558565669,7.6206077776059245E-9,26308979.423426267,84364.746749428741,1406.079112490479,311.84802227364492,null,39463469.135139406,5919520.3702709107,17758561.110812735,5919520.3702709107,1973173.4567569704]
[432,37970.764437660058,948601.93076352135,94926.911094150142,2371504.826908804,3694010872176110,5.6465594760394776E+16,67559485.985901877,7.3155698046013801E-9,27023794.394360758,85798.947444169025,1429.9824574028171,314.96650249638139,null,40535691.591541119,6080353.7387311673,18241061.216193505,6080353.7387311673,2026784.579577056]
[433,39554.03482217768,988155.96558569907,98885.087055444208,2470389.9139642483,3952591633228438,6.0418186393623216E+16,69395077.220138863,7.0227419029835502E-9,27758030.888055541,87257.52955071989,1454.2921591786649,318.11616752134523,null,41637046.332083322,6245556.9498124979,18736670.849437494,6245556.9498124979,2081852.3166041663]
[434,41203.32297451263,1029359.2885602117,103008.30743628157,2573398.2214005296,4229273047554429,6.4647459441177648E+16,71280541.468210027,6.741635327558516E-9,28512216.587284006,88740.907553082114,1479.015125884702,321.29732919655868,null,42768324.88092602,6415248.7321389029,19245746.19641671,6415248.7321389029,2138416.2440463011]
[435,42921.381643475295,1072280.6702036869,107303.45410868824,2680701.6755092177,4525322160883239,6.9172781602060888E+16,73217233.779901281,6.4717808966432527E-9,29286893.51196051,90249.502981484518,1504.1583830247419,324.51030248852425,null,43930340.267940775,6589551.0401911158,19768653.120573349,6589551.0401911158,2196517.0133970389]
[436,44711.078359491199,1116991.7485631781,111777.69589872799,2792479.3714079456,4842094712145066,7.4014876314205952E+16,75206546.021701172,6.2127282089766808E-9,30082618.408680473,91783.744532169745,1529.7290755361623,327.75540551340947,null,45123927.613020703,6768589.1419531051,20305767.425859317,6768589.1419531051,2256196.3806510353]
[437,46575.400220660253,1163567.1487838384,116438.50055165064,2908917.8719595964,5181041341995221,7.9195917656201168E+16,77249907.877110794,5.9640448919762388E-9,30899963.150844317,93344.068189216618,1555.7344698202769,331.03295956854356,null,46349944.726266474,6952491.7089399705,20857475.126819912,6952491.7089399705,2317497.236313324]
[438,48517.458878380858,1212084.6076622193,121293.64719595214,3030211.5191555484,5543714235934887,8.4739631892136048E+16,79348787.874131903,5.7253158800852642E-9,31739515.149652757,94930.917348433286,1582.1819558072214,334.34328916422902,null,47609272.724479146,7141390.9086718718,21424172.726015616,7141390.9086718718,2380463.6362239574]
[439,50540.495730860064,1262625.1033930795,126351.23932715016,3156562.7584826984,5931774232450329,9.0671406124586384E+16,81504694.440672055,5.4961427220067101E-9,32601877.776268814,96544.742943356629,1609.0790490559439,337.68672205587131,null,48902816.664403245,7335422.4996604864,22006267.498981461,7335422.4996604864,2445140.8332201624]
[440,52647.887333177845,1315272.9907262572,131619.71833294461,3288182.4768156428,6346998428721852,9.701840455330824E+16,83719176.988625079,5.276142915666946E-9,33487670.795450035,98186.003573393682,1636.4333928898948,341.06358927643004,null,50231506.193175048,7534725.9289762573,22604177.786928773,7534725.9289762573,2511575.3096587523]
[441,54843.151032935442,1370116.1417591926,137107.87758233861,3425290.3543979814,6791288318732382,1.0380969287204062E+17,85993827.027406022,5.0649492697996405E-9,34397530.810962409,99855.165634141376,1664.2527605690229,344.47422516919431,null,51596296.216443613,7739444.4324665414,23218333.297399625,7739444.4324665414,2579814.8108221809]
[442,57129.950840893856,1427246.0926000865,142824.87710223463,3568115.2315002158,7266678501043649,1.1107637137308427E+17,88330279.307740614,4.862209291084202E-9,35332111.723096251,101552.70344992177,1692.5450574986962,347.91896742088625,null,52998167.584644362,7949725.1376966536,23849175.413089965,7949725.1376966536,2649908.3792322185]
[443,59512.103546400729,1486758.1961464873,148780.25886600182,3716895.4903662177,7775345996116705,1.1885171736920098E+17,90730212.996531919,4.6675845958158491E-9,36292085.198612772,103279.09940857043,1721.3183234761739,351.39815709509509,null,54438127.797919147,8165719.1696878718,24497157.509063616,8165719.1696878718,2721906.3898959574]
[444,61993.585087812899,1548751.7812343002,154983.96271953225,3871879.4530857499,8319620215844875,1.2717133758504586E+17,93195352.883647695,4.4807503451253878E-9,37278141.15345908,105034.84409851611,1750.5807349752686,354.91213866604602,null,55917211.730188616,8387581.7595282923,25162745.278584879,8387581.7595282923,2795860.5865094308]
[445,64578.537188547001,1613330.3184228472,161446.3429713675,4033325.7960571172,8901993630954017,1.3607333121599987E+17,95727470.621496394,4.3013947028060225E-9,38290988.248598561,106820.43644819089,1780.340607469848,358.46126005270651,null,57436482.372897834,8615472.3559346739,25846417.067804027,8615472.3559346739,2871824.1186448918]
[446,67271.274269833913,1680601.5926926811,168178.18567458479,4201503.9817317016,9525133185120798,1.4559846440112067E+17,98328385.998282433,4.1292183148423005E-9,39331354.399312973,108636.3838678101,1810.6063977968352,362.04587265323357,null,58997031.59896946,8849554.7398454193,26548664.219536256,8849554.7398454193,2949851.5799484733]
[447,70076.290651715186,1750677.8833443963,175190.72662928796,4376694.7083609896,1.0191892508079254E+16,1.5579035690919994E+17,100999968.24585576,3.9639338097724908E-9,40399987.298342302,110483.20239356287,1841.3867065593811,365.66633137976589,null,60599980.947513461,9089997.1421270184,27269991.426381059,9089997.1421270184,3029999.0473756734]
[448,72998.268054299944,1823676.1513986962,182495.67013574985,4559190.3784967391,1.0905324983644802E+16,1.6669568189284474E+17,103744137.38309564,3.8052653190504751E-9,41497654.953238256,112361.41683425342,1872.6902805708903,369.32299469356354,null,62246482.429857381,9336972.3644786067,28010917.09343582,9336972.3644786067,3112324.1214928692]
[449,76042.083411802276,1899718.2348104985,190105.20852950567,4749295.587026245,1.1668697732499938E+16,1.7836437962534467E+17,106562865.59579434,3.6529480166066133E-9,42625146.238317735,114271.56092043572,1904.5260153405952,373.01622464049916,null,63937719.3574766,9590657.9036214892,28771973.710864469,9590657.9036214892,3196885.9678738303]
[450,{"$f":"D451/2.5","v":79212.817012401501},1978931.0518229001,{"$f":"F451/J451/60/24","v":198032.04253100374},4947327.6295572491,1.2485506573774934E+16,1.9084988619911962E+17,109458178.65403205,{"$f":"J451/F451","v":3.506727676839079E-9},{"$f":"K451*M451","v":43783271.461612821},{"$f":"L451*60","v":116214.17745608311},1936.9029576013852,376.74638688690413,null,{"$f":"H451-J451","v":65674907.192419231},{"$f":"O451*0.15","v":9851236.078862885},{"$f":"O451*0.45","v":29553708.236588653},{"$f":"O451*0.15","v":9851236.078862885},{"$f":"O451*0.05","v":3283745.3596209618}]
[451,82515.760977510639,{"$f":"B452+C451","v":2061446.8128004107},206289.40244377661,5153617.032001026,{"$f":"F451*1.07","v":1.335949203393918E+16},{"$f":"F452+G451","v":2.0420937823305878E+17},{"$f":"F452/B452/60/24","v":112432157.36806209},3.3663602502979406E-9,44972862.947224841,118189.81847283652,{"$f":"L451*1.017","v":1969.8303078806086},380.51385075577321,null,67459294.420837253,10118894.163125588,30356682.489376765,10118894.163125588,3372964.7210418629]
[452,85956.428094605959,2147403.2408950166,214891.0702365149,{"$f":"D453+E452","v":5368508.1022375412},1.4294656476314924E+16,2.185040347093737E+17,115486939.08375235,3.231611456353771E-9,46194775.633500934,120199.04538687473,2003.3174231145788,384.31898926333093,null,69292163.450251415,10393824.517537711,31181473.552613139,10393824.517537711,3464608.1725125709]
[453,89540.561018359585,2236943.801913376,223851.40254589895,5592359.5047834404,1.529528242965697E+16,2.3379931713903066E+17,118624719.21865785,3.1022563921709366E-9,47449887.687463149,122242.42915845159,2037.3738193075264,388.16217915596422,null,71174831.531194702,10676224.729679205,32028674.189037617,10676224.729679205,3558741.5765597355]
[454,93274.141855432652,2330217.9437688086,233185.35463858163,5825544.8594220225,1.6365952199732958E+16,2.5016526933876362E+17,121847752.83982879,2.9780791573329163E-9,48739101.135931514,124320.55045414524,2072.009174235754,392.04380094752389,null,73108651.703897268,10966297.75558459,32898893.26675377,10966297.75558459,3655432.5851948634]
[455,97163.402148926616,2427381.3459177352,242908.50537231655,6068453.3647943391,1.7511568853714266E+16,2.6767683819247789E+17,125158356.2844869,2.8588724934931318E-9,50063342.513794765,126433.99981186568,2107.2333301977615,395.96423895699911,null,75095013.77069214,11264252.065603821,33792756.196811467,11264252.065603821,3754750.6885346072]
[456,101214.83327915682,2528596.1791968923,253037.08319789206,6321490.4479922308,1.8737378673474264E+16,2.8641421686595216E+17,128558908.82473637,2.7444374384498501E-9,51423563.529894561,128583.37780866738,2143.056296811123,399.92388134656909,null,77135345.294841811,11570301.794226272,34710905.382678814,11570301.794226272,3856767.2647420908]
[457,105435.19729810821,2634031.3764950004,263587.99324527051,6585078.4412375009,2.0048995180617464E+16,3.064632120465696E+17,132051854.37750447,2.6345829940677869E-9,52820741.75100179,130769.29523141471,2179.4882538569118,403.92312016003478,null,79231112.626502678,11884666.893975401,35654000.681926206,11884666.893975401,3961555.6313251341]
[458,109831.53821565642,2743862.9147106567,274578.84553914104,6859657.2867766423,2.1452424843260688E+16,3.2791563688983027E+17,135639703.26094127,2.5291258074921572E-9,54255881.304376505,132992.37325034876,2216.5395541724793,407.96235136163511,null,81383821.956564754,12207573.293484712,36622719.880454138,12207573.293484712,4069191.0978282378]
[459,114411.19375639125,2858274.108467048,286027.98439097812,7145685.2711676201,2.2954094582288936E+16,3.5086973147211923E+17,139325033.998541,2.4278898651231015E-9,55730013.599416405,135253.24359560467,2254.2207265934112,412.04197487525147,null,83595020.399124593,12539253.059868688,37617759.179606065,12539253.059868688,4179751.0199562297]
[460,119181.80760666553,2977455.9160737135,297954.51901666383,7443639.7901842836,2.4560881203049164E+16,3.7543061267516838E+17,143110495.17228135,2.330706198839716E-9,57244198.068912551,137552.54873672995,2292.5424789454992,416.16239462400398,null,85866297.103368804,12879944.56550532,38639833.696515962,12879944.56550532,4293314.8551684404]
[461,124151.34217231045,3101607.2582460241,310378.35543077614,7754018.1456150599,2.6280142887262608E+16,4.0171075556243098E+17,146998807.32611224,2.2374126039833561E-9,58799522.930444904,139890.94206525435,2331.5157010875723,420.32401857024405,null,88199284.395667344,13229892.659350101,39689677.978050306,13229892.659350101,4409964.2197833676]
[462,129328.09186831024,3230935.3501143344,323320.22967077559,8077338.3752858359,2.8119752889370992E+16,4.2983050845180198E+17,150992764.92116269,2.1478533686295169E-9,60397105.968465075,142269.08808036364,2371.1514680060609,424.52725875594649,null,90595658.95269762,13589348.842904642,40768046.528713927,13589348.842904642,4529782.9476348814]
[463,134720.69696261763,3365656.0470769522,336801.74240654404,8414140.1176923793,3.0088135591626964E+16,4.5991864404342893E+17,155095238.3440707,2.0618790136964309E-9,62038095.337628283,144687.66257772985,2411.4610429621639,428.77253134350593,null,93057143.006442428,13958571.450966364,41875714.352899097,13958571.450966364,4652857.1503221216]
[464,140338.15799721648,3505994.2050741687,350845.39499304118,8764985.51268542,3.2194305083040852E+16,4.9211294912646976E+17,159309175.96987912,1.9793460434566008E-9,63723670.387951642,147147.35284155124,2452.4558806925206,433.06025665694102,null,95585505.581927478,14337825.837289121,43013477.511867367,14337825.837289121,4779275.2790963743]
[465,146189.85081050039,3652184.0558846691,365474.62702625099,9130460.1397116706,3.4447906438853712E+16,5.2656085556532346E+17,163637606.28098068,1.9001167060348749E-9,65455042.512392275,149648.85783985758,2494.147630664293,437.39085922351046,null,98182563.768588394,14727384.565288259,44182153.695864782,14727384.565288259,4909128.1884294199]
[466,152285.54218604069,3804469.59807071,380713.85546510172,9511173.9951767717,3.6859259889573472E+16,5.634201154548969E+17,168083640.04363492,1.8240587634933106E-9,67233456.017453969,152192.88842313513,2536.5481403855856,441.76476781574559,null,100850184.02618095,15127527.603927143,45382582.811781429,15127527.603927143,5042509.2013090476]
[467,158635.40615386312,3963105.0042245733,396588.51538465777,9907762.510561429,3.9439408081843616E+16,6.0285952353674048E+17,172650472.54362044,1.7510452711190876E-9,69060189.017448187,154780.16752632841,2579.6694587721404,446.18241549390302,null,103590283.52617225,15538542.528925836,46615627.586777516,15538542.528925836,5179514.1763086133]
[468,165250.04097143954,4128355.0451960126,413125.10242859885,10320887.612990027,4.2200166647572672E+16,6.4505969018431309E+17,177341385.88263062,1.680954365547096E-9,70936554.353052244,157411.43037427598,2623.5238395712663,450.64423964884207,null,106404831.52957837,15960724.729436755,47882174.188310266,15960724.729436755,5320241.576478919]
[469,172140.48681273824,4300495.5320087504,430351.21703184559,10751238.830021873,4.515417831290276E+16,6.9021386849721587E+17,182159751.33706167,1.6136690613635609E-9,72863900.534824654,160087.42469063864,2668.1237448439774,455.15068204533048,null,109295850.80223702,16394377.620335553,49183132.861006662,16394377.620335553,5464792.5401118509]
[470,179318.24419485574,4479813.7762036063,448295.61048713932,11199534.440509012,4.831497079480596E+16,7.3852883929202189E+17,187109031.7808896,1.549077055851223E-9,74843612.712355837,162808.91091037949,2713.4818485063247,459.7021888657838,null,112265419.06853376,16839812.860280063,50519438.580840193,16839812.860280063,5613270.9534266889]
[471,186795.29317298569,4666609.0693765916,466988.23293246422,11666522.673441477,5.1697018750442384E+16,7.9022585804246426E+17,192192784.17437628,1.487070541550187E-9,76877113.669750527,165576.66239585591,2759.6110399309318,464.29921075444162,null,115315670.50462575,17297350.575693861,51892051.727081589,17297350.575693861,5765783.5252312878]
[472,194584.11333576206,4861193.1827123538,486460.28333940514,12152982.956780883,5.5315810062973352E+16,8.4554166810543757E+17,197414662.12039411,1.4275460263215938E-9,78965864.848157644,168391.46565658544,2806.5244276097574,468.94220286198606,null,118448797.27223647,17767319.590835471,53301958.772506408,17767319.590835471,5922439.8636118239]
[473,202697.70463435014,5063890.8873467036,506744.26158587536,12659727.218366757,5.9187916767381488E+16,9.0472958487281907E+17,202778418.49020517,1.3704041606137863E-9,81111367.396082073,171254.12057274737,2854.235342879123,473.63162489060591,null,121667051.0941231,18250057.664118465,54750172.992355391,18250057.664118465,6083352.5547061553]
[474,211149.60908004973,5275040.4964267537,527874.0227001243,13187601.241066881,6.3331070941098192E+16,9.6806065581391731E+17,208287908.12058401,1.3155495716426757E-9,83315163.248233631,174165.44062248408,2902.7573437080678,478.36794113951197,null,124972744.87235038,18745911.730852555,56237735.19255767,18745911.730852555,6248637.2436175197]
[475,219953.93334662548,5494994.4297733791,549884.83336656366,13737486.074433444,6.7764245906975072E+16,1.0358249017208924E+18,213947090.58422026,1.2628907042095389E-9,85578836.233688116,177126.25311306628,2952.1042185511046,483.15162055090707,null,128368254.35053214,19255238.152579822,57765714.457739465,19255238.152579822,6418412.7175266072]
[476,229125.37231508829,5724119.8020884674,572813.43078772072,14310299.505221166,7.2507743120463328E+16,1.1083326448413558E+18,219760033.03539351,1.2123396678905719E-9,87904013.214157417,180137.39941598839,3002.2899902664731,487.98313675641612,null,131856019.82123609,19778402.973185413,59335208.919556238,19778402.973185413,6592800.9910618048]
[477,238679.23360022638,5962799.0356886936,596698.08400056593,14906997.589221731,7.758328513889576E+16,1.1859159299802516E+18,225730913.13296512,1.1638120903431389E-9,90292365.253186062,183199.73520606017,3053.328920101003,492.86296812398029,null,135438547.87977904,20315782.181966856,60947346.545900568,20315782.181966856,6771927.393988952]
[478,248631.46309982013,6211430.4987885142,621578.6577495503,15528576.246971281,8.3014115098618464E+16,1.26893004507887E+18,231864022.04278776,1.1172269764838896E-9,92745608.817115113,186314.13070456317,3105.2355117427196,497.79159780522008,null,139118413.22567266,20867761.9838509,62603285.951552697,20867761.9838509,6955920.6612836337]
[479,258998.67160918596,6470429.1703976998,647496.67902296491,16176072.925994245,8.882510315552176E+16,1.3577551482343918E+18,238163767.52169034,1.0725065733036978E-9,95265507.008676127,189481.47092654073,3158.0245154423455,502.76951378327226,null,142898260.5130142,21434739.07695213,64304217.230856389,21434739.07695213,7144913.0256507099]
[480,269798.1625454686,6740227.3329431685,674495.40636367153,16850568.332357917,9.5042860376408288E+16,1.4527980086108001E+18,244634677.08525464,1.0295762400937937E-9,97853870.834101841,192702.65593229191,3211.710932204865,507.79720892110498,null,146780806.25115281,22017120.937672921,66051362.813018769,22017120.937672921,7339040.3125576414]
[481,281047.96082795592,7021275.2937711244,702619.90206988982,17553188.234427806,1.0169586060275688E+17,1.554493869213557E+18,251281401.26166096,9.8836432386648775E-10,100512560.50466439,195978.60108314085,3266.3100180523475,512.87518101031606,null,150768840.75699657,22615326.113549486,67845978.340648457,22615326.113549486,7538442.0378498286]
[482,292766.84296261857,7314042.1367337434,731917.10740654648,18285105.341834351,1.0881457084494987E+17,1.6633084400585068E+18,258108716.93394026,9.4880203976256056E-10,103243486.7735761,199310.23730155421,3321.8372883592369,518.00393282041921,null,154865230.16036415,23229784.52405462,69689353.572163865,23229784.52405462,7743261.5080182077]
[483,304974.36838108778,7619016.505114831,762435.92095271952,19047541.26278707,1.1643159080409637E+17,1.779740030862603E+18,265121530.77303532,9.1082335624570952E-10,106048612.30921414,202698.51133568061,3378.3085222613436,523.18397214862341,null,159072918.46382117,23860937.769573174,71582813.308719531,23860937.769573174,7953645.9231910594]
[484,317690.91208637709,7936707.417201208,794227.28021594277,19841768.543003011,1.2458180216038312E+17,1.9043218330229862E+18,272324882.7641387,8.743648848924351E-10,108929953.10565551,206144.38602838718,3435.7397671397862,528.41581187010968,null,163394929.65848321,24509239.448772479,73527718.34631744,24509239.448772479,8169746.4829241605]
[485,330937.69865983573,8267645.1158610433,827344.24664958927,20669112.789652601,1.3330252831160995E+17,2.0376243613345961E+18,279723949.82884043,8.3936577459342291E-10,111889579.93153617,209648.84059086975,3494.1473431811623,533.69996998881084,null,167834369.89730427,25175155.484595638,75525466.453786924,25175155.484595638,8391718.4948652145]
[486,344736.83768609317,8612381.9535471369,861842.094215233,21530954.883867834,1.4263370529342266E+17,2.1802580666280187E+18,287324049.54568994,8.0576760998983737E-10,114929619.81827599,213212.8708809145,3553.5478480152419,539.03696968869895,null,172394429.72741395,25859164.459112093,77577493.377336279,25859164.459112093,8619721.4863706976]
[487,359111.36065512005,8971493.3142022565,897778.40163780015,22428733.285505634,1.5261806466396224E+17,2.3328761312919808E+18,295130643.9718464,7.7351431397501056E-10,118052257.58873855,216837.48968589003,3613.9581614315007,544.42733938558592,null,177078386.38310784,26561757.957466174,79685273.872398525,26561757.957466174,8853919.3191553932]
[488,374085.25940299907,9345578.5736052562,935213.14850749774,23363946.434013132,1.6330132919043962E+17,2.4961774604824202E+18,303149343.56856138,7.4255205409879565E-10,121259737.42742455,220523.72701055015,3675.3954501758358,549.87161277944176,null,181889606.14113683,27283440.921170522,81850322.763511568,27283440.921170522,9094480.3070568424]
[489,389683.52615556249,9735262.0997608192,974208.81538890617,24338155.249402039,1.747324222337704E+17,2.6709098827161907E+18,311385911.2333191,7.1282915271837362E-10,124554364.49332766,224272.63036972948,3737.8771728288248,555.37032890723617,null,186831546.73999143,28024732.010998715,84074196.032996148,28024732.010998715,9341577.336999571]
[490,405932.19524173404,10141194.295002554,1014830.488104335,25352985.737506375,1.8696369179013434E+17,2.857873574506325E+18,319846266.44152838,6.8429600074554375E-10,127938506.57661137,228085.26508601487,3801.4210847669146,560.92403219630853,null,191907759.86491701,28786163.97973755,86358491.93921265,28786163.97973755,9595387.9932458512]
[491,422858.38654619531,10564052.681548748,1057145.9663654882,26410131.703871861,2.0005115021544374E+17,3.057924724721769E+18,328536489.50074464,6.5690497484654208E-10,131414595.80029789,231962.7145924771,3866.0452432079519,566.53327251827159,null,197121893.70044675,29568284.055067014,88704852.165201038,29568284.055067014,9856094.6850223374]
[492,440490.35077390214,11004543.032322651,1101225.8769347554,27511357.580806617,2.1405473073052483E+17,3.2719794554522936E+18,337462825.92047989,6.3061035795618923E-10,134985130.36819196,235906.08074054919,3931.7680123424866,{"$f":"M492*1.01","v":572.19860524345427},null,202477695.55228794,30371654.332843188,91114962.998529568,30371654.332843188,10123884.777614398]
[493,458857.516601999,11463400.548924649,1147143.7915049975,28658501.372311614,2.2903856188166157E+17,3.5010180173339551E+18,346631690.90073931,6.0536826297369978E-10,138652676.36029571,239916.48411313852,3998.6080685523084,577.92059129588881,null,207979014.5404436,31196852.181066539,93590556.543199629,31196852.181066539,10398950.72702218]
[494,477990.53979783191,11941391.08872248,1194976.3494945797,29853477.721806195,2.4507126121337789E+17,3.7460892785473331E+18,356049673.94251239,5.811365595127992E-10,142419869.57700494,243995.06434306185,4066.5844057176973,583.69979720884771,null,213629804.36550745,32044470.654826116,96133411.964478359,32044470.654826116,10681490.218275374]
[495,497921.35438503872,12439312.443107519,1244803.3859625969,31098281.107768793,2.6222624949831437E+17,4.0083155280456474E+18,365723543.58353043,5.578748035838896E-10,146289417.43341216,248142.98043689385,4135.7163406148975,589.53679518093622,null,219434126.15011826,32915118.922517739,98745356.767553225,32915118.922517739,10971706.307505913]
[496,518683.22594311711,12957995.669050636,1296708.0648577928,32394989.172626585,2.8058208696319638E+17,4.2888976150088438E+18,375660252.26269484,5.355441700909007E-10,150264100.90507793,252361.41110432099,4206.0235184053499,595.43216313274559,null,225396151.3576169,33809422.703642532,101428268.11092761,33809422.703642532,11269807.567880847]
[497,540310.80712942884,13498306.476180065,1350777.017823572,33745766.190450154,3.0022283305062016E+17,4.5891204480594637E+18,385866941.31667215,5.1410738803015928E-10,154346776.52666891,256651.55509309444,4277.5259182182408,601.38648476407309,null,231520164.79000324,34728024.718500488,104184074.15550146,34728024.718500488,11576008.239500163]
[498,562840.19551631063,14061146.671696376,1407100.4887907766,35152866.679240927,3.2123843136416358E+17,4.9103588794236273E+18,396350946.11224627,4.9352867828312022E-10,158540378.44489849,261014.63152967702,4350.2438588279501,607.40034961171386,null,237810567.66734779,35671585.150102168,107014755.4503065,35671585.150102168,11890528.383367389]
[499,586308.99383982446,14647455.665536201,1465772.4845995612,36618639.163840488,3.4372512155965504E+17,5.2540840009832827E+18,407119801.31811595,4.7377369389913317E-10,162847920.52724636,265451.88026568148,4424.1980044280244,613.47435310783101,null,244271880.79086959,36640782.118630439,109922346.35589132,36640782.118630439,12213594.03954348]
[500,610756.3727607039,15258212.038296904,1526890.9319017597,38145530.095742248,3.6778588006883091E+17,5.6218698810521139E+18,418181246.31992906,4.548094627685725E-10,167272498.52797163,269964.562230198,4499.4093705033001,619.60909663890936,null,250908747.79195744,37636312.168793611,112908936.50638086,37636312.168793611,12545437.389597872]
[501,636223.13624225138,15894435.174539156,1590557.8406056284,39736087.936347879,3.9353089167364909E+17,6.0154007727257631E+18,429543230.78244144,4.3660433259064906E-10,171817292.31297657,274553.95978811133,4575.8993298018559,625.80518760529844,null,257725938.46946487,38658890.770419732,115976672.3112592,38658890.770419732,12886296.923473245]
[502,662751.78965430171,16557186.964193458,1656879.4741357544,41392967.410483636,4.2107805409080454E+17,6.4364788268165673E+18,441213920.36280036,4.1912791804405324E-10,176485568.14512014,279221.37710450921,4653.6896184084871,632.06323948135139,null,264728352.21768022,39709252.832652032,119127758.4979561,39709252.832652032,13236417.610884011]
[503,690386.61071692395,17247573.57491038,1725966.5267923099,43118933.937275946,4.505535178771609E+17,6.8870323446937283E+18,453201702.57905775,4.0235105007225245E-10,181280681.03162307,283968.14051528589,4732.8023419214314,638.3838718761649,null,271921021.54743469,40788153.232115202,122364459.69634561,40788153.232115202,13596051.077371735]
[504,719173.72340226918,17966747.298312649,1797934.308505673,44916868.245781615,4.8209226412856218E+17,7.3691246088222904E+18,465515192.83813065,3.8624572719879953E-10,186206077.13525224,288795.59890404571,4813.2599817340952,644.7677105949266,null,279309115.70287842,41896367.355431758,125689102.0662953,41896367.355431758,13965455.785143921]
[505,749161.1749179085,18715908.473230559,1872902.9372947712,46789771.183076389,5.1583872261756154E+17,7.8849633314398515E+18,478163240.62754256,3.7078506879139336E-10,191265296.25101703,293705.12408541446,4895.0854014235747,651.21538770087591,null,286897944.37652552,43034691.65647883,129104074.96943648,43034691.65647883,14344897.218826277]
[506,780399.01590015483,19496307.489130713,1950997.539750387,48740768.722826779,5.5194743320079085E+17,8.436910764640642E+18,491154935.87539291,3.5594327019668747E-10,196461974.3501572,298698.11119486653,4978.3018532477754,657.72754157788472,null,294692961.52523571,44203944.228785358,132611832.68635607,44203944.228785358,14734648.076261787]
[507,812939.38395121112,20309246.873081923,2032348.4598780277,50773117.182704806,5.9058375352484621E+17,9.0274945181654886E+18,504499615.48312753,3.4169555967096398E-10,201799846.19325098,303775.97908517922,5062.9329847529871,664.30481699366362,null,302699769.28987658,45404965.393481486,136214896.18044448,45404965.393481486,15134988.46449383]
[508,846836.59065957554,21156083.463741496,2117091.4766489388,52890208.659353748,6.3192461627158554E+17,9.6594191344370749E+18,518206870.03580385,3.2801815703478875E-10,207282748.01432157,308940.17072962725,5149.0028454937874,670.94786516360023,null,310924122.02148229,46638618.303222343,139915854.90966704,46638618.303222343,15546206.101074114]
[509,882147.21224894212,22038230.67599044,2205368.0306223552,55095576.689976104,6.7615933941059661E+17,1.0335578473847671E+19,532286550.69467682,3.1488823398263917E-10,212914620.27787068,314192.15363203088,5236.5358938671816,677.65734381523623,null,319371930.4168061,47905789.562520914,143717368.68756276,47905789.562520914,15968596.520840306]
[510,918930.18400690088,22957160.85999734,2297325.4600172522,57392902.149993353,7.2349049316933837E+17,1.1059068967017009E+19,546748776.27705097,3.022838759812593E-10,218699510.51082039,319533.42024377536,5325.5570040629227,684.43391725338859,null,328049265.76623058,49207389.864934586,147622169.59480378,49207389.864934586,16402463.28831153]
[511,957246.89865103527,23914407.758648373,2393117.2466275883,59786019.396620944,7.7413482769119206E+17,1.1833203794708201E+19,561603940.52849841,2.9018404569314959E-10,224641576.21139935,324965.4883879195,5416.0914731319917,691.27825642592245,null,336962364.31709909,50544354.647564866,151633063.9426946,50544354.647564866,16848118.215854954]
[512,997161.30879660416,24911569.067444976,2492903.2719915104,62278922.668612458,8.2832426562957555E+17,1.2661528060337777E+19,576862719.59265769,2.7856854786414248E-10,230745087.83706307,330489.90169051412,5508.1650281752354,698.19103899018171,null,346117631.75559461,51917644.763339192,155752934.29001758,51917644.763339192,17305881.587779731]
[513,1038740.033696824,25950309.101141799,2596850.0842420598,64875772.752854519,8.8630696422364595E+17,1.3547835024561422E+19,592536079.68399012,2.6741799561645904E-10,237014431.87359607,336108.23001925286,5601.803833654214,705.17294938008354,null,355521647.81039405,53328247.171559103,159984741.51467732,53328247.171559103,17776082.390519705]
[514,{"$f":"D515/2.5","v":1082052.4704339127},27032361.571575712,{"$f":"F515/J515/60/24","v":2705131.1760847815},67580903.928939298,9.4834845171930125E+17,1.4496183476280723E+19,608635284.96900403,{"$f":"J515/F515","v":2.5671377809098892E-10},{"$f":"K515*M515","v":243454113.98760164},{"$f":"L515*60","v":341822.06992958009},5697.034498826335,712.22467887388439,null,{"$f":"H515-J515","v":365181170.9814024},{"$f":"O515*0.15","v":54777175.64721036},{"$f":"O515*0.45","v":164331526.94163108},{"$f":"O515*0.15","v":54777175.64721036},{"$f":"O515*0.05","v":18259058.54907012}]
[515,1127170.9097464748,{"$f":"B516+C515","v":28159532.481322188},2817927.2743661869,70398831.203305483,{"$f":"F515*1.07","v":1.0147328433396524E+18},{"$f":"F516+G515","v":1.5510916319620377E+19},{"$f":"F516/B516/60/24","v":625171905.66161191},2.4643802938478607E-10,250068762.26464474,347633.0451183829,{"$f":"L515*1.017","v":5793.8840853063821},719.34692566262322,null,375103143.39696717,56265471.509545073,168796414.52863523,56265471.509545073,18755157.16984836]
[516,1174170.6566865542,29333703.138008744,2935426.6417163857,{"$f":"D517+E516","v":73334257.845021874},1.0857641423734281E+18,1.6596680461993804E+19,642157826.33843791,2.3657359873193522E-10,256863130.53537515,353542.80688539543,5892.38011475659,726.54039491924948,null,385294695.8030628,57794204.370459415,173382613.11137825,57794204.370459415,19264734.790153142]
[517,1223130.1563077322,30556833.294316474,3057825.3907693308,76392083.235791206,1.1617676323395681E+18,1.7758448094333372E+19,659605254.48005319,2.2710402187802044E-10,263842101.79202127,359553.03460244712,5992.5505767074519,733.80579886844203,null,395763152.68803191,59364472.903204784,178093418.70961437,59364472.903204784,19788157.634401597]
[518,1274131.124594053,31830964.418910526,3185327.8114851327,79577411.047276333,1.243091366603338E+18,1.9001539460936712E+19,677526729.2442764,2.1801349360041706E-10,271010691.69771051,365665.43619068869,6094.4239365114781,741.14385685712648,null,406516037.54656589,60977405.631984882,182932216.89595467,60977405.631984882,20325801.877328295]
[519,1327258.6848483088,33158223.103758834,3318146.7121207719,82895557.759397104,1.3301077622655718E+18,2.0331647223202284E+19,695935130.47784317,2.0928684132854235E-10,278374052.19113725,371881.74860593036,6198.0291434321725,748.55529542569775,null,417561078.28670591,62634161.743005887,187902485.22901767,62634161.743005887,20878053.914335296]
[520,1382601.5097673126,34540824.613526151,3456503.7744182814,86352061.533815384,1.423215305624162E+18,2.1754862528826446E+19,714843687.97292614,2.0090949982003629E-10,285937475.18917048,378203.73833223118,6303.3956388705192,756.0408483799547,null,428906212.78375566,64335931.917563349,193007795.75269005,64335931.917563349,21445310.639187783]
[521,1440251.9694413044,35981076.582967453,3600629.9236032609,89952691.45741865,1.5228403770178534E+18,2.3277702905844298E+19,734265990.97515047,1.9286748685060434E-10,293706396.39006019,384633.20188387908,6410.5533647313177,763.6012568637542,null,440559594.58509028,66083939.187763542,198251817.56329063,66083939.187763542,22027979.729254514]
[522,1500306.2855244956,37481382.868491948,3750765.7138112392,93703457.171229884,1.6294392034091034E+18,2.4907142109253403E+19,754215997.94994509,1.8514737987694878E-10,301686399.17997807,391171.96631590498,6519.5327719317493,771.23726943239171,null,452529598.76996702,67879439.815495044,203638319.44648516,67879439.815495044,22626479.938498352]
[523,1562864.6918340789,39044247.560326025,3907161.7295851973,97610618.900815085,1.7434999476477407E+18,2.6650642056901145E+19,774708046.61424506,1.7773629363383686E-10,309883218.64569801,397821.8897432753,6630.364829054588,778.94964212671562,null,464824827.96854705,69723724.195282057,209171172.58584619,69723724.195282057,23241241.398427352]
[524,1628031.6016457495,40672279.161971778,4070079.0041143741,101680697.90492946,1.8655449439830828E+18,2.8516187000884228E+19,795756864.24075401,1.7062185862791415E-10,318302745.69630158,404584.86186891096,6743.0810311485156,786.73913854798275,null,477454118.54445243,71618117.781667858,214854353.3450036,71618117.781667858,23872705.927222624]
[525,1695915.7819649645,42368194.943936743,4239789.454912411,105920487.35984187,1.9961330900618988E+18,3.0512320090946126E+19,817377578.2421751,1.6379220049236875E-10,326951031.29687011,411462.80452068237,6857.7134086780397,794.60652993346264,null,490426546.94530499,73563982.041795745,220691946.12538725,73563982.041795745,24521327.347265251]
[526,1766630.5350648011,44134825.479001544,4416576.337662003,110337063.69750386,2.1358624063662318E+18,3.2648182497312358E+19,839585727.04301512,1.5723592016798727E-10,335834290.81720603,418457.67219753395,6974.2945366255653,802.55259523279722,null,503751436.2258091,75562715.433871359,226688146.30161411,75562715.433871359,25187571.811290458]
[527,1840293.8875934246,45975119.36659497,4600734.7189835617,114937798.41648743,2.2853727748118682E+18,3.4933555272124228E+19,862397271.2467736,1.5094207487752473E-10,344958908.49870944,425571.452624892,7092.8575437481995,810.57812118512516,null,517438362.74806416,77615754.412209615,232847263.23662889,77615754.412209615,25871918.137403209]
[528,1917028.7875667755,47892148.154161744,4792571.9689169386,119730370.38540436,2.4453488690486989E+18,3.7378904141172924E+19,885828605.10654819,1.4490015986163277E-10,354331442.04261935,432806.16731951508,7213.4361219919183,818.68390239697646,null,531497163.06392884,79724574.459589317,239173723.378768,79724574.459589317,26574858.153196443]
[529,1996963.309575289,49889111.463737033,4992408.2739382228,124722778.65934259,2.6165232898821079E+18,3.9995427431055032E+19,909896568.30729342,1.391000908458629E-10,363958627.32291728,440163.8721639468,7336.06453606578,826.87074142094627,null,545937940.98437619,81890691.147656426,245672073.44296929,81890691.147656426,27296897.049218811]
[530,2080230.8685471341,51969342.332284167,5200577.1713678353,129923355.83071043,2.7996799201738557E+18,4.2795107351228891E+19,934618458.06820238,1.3353218720948127E-10,373847383.22728091,447646.65799073386,7460.7776331788973,835.13944883515569,null,560771074.8409214,84115661.226138204,252346983.67841464,84115661.226138204,28038553.742046073]
[531,2166970.4424247537,54136312.774708919,5417426.1060618842,135340781.93677232,2.995657514586026E+18,4.5790764865814921E+19,960012041.57391536,1.2818715582800269E-10,384004816.62956613,455256.65117657627,7587.6108529429375,843.49084332350731,null,576007224.94434929,86401083.741652384,259203251.2249572,86401083.741652384,28800361.247217465]
[532,2257326.804126373,56393639.578835294,5643317.0103159323,140984098.94708824,3.2053535406070482E+18,4.8996118406421971E+19,986095568.74347866,1.2305607556247615E-10,394438227.4973914,462996.01424657798,7716.6002374429663,851.92575175674244,null,591657341.24608731,88748601.186913088,266245803.56073931,88748601.186913088,29582867.062304366]
[533,2351450.7631796291,58745090.342014924,5878626.9079490723,146862725.8550373,3.4297282884495416E+18,5.2425846694871515E+19,1012887785.3462387,1.181303823696342E-10,405155114.13849545,470866.94648876972,7847.7824414794959,860.44500927430988,null,607732671.20774329,91159900.681161493,273479702.04348451,91159900.681161493,30386633.560387164]
[534,2449499.4174306137,61194589.759445541,6123748.5435765339,152986474.39861384,3.6698092686410097E+18,5.6095655963512521E+19,1040407946.4740958,1.1340185500805344E-10,416163178.58963841,478871.68457907881,7981.1947429846468,869.04945936705303,null,624244767.88445735,93636715.182668597,280910145.54800582,93636715.182668597,31212238.39422287]
[535,2551636.4152484564,63746226.174693994,6379091.0381211406,159365565.43673497,3.9266959174458803E+18,6.0022351880958403E+19,1068675830.3797969,1.0886260131646938E-10,427470332.15191883,487012.5032169231,8116.8750536153848,877.7399539607236,null,641205498.22787809,96180824.734181717,288542474.20254517,96180824.734181717,32060274.911393907]
[536,2658032.2286630725,66404258.403357066,6645080.5716576809,166010646.00839266,4.201564631667092E+18,6.4223916512625492E+19,1097711752.691216,1.0450504504134378E-10,439084701.07648641,495291.71577161073,8254.8619295268454,886.51735350033084,null,658627051.61472964,98794057.742209449,296382173.22662836,98794057.742209449,32931352.580736484]
[537,2768864.4378919634,69173122.841249034,6922161.0947299087,172932807.10312256,4.4956741558837888E+18,6.8719590668509282E+19,1127536581.0118363,1.0032191319169818E-10,451014632.40473449,503711.67493972805,8395.1945823288006,895.38252703533419,null,676521948.6071018,101478292.29106526,304434876.87319583,101478292.29106526,33826097.430355094]
[538,2884318.0277309506,72057440.86897999,7210795.0693273768,180143602.17244995,4.8103713467956541E+18,7.3529962015304933E+19,1158171749.917928,9.6306223900109016E-11,463268699.96717119,512274.77341370343,8537.9128902283901,904.33635230568757,null,694903049.95075679,104235457.49261351,312706372.47784054,104235457.49261351,34745152.497537844]
[539,3004585.6963035497,75062026.565283537,7511464.2407588745,187655066.41320881,5.1470973410713498E+18,7.8677059356376285E+19,1189639276.363198,9.245127476960278E-11,475855710.5452792,520983.44456173637,8683.0574093622727,913.37971582874445,null,713783565.81791878,107067534.87268782,321202604.61806345,107067534.87268782,35689178.290895939]
[540,3129868.1766842874,78191894.741967827,7824670.441710718,195479736.85491952,5.507394154946345E+18,8.4184453511322632E+19,1221961775.5019858,8.8750631687002669E-11,488784710.2007944,529840.16311928583,8830.669385321431,922.51351298703196,null,733177065.30119133,109976559.7951787,329929679.38553613,109976559.7951787,36658853.265059568]
[541,3260374.571932775,81452269.313900605,8150936.429831937,203630673.28475147,5.8929117457925898E+18,9.0077365257115222E+19,1255162476.9423747,8.5198118084054694E-11,502064990.77694994,538847.44589231361,8980.7907648718938,931.73864811690225,null,753097486.16542482,112964622.92481372,338893868.77444118,112964622.92481372,37654874.308271244]
[542,3396322.7040977338,84848592.017998338,8490806.7602443341,212121480.04499581,6.3054155679980718E+18,9.6382780825113297E+19,1289265241.4408991,8.1787804628409753E-11,515706096.57635957,548007.85247248283,9133.4642078747147,941.05603459807128,null,773559144.86453962,116033871.72968094,348101615.18904287,116033871.72968094,38677957.243226983]
[543,3537939.4777734713,88386531.49577181,8844848.6944336779,220966328.7394295,6.7467946577579377E+18,1.0312957548287123E+20,1324294578.050848,7.8513999327255718E-11,529717831.22033918,557323.98596451501,9288.7330994085842,950.46659494405196,null,794576746.83050883,119186512.02457632,357559536.07372898,119186512.02457632,39728837.341525443]
[544,3685461.258815594,92071992.754587412,9213653.147038985,230179981.8864685,7.2190702838009938E+18,1.1034864576667222E+20,1360275661.73649,7.5371238027081555E-11,544110264.69459593,566798.49372591183,9446.6415620985299,959.97126089349251,null,816165397.04189408,122424809.5562841,367274428.66885233,122424809.5562841,40808269.85209471]
[545,3839134.2688480848,95911127.023435503,9597835.6721202116,239777817.55858871,7.7244052036670638E+18,1.1807305097033928E+20,1397234351.4658697,7.2354275293717134E-11,558893740.58634794,576434.06811925222,9607.2344686542037,969.57097350242748,null,838340610.87952173,125751091.63192825,377253274.8957848,125751091.63192825,41917030.543976091]
[546,3999214.99622015,99910342.01965566,9998037.4905503746,249775855.04913908,8.2651135679237591E+18,1.2633816453826304E+20,1435197208.7951975,6.9458075657427491E-11,574078883.51807892,586233.44727727945,9770.5574546213247,979.26668323745173,null,861118325.27711856,129167748.79156777,387503246.37470335,129167748.79156777,43055916.263855934]
[547,4165970.6240987964,104076312.64375445,10414926.560246991,260190781.60938609,8.843671517678423E+18,1.3518183605594146E+20,1474191516.958163,6.6677805208448405E-11,589676606.78326511,596199.41588099313,9936.6569313498858,989.05935006982622,null,884514910.17489791,132677236.52623469,398031709.57870406,132677236.52623469,44225745.508744895]
[548,4339679.4764116099,108415992.12016606,10849198.691029025,271039980.3004151,9.4627285239159132E+18,1.4464456457985738E+20,1514245300.4739161,6.4008823528936384E-11,605698120.18956637,606334.80595096992,10105.580099182833,998.94994357052451,null,908547180.28434968,136282077.04265246,408846231.12795734,136282077.04265246,45427359.014217488]
[549,4520631.4823840475,112936623.6025501,11301578.705960119,282341559.00637519,1.0125119520590027E+19,1.547696841004474E+20,1555387345.2877922,6.1446675947866902E-11,622154938.11511683,616642.49765213637,10277.37496086894,1008.9394430062298,null,933232407.17267537,139984861.0759013,419954583.22770393,139984861.0759013,46661620.358633772]
[550,4709128.6604465982,117645752.2629967,11772821.651116496,294114380.65749168,1.0833877887031329E+19,1.6560356198747872E+20,1597647219.4592609,5.8987086105953687E-11,639058887.78370452,627125.42011222267,10452.090335203711,1019.0288374362921,null,958588331.67555642,143788249.75133345,431364749.25400043,143788249.75133345,47929416.583777823]
[551,4905485.6223194413,122551237.88531615,12263714.055798603,306378094.71329027,1.1592249339123522E+19,1.7719581132660225E+20,1641055294.4119689,5.6625948818179843E-11,656422117.76478767,637786.55225413037,10629.775870902173,1029.219125810655,null,984633176.64718127,147694976.4970772,443084929.49123156,147694976.4970772,49231658.832359068]
[552,5110030.0981159899,127661267.98343214,12775075.245289976,319153169.95858026,1.2403706792862169E+19,1.895995181194644E+20,1685642766.7611427,5.4359323222027836E-11,674257106.70445693,648628.92364245048,10810.482060707509,1039.5113170687616,null,1011385660.0566858,151707849.00850287,455123547.02550864,151707849.00850287,50569283.00283429]
[553,5323103.4833417172,132984371.46677387,13307758.708354292,332460928.66693455,1.3271966268362523E+19,2.0287148438782693E+20,1731441680.7340424,5.2183426199972265E-11,692576672.29361701,659655.61534437211,10994.260255739535,1049.9064302394493,null,1038865008.4404254,155829751.26606381,467489253.79819143,155829751.26606381,51943250.42202127]
[554,5545061.408701227,138529432.87547511,13862653.521753067,346323582.18868762,1.4201003907147901E+19,2.1707248829497482E+20,1778484951.1995859,5.0094626065257474E-11,711393980.47983444,670869.76080522628,11181.162680087105,1060.4054945418438,null,1067090970.7197515,160063645.60796273,480190936.82388818,160063645.60796273,53354548.535987578]
[555,5776274.3336646436,144305707.20913976,14440685.834161609,360764268.0228492,1.5195074180648255E+19,2.3226756247562309E+20,1826806387.3236792,4.8089436500421041E-11,730722554.92947161,682274.54673891515,11371.242445648586,1071.0095494872623,null,1096083832.3942075,164412574.85913113,493237724.57739335,164412574.85913113,54804191.619710378]
[556,6017128.1647839881,150322835.37392375,15042820.41195997,375807088.43480915,1.6258729373293634E+19,2.4852629184891673E+20,1876440716.8672636,4.6164510738446245E-11,750576286.74690533,693873.21403347666,11564.553567224611,{"$f":"M556*1.01","v":1081.7196449821349},null,1125864430.1203582,168879664.51805374,506638993.55416119,168879664.51805374,56293221.506017916]
[557,6268024.8997915331,156590860.27371529,15670062.249478832,391477150.68428797,1.7396840429424189E+19,2.6592313227834091E+20,1927423611.1445465,4.4316635976831607E-11,770969444.45781863,705669.05867204571,11761.150977867428,1092.5368414319562,null,1156454166.686728,173468125.0030092,520404375.0090276,173468125.0030092,57822708.3343364]
[558,6529383.2985551981,163120243.57227048,16323458.246387996,407800608.93067598,1.8614619259483886E+19,2.8453775153782479E+20,1979791710.6593435,4.2542728015254303E-11,791916684.26373744,717665.43266947044,11961.090544491173,1103.4622098462758,null,1187875026.395606,178181253.9593409,534543761.87802273,178181253.9593409,59393751.319780305]
[559,6801639.5820108298,169921883.15428132,17004098.955027074,424804707.88570309,1.991764260764776E+19,3.0445539414547254E+20,2033582651.4379575,4.0839826107877336E-11,813433060.57518303,729865.74502485129,12164.429083747522,1114.4968319447385,null,1220149590.8627744,183022438.62941614,549067315.88824844,183022438.62941614,61007479.54313872]
[560,7085248.1602379251,177007131.31451926,17713120.400594812,442517828.28629792,2.1311877590183105E+19,3.2576727173565566E+20,2088835092.0775263,3.9205088021708742E-11,835534036.83101058,742273.46269027365,12371.224378171228,1125.6418002641858,null,1253301055.2465158,187995158.28697735,563985474.86093211,187995158.28697735,62665052.762325794]
[561,7380682.3908939911,184387813.70541325,18451705.977234978,460969534.26353288,2.2803709021495923E+19,3.4857098075715161E+20,2145588741.5292728,3.7635785292765012E-11,858235496.611709,754892.11155600823,12581.535192600137,1136.8982182668276,null,1287353244.9175639,193102986.73763457,579308960.21290374,193102986.73763457,64367662.245878197]
[562,7688435.3692734139,192076249.07468668,19221088.423183534,480190622.68671644,2.4399968653000638E+19,3.7297094941015225E+20,2203884387.6366224,3.6129298672120964E-11,881553755.05464911,767725.27745246026,12795.421290874338,1148.2672004494959,null,1322330632.5819733,198349594.88729599,595048784.661888,198349594.88729599,66116531.629098669]
[563,8009020.751309474,200085269.82599616,20022551.878273685,500213174.5649901,2.6107966458710684E+19,3.9907891586886291E+20,2263763926.44871,3.4683113754245316E-11,905505570.57948387,780776.607169152,13012.9434528192,1159.749872453991,null,1358258355.869226,203738753.38038388,611216260.14115167,203738753.38038388,67912917.793461308]
[564,8342973.6108931722,208428243.43688932,20857434.02723293,521070608.59222305,2.7935524110820434E+19,4.2701443997968335E+20,2325270392.3303208,3.3294816780325377E-11,930108156.93212831,794049.8094910275,13234.163491517125,1171.3473711785309,null,1395162235.3981924,209274335.30972886,627823005.92918658,209274335.30972886,69758111.76990962]
[565,8690851.3329397216,217119094.76982903,21727128.332349304,542797736.92457235,2.9891010798577865E+19,4.5690545077826119E+20,2388447988.8899355,3.1962090609576461E-11,955379195.55597425,807548.65625237487,13459.144270872916,1183.0608448903163,null,1433068793.3339612,214960319.00009418,644880957.00028253,214960319.00009418,71653439.666698068]
[566,9053234.5436933562,226172329.3135224,22633086.359233391,565430823.28380573,3.1983381554478318E+19,4.8888883233273951E+20,2453342120.7480745,3.0682710851811826E-11,981336848.29922998,821276.98340866517,13687.949723477754,1194.8914533392194,null,1472005272.4488444,220800790.86732665,662402372.60197997,220800790.86732665,73600263.622442231]
[567,9430728.0798230991,235603057.3933455,23576820.199557748,589007643.48336351,3.4222218263291802E+19,5.2311105059603133E+20,2519999426.1687994,2.9454542154818268E-11,1007999770.4675199,835238.69212661241,13920.644868776873,1206.8403678726115,null,1511999655.7012796,226799948.35519195,680399845.06557584,226799948.35519195,75599982.785063982]
[568,9823961.9979270399,245427019.39127254,24559904.9948176,613567548.47818112,3.6617773541722231E+19,5.5972882413775356E+20,2588467810.577806,2.8275534640340812E-11,1035387124.2311223,849437.74989276472,14157.295831546078,1218.9087715513376,null,1553080686.3466837,232962102.95200256,698886308.8560077,232962102.95200256,77654034.31733419]
[569,10233592.626129983,255660612.01740253,25583981.565324958,639151530.04350603,3.9181017689642787E+19,5.9890984182739632E+20,2658796480.9912043,2.7143720482727915E-11,1063518592.3964816,863878.19164094166,14397.96986068236,1231.0978592668509,null,1595277888.5947227,239291683.28920841,717875049.86762524,239291683.28920841,79763894.429736137]
[570,10660303.659529662,266320915.67693219,26650759.148824155,665802289.19233012,4.1923688927917785E+19,6.4083353075531409E+20,2731035981.3797355,2.6057210624526756E-11,1092414392.5518939,878564.12089883757,14642.73534831396,1243.4088378595195,null,1638621588.8278415,245793238.32417622,737379714.9725287,245793238.32417622,81931079.441392079]
[571,11104807.30131988,277425722.97825205,27762018.253299702,693564307.44562984,4.485834715287203E+19,6.8569187790818614E+20,2805238228.9938216,2.5014191623546862E-11,1122095291.5975287,893499.71095411771,14891.661849235295,1255.8429262381146,null,1683142937.3962929,252471440.60944393,757414321.82833183,252471440.60944393,84157146.869814649]
[572,11567845.451495148,288993568.42974722,28919613.628737871,722483921.07436776,4.7998431453573079E+19,7.3369030936175916E+20,2881456551.6755848,2.401292262612956E-11,1152582620.6702337,908689.20604033768,15144.820100672294,1268.4013555004958,null,1728873931.0053511,259331089.65080264,777993268.95240796,259331089.65080264,86443696.550267562]
[573,12050190.945120877,301043759.37486809,30125477.362802193,752609398.43716991,5.1358321655323197E+19,7.8504863101708232E+20,2959745726.1846099,2.3051732461571492E-11,1183898290.4738438,924136.92254302336,15402.282042383722,1281.0853690555007,null,1775847435.7107661,266377115.35661489,799131346.06984472,266377115.35661489,88792371.785538316]
[574,12552648.842235798,313596408.2171039,31381622.105589494,783991020.54275942,5.4953404171195826E+19,8.400020351882781E+20,3040162017.5650444,2.2129016852852689E-11,1216064807.0260177,939847.25022625457,15664.120837104243,1293.8962227460556,null,1824097210.5390267,273614581.580854,820843744.74256206,273614581.580854,91204860.526951343]
[575,13076057.77153958,326672465.98864347,32690144.428848948,816681164.9716084,5.8800142463179538E+19,8.9880217765145765E+20,3122763219.5822854,2.1243235739013731E-11,1249105287.8329144,955824.65348010079,15930.410891335014,1306.8351849735161,null,1873657931.7493711,281048689.76240563,843146069.28721702,281048689.76240563,93682896.587468565]
[576,13621291.330108305,340293757.31875175,34053228.325270765,850734393.29687917,6.2916152435602113E+19,9.6171833008705975E+20,3207608696.258337,2.0392910704712833E-11,1283043478.5033348,972073.67258926248,16201.227876487708,1319.9035368232512,null,1924565217.7550023,288684782.66325033,866054347.98975098,288684782.66325033,96228260.887750119]
[577,14189259.541474041,354483016.8602258,35473148.853685103,886207542.15056431,6.732028310609426E+19,1.029038613193154E+21,3294759424.535675,1.9576622512672782E-11,1317903769.81427,988598.92502327985,16476.648750387998,1333.1025721914837,null,1976855654.721405,296528348.20821077,889585044.62463224,296528348.20821077,98842782.73607026]
[578,{"$f":"D579/2.5","v":14780910.374502003},369263927.2347278,{"$f":"F579/J579/60/24","v":36952275.936255008},923159818.08681929,7.203270292352086E+19,1.1010713161166748E+21,3384278038.1003098,{"$f":"J579/F579","v":1.8793008734899159E-11},{"$f":"K579*M579","v":1353711215.2401237},{"$f":"L579*60","v":1005405.1067486756},16756.751779144593,1346.4335979133984,null,{"$f":"H579-J579","v":2030566822.8601861},{"$f":"O579*0.15","v":304585023.42902792},{"$f":"O579*0.45","v":913755070.28708375},{"$f":"O579*0.15","v":304585023.42902792},{"$f":"O579*0.05","v":101528341.14300931}]
[579,15397231.325600579,{"$f":"B580+C579","v":384661158.56032836},38493078.314001448,961652896.40082073,{"$f":"F579*1.07","v":7.707499212816733E+19},{"$f":"F580+G579","v":1.1781463082448422E+21},{"$f":"F580/B580/60/24","v":3476228872.3954949},1.8040761478716229E-11,1390491548.9581978,1022496.9935634031,{"$f":"L579*1.017","v":17041.616559390051},1359.8979338925324,null,2085737323.4372971,312860598.51559454,938581795.54678369,312860598.51559454,104286866.17186487]
[580,16039251.066904822,400700409.62723321,40098127.667262055,{"$f":"D581+E580","v":1001751024.0680828},8.2470241577139044E+19,1.2606165498219814E+21,3570678010.858479,1.7318625203825183E-11,1428271204.3433917,1039879.4424539807,17331.324040899679,1373.4969132314577,null,2142406806.5150874,321361020.97726309,964083062.93178928,321361020.97726309,107120340.32575437]
[581,16708041.16318444,417408450.79041767,41770102.9079611,1043521126.9760439,8.8243158487538778E+19,1.3488597083095203E+21,3667693332.4135036,1.6625394626741223E-11,1467077332.9654014,1057557.3929756982,17625.956549594972,1387.2318823637722,null,2200615999.448102,330092399.91721529,990277199.75164592,330092399.91721529,110030799.97240511]
[582,17404717.860341862,434813168.65075952,43511794.650854655,1087032921.6268985,9.4420179581666492E+19,1.4432798878911868E+21,3767344560.2551785,1.5959912709111944E-11,1506937824.1020713,1075535.8686562851,17925.597810938085,1401.1042011874099,null,2260406736.1531072,339061010.42296606,1017183031.2688982,339061010.42296606,113020336.80765536]
[583,18130443.948485449,452943612.59924495,45326109.871213622,1132359031.4981122,1.0102959215238316E+20,1.54430948004357E+21,3869703311.9573102,1.5321068726559359E-11,1547881324.7829244,1093819.9784234418,18230.332973724031,1415.1152431992841,null,2321821987.174386,348273298.07615787,1044819894.2284738,348273298.07615787,116091099.3587193]
[584,18886430.702687409,471830043.30193233,47216076.756718524,1179575108.2548308,1.0810166360304999E+20,1.6524111436466199E+21,3974843150.943193,1.4707796414822409E-11,1589937260.3772767,1112414.9180566403,18540.248634277337,1429.266395631277,null,2384905890.5659161,357735883.58488739,1073207650.7546623,357735883.58488739,119245294.52829581]
[585,19673939.904665764,491503983.2065981,49184849.761664413,1228759958.0164952,1.1566878005526349E+20,1.7680799237018833E+21,4082839639.3543181,1.411907219010573E-11,1633135855.7417271,1131325.9716636031,18855.43286106005,1443.5590595875897,null,2449703783.6125908,367455567.54188859,1102366702.6256659,367455567.54188859,122485189.18062955]
[586,20494285.94876444,511998269.15536255,51235714.871911101,1279995672.8884063,1.2376559465913195E+20,1.8918455183610154E+21,4193770392.3555741,1.3553913440664393E-11,1677508156.9422297,1150558.5131818843,19175.97521969807,1457.9946501834656,null,2516262235.4133444,377439335.31200165,1132318005.9360051,377439335.31200165,125813111.77066723]
[587,21348838.035746716,533347107.19110924,53372095.089366786,1333367767.977773,1.3242918628527119E+20,2.0242747046462866E+21,4307715133.9158754,1.3011376886773124E-11,1723086053.56635,1170118.0079059761,19501.966798432935,1472.5745966853003,null,2584629080.3495255,387694362.05242878,1163083086.1572864,387694362.05242878,129231454.01747628]
[588,22239022.458063409,555586129.64917266,55597556.145158522,1388965324.1229315,1.4169922932524017E+20,2.1659739339715269E+21,4424755754.1043682,1.2490557006342753E-11,1769902301.6417472,1190010.0140403775,19833.500234006293,1487.3003426521534,null,2654853452.4626207,398228017.86939311,1194684053.6081793,398228017.86939311,132742672.62313104]
[589,23166324.98041011,578752454.62958276,57915812.451025277,1446881136.5739567,1.51618175378007E+20,2.3175921093495339E+21,4544976367.9433832,1.1990584523556154E-11,1817990547.1773534,1210240.1842790637,20170.669737984397,1502.173346078675,null,2726985820.7660298,409047873.11490446,1227143619.3447134,409047873.11490446,136349291.0383015]
[590,24132293.319546737,602884747.94912946,60330733.298866846,1507211869.8728235,1.622314476544675E+20,2.4798235570040015E+21,4668463375.860405,1.1510624958001096E-11,1867385350.344162,1230814.2674118078,20513.571123530131,1517.1950795394616,null,2801078025.516243,420161703.82743645,1260485111.4823093,420161703.82743645,140053901.27581215]
[591,25138539.727518335,628023287.67664778,62846349.318795837,1570058219.1916194,1.7358764899028025E+20,2.6534112059942817E+21,4795305525.7825327,1.1049877231878491E-11,1918122210.3130131,1251738.1099578086,20862.301832630143,1532.3670303348563,null,2877183315.4695196,431577497.32042795,1294732491.9612839,431577497.32042795,143859165.77347597]
[592,26186743.682588693,654210031.35923648,65466859.206471734,1635525078.3980911,1.8573878441959988E+20,2.8391499904138818E+21,4925593976.9180422,1.0607572332961333E-11,1970237590.7672172,1273017.6578270912,21216.960963784852,1547.6907006382048,null,2955356386.150825,443303457.92262375,1329910373.7678714,443303457.92262375,147767819.30754125]
[593,27278654.692377992,681488686.05161452,68196636.730944976,1703721715.1290359,1.9874049932897187E+20,3.0378904897428537E+21,5059422365.2709055,1.0182972031072796E-11,2023768946.1083622,1294658.9580101515,21577.649300169192,1563.167607644587,null,3035653419.1625433,455348012.87438148,1366044038.6231446,455348012.87438148,151782670.95812717]
[594,28416095.213883251,709904781.2654978,71040238.034708127,1774761953.163744,2.1265233428199991E+20,3.2505428240248534E+21,5196886870.9353151,9.7753676459411609E-12,2078754748.3741264,1316668.1602963239,21944.469338272065,1578.7992837210329,null,3118132122.5611887,467719818.38417828,1403159455.152535,467719818.38417828,155906606.12805945]
[595,29600963.695255,739505744.96075284,74002409.238137498,1848764362.4018815,2.2753799768173992E+20,3.4780808217065931E+21,5338086287.2186279,9.3840788643751226E-12,2135234514.8874514,1339051.5190213614,22317.52531702269,1594.5872765582433,null,3202851772.3311768,480427765.84967649,1441283297.5490296,480427765.84967649,160142588.61655885]
[596,30835237.744407315,770340982.70516014,77088094.361018285,1925852456.7628996,2.4346565751946173E+20,3.721546479226055E+21,5483122091.6423559,9.0084526047852269E-12,2193248836.6569428,1361815.3948447243,22696.923247412073,1610.5331493238257,null,3289873254.9854131,493480988.24781191,1480442964.7434359,493480988.24781191,164493662.74927068]
[597,32120977.42974953,802461960.13490963,80302443.574373826,2006154900.3372734,2.6050825354582406E+20,3.9820547327718793E+21,5632098518.8722801,8.6478619271562997E-12,2252839407.548912,1384966.2565570846,23082.770942618077,1626.638480817064,null,3379259111.3233681,506888866.69850516,1520666600.0955157,506888866.69850516,168962955.56616843]
[598,33460328.718549032,835922288.85345864,83650821.796372578,2089805722.133646,2.7874383129403176E+20,4.2607985640659112E+21,5785122635.6300383,8.3017049866515281E-12,2314049054.2520156,1408510.6829185549,23475.178048642581,1642.9048656252346,null,3471073581.3780227,520661037.20670336,1561983111.6201103,520661037.20670336,173553679.06890115]
[599,34855527.058663562,870777815.91212225,87138817.646658912,2176944539.7803049,2.9825589948461397E+20,4.5590544635505253E+21,5942304417.6401091,7.9694040291017304E-12,2376921767.0560431,1432455.3645281703,23874.256075469504,1659.3339142814871,null,3565382650.5840659,534807397.58760989,1604422192.7628298,534807397.58760989,178269132.5292033]
[600,36308901.109621599,907086717.02174389,90772252.774053991,2267716792.554359,3.1913381244853695E+20,4.8781882759990624E+21,6103756828.6673889,7.6504044267031995E-12,2441502731.4669557,1456807.1057251492,24280.118428752485,1675.9272534243019,null,3662254097.2004333,549338114.58006501,1648014343.740195,549338114.58006501,183112704.86002168]

{"sheet":"能力数值表","index":1,"n_rows":601,"n_cols":6,"rows_kept":601,"cut":false,"hidden":false,"merged":[]}
["花园等级","每分钟可分配总数值","缤纷彩虹","基础收益权重","玉树樱花","小黄鹂"]
[1,{"$f":"花园升级数值表!P2","v":135},{"$f":"B2*0.1","v":13.5},{"$f":"C2/花园升级数值表!J2","v":2.2499999999999999E-2},{"$f":"B2*0.15","v":20.25},{"$f":"B2*0.2","v":27}]
[2,{"$f":"花园升级数值表!P3","v":137.98147499999993},{"$f":"B3*0.1","v":13.798147499999994},{"$f":"C3/花园升级数值表!J3","v":2.2499999999999996E-2},{"$f":"B3*0.15","v":20.697221249999988},{"$f":"B3*0.2","v":27.596294999999987}]
[3,{"$f":"花园升级数值表!P4","v":141.0287958753749},14.10287958753749,{"$f":"C4/花园升级数值表!J4","v":2.2499999999999996E-2},21.154319381306234,28.205759175074981]
[4,{"$f":"花园升级数值表!P5","v":144.14341683228255},14.414341683228256,{"$f":"C5/花园升级数值表!J5","v":2.2500000000000003E-2},21.621512524842384,28.828683366456513]
[5,{"$f":"花园升级数值表!P6","v":147.32682419302347},14.732682419302348,{"$f":"C6/花园升级数值表!J6","v":2.2500000000000003E-2},22.099023628953521,29.465364838604696]
[6,{"$f":"花园升级数值表!P7","v":150.58053710532639},15.05805371053264,{"$f":"C7/花园升级数值表!J7","v":2.2500000000000006E-2},22.587080565798956,30.11610742106528]
[7,{"$f":"花园升级数值表!P8","v":153.90610826729744},15.390610826729745,{"$f":"C8/花园升级数值表!J8","v":2.2499999999999999E-2},23.085916240094615,30.78122165345949]
[8,{"$f":"花园升级数值表!P9","v":157.30512466838073},15.730512466838073,{"$f":"C9/花园升级数值表!J9","v":2.2500000000000006E-2},23.595768700257107,31.461024933676146]
[9,{"$f":"花园升级数值表!P10","v":160.77920834668188},16.077920834668188,{"$f":"C10/花园升级数值表!J10","v":2.2500000000000006E-2},24.116881252002283,32.155841669336375]
[10,{"$f":"花园升级数值表!P11","v":164.33001716301831},16.433001716301831,{"$f":"C11/花园升级数值表!J11","v":2.2500000000000003E-2},24.649502574452747,32.866003432603662]
[11,{"$f":"花园升级数值表!P12","v":167.95924559206355},16.795924559206355,{"$f":"C12/花园升级数值表!J12","v":2.250000000000001E-2},25.193886838809533,33.591849118412711]
[12,{"$f":"花园升级数值表!P13","v":171.66862553096422},17.166862553096422,{"$f":"C13/花园升级数值表!J13","v":2.2500000000000003E-2},25.750293829644633,34.333725106192844]
[13,{"$f":"花园升级数值表!P14","v":175.45992712581545},17.545992712581548,{"$f":"C14/花园升级数值表!J14","v":2.2499999999999996E-2},26.318989068872316,35.091985425163095]
[14,{"$f":"花园升级数值表!P15","v":179.33495961638906},17.933495961638908,{"$f":"C15/花园升级数值表!J15","v":2.2499999999999999E-2},26.900243942458356,35.866991923277816]
[15,{"$f":"花园升级数值表!P16","v":183.29557219951704},18.329557219951706,{"$f":"C16/花园升级数值表!J16","v":2.2500000000000003E-2},27.494335829927554,36.659114439903412]
[16,{"$f":"花园升级数值表!P17","v":187.34365491154327},18.734365491154328,{"$f":"C17/花园升级数值表!J17","v":2.2499999999999996E-2},28.101548236731489,37.468730982308657]
[17,{"$f":"花园升级数值表!P18","v":191.48113953026476},19.148113953026478,{"$f":"C18/花园升级数值表!J18","v":2.2500000000000006E-2},28.722170929539711,38.296227906052955]
[18,{"$f":"花园升级数值表!P19","v":195.71000049679063},19.571000049679064,{"$f":"C19/花园升级数值表!J19","v":2.2500000000000006E-2},29.356500074518593,39.142000099358128]
[19,{"$f":"花园升级数值表!P20","v":200.03225585776218},20.003225585776221,{"$f":"C20/花园升级数值表!J20","v":2.2500000000000003E-2},30.004838378664324,40.006451171552442]
[20,{"$f":"花园升级数值表!P21","v":204.44996822838075},20.444996822838078,{"$f":"C21/花园升级数值表!J21","v":2.2499999999999996E-2},30.66749523425711,40.889993645676157]
[21,{"$f":"花园升级数值表!P22","v":208.96524577670459},20.896524577670462,{"$f":"C22/花园升级数值表!J22","v":2.2500000000000003E-2},31.344786866505686,41.793049155340924]
[22,{"$f":"花园升级数值表!P23","v":213.58024322968302},21.358024322968305,{"$f":"C23/花园升级数值表!J23","v":2.2499999999999999E-2},32.03703648445245,42.71604864593661]
[23,{"$f":"花园升级数值表!P24","v":218.29716290141053},21.829716290141054,{"$f":"C24/花园升级数值表!J24","v":2.2499999999999996E-2},32.744574435211575,43.659432580282107]
[24,{"$f":"花园升级数值表!P25","v":223.11825574408809},22.311825574408811,{"$f":"C25/花园升级数值表!J25","v":2.2499999999999996E-2},33.467738361613215,44.623651148817622]
[25,{"$f":"花园升级数值表!P26","v":228.04582242219638},22.804582242219638,{"$f":"C26/花园升级数值表!J26","v":2.2500000000000006E-2},34.206873363329457,45.609164484439276]
[26,{"$f":"花园升级数值表!P27","v":233.08221441039052},23.308221441039052,{"$f":"C27/花园升级数值表!J27","v":2.2499999999999999E-2},34.962332161558578,46.616442882078104]
[27,{"$f":"花园升级数值表!P28","v":238.22983511564397},23.822983511564399,{"$f":"C28/花园升级数值表!J28","v":2.2500000000000006E-2},35.734475267346596,47.645967023128797]
[28,{"$f":"花园升级数值表!P29","v":243.49114102417292},24.349114102417293,{"$f":"C29/花园升级数值表!J29","v":2.2500000000000006E-2},36.523671153625934,48.698228204834585]
[29,{"$f":"花园升级数值表!P30","v":248.86864287369181},24.886864287369182,{"$f":"C30/花园升级数值表!J30","v":2.250000000000001E-2},37.330296431053767,49.773728574738364]
[30,{"$f":"花园升级数值表!P31","v":254.36490685155701},25.436490685155704,{"$f":"C31/花园升级数值表!J31","v":2.2499999999999992E-2},38.154736027733549,50.872981370311408]
[31,{"$f":"花园升级数值表!P32","v":259.98255581937377},25.998255581937379,{"$f":"C32/花园升级数值表!J32","v":2.2500000000000006E-2},38.997383372906064,51.996511163874757]
[32,{"$f":"花园升级数值表!P33","v":265.72427056464448},26.572427056464448,{"$f":"C33/花园升级数值表!J33","v":2.2499999999999996E-2},39.858640584696673,53.144854112928897]
[33,{"$f":"花园升级数值表!P34","v":271.59279108006461},27.159279108006462,{"$f":"C34/花园升级数值表!J34","v":2.2500000000000003E-2},40.738918662009688,54.318558216012924]
[34,{"$f":"花园升级数值表!P35","v":277.5909178710678},27.759091787106783,{"$f":"C35/花园升级数值表!J35","v":2.2500000000000003E-2},41.638637680660167,55.518183574213566]
[35,{"$f":"花园升级数值表!P36","v":283.72151329225022},28.372151329225023,{"$f":"C36/花园升级数值表!J36","v":2.2499999999999996E-2},42.558226993837529,56.744302658450046]
[36,{"$f":"花园升级数值表!P37","v":289.98750291330953},28.998750291330953,{"$f":"C37/花园升级数值表!J37","v":2.2499999999999996E-2},43.498125436996425,57.997500582661907]
[37,{"$f":"花园升级数值表!P38","v":296.39187691515002},29.639187691515005,{"$f":"C38/花园升级数值表!J38","v":2.2500000000000006E-2},44.4587815372725,59.27837538303001]
[38,{"$f":"花园升级数值表!P39","v":302.93769151682096},30.293769151682099,{"$f":"C39/花园升级数值表!J39","v":2.2500000000000003E-2},45.440653727523141,60.587538303364198]
[39,{"$f":"花园升级数值表!P40","v":309.62807043396998},30.962807043397,{"$f":"C40/花园升级数值表!J40","v":2.2500000000000006E-2},46.444210565095496,61.925614086793999]
[40,{"$f":"花园升级数值表!P41","v":316.46620636950416},31.646620636950416,{"$f":"C41/花园升级数值表!J41","v":2.2500000000000006E-2},47.469930955425625,63.293241273900833]
[41,{"$f":"花园升级数值表!P42","v":323.45536253717461},32.345536253717462,{"$f":"C42/花园升级数值表!J42","v":2.2500000000000006E-2},48.51830438057619,64.691072507434924]
[42,{"$f":"花园升级数值表!P43","v":330.59887421880791},33.059887421880795,{"$f":"C43/花园升级数值表!J43","v":2.2499999999999999E-2},49.589831132821182,66.11977484376159]
[43,{"$f":"花园升级数值表!P44","v":337.90015035593029},33.790015035593029,{"$f":"C44/花园升级数值表!J44","v":2.2499999999999999E-2},50.685022553389544,67.580030071186059]
[44,{"$f":"花园升级数值表!P45","v":345.36267517654085},34.536267517654089,{"$f":"C45/花园升级数值表!J45","v":2.2499999999999996E-2},51.804401276481123,69.072535035308178]
[45,{"$f":"花园升级数值表!P46","v":352.99000985781487},35.29900098578149,{"$f":"C46/花园升级数值表!J46","v":2.2500000000000006E-2},52.948501478672227,70.598001971562979]
[46,{"$f":"花园升级数值表!P47","v":360.7857942255244},36.078579422552444,{"$f":"C47/花园升级数值表!J47","v":2.2499999999999992E-2},54.117869133828655,72.157158845104888]
[47,{"$f":"花园升级数值表!P48","v":368.75374849099518},36.875374849099522,{"$f":"C48/花园升级数值表!J48","v":2.2499999999999996E-2},55.313062273649273,73.750749698199044]
[48,{"$f":"花园升级数值表!P49","v":376.89767502641877},37.689767502641878,{"$f":"C49/花园升级数值表!J49","v":2.2499999999999999E-2},56.534651253962814,75.379535005283756]
[49,{"$f":"花园升级数值表!P50","v":385.22146017937712},38.522146017937715,{"$f":"C50/花园升级数值表!J50","v":2.2500000000000003E-2},57.783219026906565,77.044292035875429]
[50,{"$f":"花园升级数值表!P51","v":393.72907612743865},39.372907612743866,{"$f":"C51/花园升级数值表!J51","v":2.2500000000000003E-2},59.059361419115795,78.745815225487732]
[51,{"$f":"花园升级数值表!P52","v":402.42458277371298},40.242458277371298,{"$f":"C52/花园升级数值表!J52","v":2.2500000000000003E-2},60.363687416056948,80.484916554742597]
[52,{"$f":"花园升级数值表!P53","v":411.31212968427047},41.13121296842705,{"$f":"C53/花园升级数值表!J53","v":2.2500000000000003E-2},61.696819452640568,82.2624259368541]
[53,{"$f":"花园升级数值表!P54","v":420.3959580683474},42.03959580683474,{"$f":"C54/花园升级数值表!J54","v":2.2499999999999999E-2},63.05939371025211,84.079191613669479]
[54,{"$f":"花园升级数值表!P55","v":429.68040280228672},42.968040280228678,{"$f":"C55/花园升级数值表!J55","v":2.2499999999999996E-2},64.452060420343003,85.936080560457356]
[55,{"$f":"花园升级数值表!P56","v":439.16989449817544},43.916989449817549,{"$f":"C56/花园升级数值表!J56","v":2.250000000000001E-2},65.87548417472631,87.833978899635099]
[56,{"$f":"花园升级数值表!P57","v":448.86896161816736},44.886896161816736,{"$f":"C57/花园升级数值表!J57","v":2.2499999999999999E-2},67.330344242725104,89.773792323633472]
[57,{"$f":"花园升级数值表!P58","v":458.7822326355045},45.878223263550453,{"$f":"C58/花园升级数值表!J58","v":2.2499999999999999E-2},68.817334895325672,91.756446527100906]
[58,{"$f":"花园升级数值表!P59","v":468.91443824325972},46.891443824325975,{"$f":"C59/花园升级数值表!J59","v":2.2500000000000006E-2},70.337165736488956,93.78288764865195]
[59,{"$f":"花园升级数值表!P60","v":479.2704136118619},47.927041361186191,{"$f":"C60/花园升级数值表!J60","v":2.2500000000000006E-2},71.890562041779276,95.854082722372382]
[60,{"$f":"花园升级数值表!P61","v":489.85510069647978},48.985510069647979,{"$f":"C61/花园升级数值表!J61","v":2.2500000000000003E-2},73.478265104471959,97.971020139295959]
[61,{"$f":"花园升级数值表!P62","v":500.67355059536141},50.067355059536141,{"$f":"C62/花园升级数值表!J62","v":2.2499999999999999E-2},75.101032589304211,100.13471011907228]
[62,{"$f":"花园升级数值表!P63","v":511.73092596025981},51.173092596025981,{"$f":"C63/花园升级数值表!J63","v":2.2499999999999996E-2},76.759638894038972,102.34618519205196]
[63,{"$f":"花园升级数值表!P64","v":523.03250346009213},52.303250346009214,{"$f":"C64/花园升级数值表!J64","v":2.2500000000000003E-2},78.454875519013811,104.60650069201843]
[64,{"$f":"花园升级数值表!P65","v":534.58367629900818},53.45836762990082,{"$f":"C65/花园升级数值表!J65","v":2.2500000000000006E-2},80.187551444851223,106.91673525980164]
[65,{"$f":"花园升级数值表!P66","v":546.38995679007189},54.638995679007195,{"$f":"C66/花园升级数值表!J66","v":2.250000000000001E-2},81.958493518510778,109.27799135801439]
[66,{"$f":"花园升级数值表!P67","v":558.45697898578021},{"$f":"B67*0.1","v":55.845697898578024},{"$f":"C67/花园升级数值表!J67","v":2.2499999999999999E-2},{"$f":"B67*0.15","v":83.768546847867029},{"$f":"B67*0.2","v":111.69139579715605}]
[67,{"$f":"花园升级数值表!P68","v":570.79050136668093},57.079050136668094,{"$f":"C68/花园升级数值表!J68","v":2.2499999999999992E-2},85.618575205002131,114.15810027333619]
[68,{"$f":"花园升级数值表!P69","v":583.396409589364},58.3396409589364,{"$f":"C69/花园升级数值表!J69","v":2.2499999999999996E-2},87.5094614384046,116.6792819178728]
[69,{"$f":"花园升级数值表!P70","v":596.2807192951451},59.628071929514512,{"$f":"C70/花园升级数值表!J70","v":2.2499999999999999E-2},89.442107894271757,119.25614385902902]
[70,{"$f":"花园升级数值表!P71","v":609.4495789807786},60.94495789807786,{"$f":"C71/花园升级数值表!J71","v":2.250000000000001E-2},91.41743684711679,121.88991579615572]
[71,{"$f":"花园升级数值表!P72","v":622.9092729325688},62.290927293256885,{"$f":"C72/花园升级数值表!J72","v":2.2500000000000003E-2},93.436390939885314,124.58185458651377]
[72,{"$f":"花园升级数值表!P73","v":636.66622422528417},63.66662242252842,{"$f":"C73/花园升级数值表!J73","v":2.2499999999999992E-2},95.499933633792622,127.33324484505684]
[73,{"$f":"花园升级数值表!P74","v":650.72699778729952},65.072699778729955,{"$f":"C74/花园升级数值表!J74","v":2.2499999999999999E-2},97.609049668094926,130.14539955745991]
[74,{"$f":"花园升级数值表!P75","v":665.09830353343216},66.509830353343219,{"$f":"C75/花园升级数值表!J75","v":2.2500000000000006E-2},99.764745530014821,133.01966070668644]
[75,{"$f":"花园升级数值表!P76","v":679.78699956696767},67.978699956696772,{"$f":"C76/花园升级数值表!J76","v":2.2499999999999999E-2},101.96804993504514,135.95739991339354]
[76,{"$f":"花园升级数值表!P77","v":694.80009545240398},69.480009545240407,{"$f":"C77/花园升级数值表!J77","v":2.2499999999999999E-2},104.22001431786059,138.96001909048081]
[77,{"$f":"花园升级数值表!P78","v":710.14475556047034},71.014475556047032,{"$f":"C78/花园升级数值表!J78","v":2.2500000000000003E-2},106.52171333407055,142.02895111209406]
[78,{"$f":"花园升级数值表!P79","v":725.82830248702305},72.582830248702308,{"$f":"C79/花园升级数值表!J79","v":2.2500000000000003E-2},108.87424537305345,145.16566049740462]
[79,{"$f":"花园升级数值表!P80","v":741.8582205474487},74.185822054744875,{"$f":"C80/花园升级数值表!J80","v":2.2499999999999996E-2},111.2787330821173,148.37164410948975]
[80,{"$f":"花园升级数值表!P81","v":758.24215934823917},75.824215934823926,{"$f":"C81/花园升级数值表!J81","v":2.2500000000000006E-2},113.73632390223587,151.64843186964785]
[81,{"$f":"花园升级数值表!P82","v":774.98793743744488},77.4987937437445,{"$f":"C82/花园升级数值表!J82","v":2.2500000000000006E-2},116.24819061561672,154.997587487489]
[82,{"$f":"花园升级数值表!P83","v":792.10354603575058},79.21035460357507,{"$f":"C83/花园升级数值表!J83","v":2.2500000000000003E-2},118.81553190536258,158.42070920715014]
[83,{"$f":"花园升级数值表!P84","v":809.59715284995002},80.959715284995013,{"$f":"C84/花园升级数值表!J84","v":2.2500000000000003E-2},121.43957292749249,161.91943056999003]
[84,{"$f":"花园升级数值表!P85","v":827.47710597064065},82.747710597064071,{"$f":"C85/花园升级数值表!J85","v":2.2499999999999992E-2},124.12156589559609,165.49542119412814]
[85,{"$f":"花园升级数值表!P86","v":845.75193785600231},84.575193785600234,{"$f":"C86/花园升级数值表!J86","v":2.2499999999999992E-2},126.86279067840034,169.15038757120047]
[86,{"$f":"花园升级数值表!P87","v":864.43036940355228},86.443036940355228,{"$f":"C87/花园升级数值表!J87","v":2.2499999999999999E-2},129.66455541053284,172.88607388071046]
[87,{"$f":"花园升级数值表!P88","v":883.52131411182938},88.352131411182938,{"$f":"C88/花园升级数值表!J88","v":2.2499999999999996E-2},132.52819711677441,176.70426282236588]
[88,{"$f":"花园升级数值表!P89","v":903.03388233398891},90.303388233398891,{"$f":"C89/花园升级数值表!J89","v":2.2499999999999999E-2},135.45508235009834,180.60677646679778]
[89,{"$f":"花园升级数值表!P90","v":922.97738562533448},92.297738562533453,{"$f":"C90/花园升级数值表!J90","v":2.2499999999999996E-2},138.44660784380017,184.59547712506691]
[90,{"$f":"花园升级数值表!P91","v":943.36134118686982},94.336134118686985,{"$f":"C91/花园升级数值表!J91","v":2.2499999999999996E-2},141.50420117803046,188.67226823737397]
[91,{"$f":"花园升级数值表!P92","v":964.19547640698181},96.419547640698184,{"$f":"C92/花园升级数值表!J92","v":2.2499999999999999E-2},144.62932146104725,192.83909528139637]
[92,{"$f":"花园升级数值表!P93","v":985.48973350342976},98.548973350342976,{"$f":"C93/花园升级数值表!J93","v":2.2499999999999996E-2},147.82346002551446,197.09794670068595]
[93,{"$f":"花园升级数值表!P94","v":1007.2542742678528},100.72542742678529,{"$f":"C94/花园升级数值表!J94","v":2.2499999999999999E-2},151.08814114017792,201.45085485357058]
[94,{"$f":"花园升级数值表!P95","v":1029.4994849150587},102.94994849150588,{"$f":"C95/花园升级数值表!J95","v":2.250000000000001E-2},154.42492273725881,205.89989698301176]
[95,{"$f":"花园升级数值表!P96","v":1052.2359810394069},105.22359810394069,{"$f":"C96/花园升级数值表!J96","v":2.2499999999999996E-2},157.83539715591101,210.44719620788138]
[96,{"$f":"花园升级数值表!P97","v":1075.4746126806624},107.54746126806624,{"$f":"C97/花园升级数值表!J97","v":2.2500000000000006E-2},161.32119190209934,215.09492253613249]
[97,{"$f":"花园升级数值表!P98","v":1099.2264695017141},109.92264695017141,{"$f":"C98/花园升级数值表!J98","v":2.2499999999999999E-2},164.8839704252571,219.84529390034282]
[98,{"$f":"花园升级数值表!P99","v":1123.502886080659},112.35028860806591,{"$f":"C99/花园升级数值表!J99","v":2.2499999999999996E-2},168.52543291209884,224.70057721613182]
[99,{"$f":"花园升级数值表!P100","v":1148.3154473197496},114.83154473197497,{"$f":"C100/花园升级数值表!J100","v":2.2499999999999989E-2},172.24731709796245,229.66308946394994]
[100,{"$f":"花园升级数值表!P101","v":1173.675993973807},117.3675993973807,{"$f":"C101/花园升级数值表!J101","v":2.2500000000000006E-2},176.05139909607104,234.7351987947614]
[101,{"$f":"花园升级数值表!P102","v":1199.5966283007183},119.95966283007184,{"$f":"C102/花园升级数值表!J102","v":2.2499999999999999E-2},179.93949424510774,239.91932566014367]
[102,{"$f":"花园升级数值表!P103","v":1226.0897198367395},122.60897198367395,{"$f":"C103/花园升级数值表!J103","v":2.2499999999999999E-2},183.91345797551091,245.21794396734791]
[103,{"$f":"花园升级数值表!P104","v":1253.1679112993334},125.31679112993334,{"$f":"C104/花园升级数值表!J104","v":2.2499999999999996E-2},187.9751866949,250.63358225986667]
[104,{"$f":"花园升级数值表!P105","v":1280.844124620379},128.0844124620379,{"$f":"C105/花园升级数值表!J105","v":2.2499999999999996E-2},192.12661869305686,256.16882492407581]
[105,{"$f":"花园升级数值表!P106","v":1309.1315671126197},130.91315671126196,{"$f":"C106/花园升级数值表!J106","v":2.2499999999999996E-2},196.36973506689296,261.82631342252392]
[106,{"$f":"花园升级数值表!P107","v":1338.0437377723013},133.80437377723013,{"$f":"C107/花园升级数值表!J107","v":2.2499999999999996E-2},200.70656066584519,267.60874755446025]
[107,{"$f":"花园升级数值表!P108","v":1367.5944337210019},136.75944337210021,{"$f":"C108/花园升级数值表!J108","v":2.2499999999999996E-2},205.13916505815027,273.51888674420042]
[108,{"$f":"花园升级数值表!P109","v":1397.7977567897308},139.7797756789731,{"$f":"C109/花园升级数值表!J109","v":2.2500000000000003E-2},209.6696635184596,279.55955135794619]
[109,{"$f":"花园升级数值表!P110","v":1428.6681202484317},142.86681202484317,{"$f":"C110/花园升级数值表!J110","v":2.2499999999999999E-2},214.30021803726476,285.73362404968634]
[110,{"$f":"花园升级数值表!P111","v":1460.2202556841182},146.02202556841183,{"$f":"C111/花园升级数值表!J111","v":2.250000000000001E-2},219.03303835261772,292.04405113682367]
[111,{"$f":"花园升级数值表!P112","v":1492.4692200309012},149.24692200309013,{"$f":"C112/花园升级数值表!J112","v":2.2499999999999999E-2},223.87038300463516,298.49384400618027]
[112,{"$f":"花园升级数值表!P113","v":1525.4304027552832},152.54304027552834,{"$f":"C113/花园升级数值表!J113","v":2.2499999999999999E-2},228.81456041329247,305.08608055105668]
[113,{"$f":"花园升级数值表!P114","v":1559.1195332001337},155.91195332001337,{"$f":"C114/花园升级数值表!J114","v":2.2499999999999999E-2},233.86792998002005,311.82390664002673]
[114,{"$f":"花园升级数值表!P115","v":1593.5526880908585},159.35526880908586,{"$f":"C115/花园升级数值表!J115","v":2.2500000000000003E-2},239.03290321362877,318.71053761817171]
[115,{"$f":"花园升级数值表!P116","v":1628.7462992073445},162.87462992073446,{"$f":"C116/花园升级数值表!J116","v":2.2500000000000003E-2},244.31194488110165,325.74925984146893]
[116,{"$f":"花园升级数值表!P117","v":1664.7171612253385},166.47171612253385,{"$f":"C117/花园升级数值表!J117","v":2.2499999999999999E-2},249.70757418380077,332.9434322450677]
[117,{"$f":"花园升级数值表!P118","v":1701.4824397309997},170.14824397309997,{"$f":"C118/花园升级数值表!J118","v":2.2499999999999999E-2},255.22236595964995,340.29648794619993]
[118,{"$f":"花园升级数值表!P119","v":1739.0596794124585},173.90596794124588,{"$f":"C119/花园升级数值表!J119","v":2.2500000000000003E-2},260.85895191186876,347.81193588249175]
[119,{"$f":"花园升级数值表!P120","v":1777.4668124322825},177.74668124322827,{"$f":"C120/花园升级数值表!J120","v":2.2500000000000006E-2},266.62002186484239,355.49336248645653]
[120,{"$f":"花园升级数值表!P121","v":1816.7221669848489},181.6722166984849,{"$f":"C121/花园升级数值表!J121","v":2.2500000000000003E-2},272.50832504772734,363.34443339696981]
[121,{"$f":"花园升级数值表!P122","v":1856.8444760427087},185.68444760427087,{"$f":"C122/花园升级数值表!J122","v":2.2500000000000003E-2},278.52667140640631,371.36889520854174]
[122,{"$f":"花园升级数值表!P123","v":1897.8528862961116},189.78528862961116,{"$f":"C123/花园升级数值表!J123","v":2.2499999999999999E-2},284.67793294441674,379.57057725922232]
[123,{"$f":"花园升级数值表!P124","v":1939.7669672899613},193.97669672899613,{"$f":"C124/花园升级数值表!J124","v":2.2500000000000006E-2},290.96504509349415,387.95339345799226]
[124,{"$f":"花园升级数值表!P125","v":1982.6067207625592},198.26067207625593,{"$f":"C125/花园升级数值表!J125","v":2.2499999999999999E-2},297.39100811438385,396.52134415251186]
[125,{"$f":"花园升级数值表!P126","v":2026.3925901905993},202.63925901905995,{"$f":"C126/花园升级数值表!J126","v":2.2499999999999996E-2},303.95888852858991,405.2785180381199]
[126,{"$f":"花园升级数值表!P127","v":2071.1454705449596},207.11454705449597,{"$f":"C127/花园升级数值表!J127","v":2.250000000000001E-2},310.67182058174393,414.22909410899194]
[127,{"$f":"花园升级数值表!P128","v":2116.8867182619442},211.68867182619442,{"$f":"C128/花园升级数值表!J128","v":2.2500000000000003E-2},317.53300773929163,423.37734365238884]
[128,{"$f":"花园升级数值表!P129","v":2163.6381614347592},216.36381614347593,{"$f":"C129/花园升级数值表!J129","v":2.2500000000000006E-2},324.54572421521385,432.72763228695186]
[129,{"$f":"花园升级数值表!P130","v":2211.4221102300457},221.14221102300459,{"$f":"C130/花园升级数值表!J130","v":2.2500000000000013E-2},331.71331653450687,442.28442204600918]
[130,{"$f":"花园升级数值表!P131","v":2260.2613675344737},{"$f":"B131*0.1","v":226.02613675344739},{"$f":"C131/花园升级数值表!J131","v":2.2499999999999992E-2},{"$f":"B131*0.15","v":339.03920513017107},{"$f":"B131*0.2","v":452.05227350689478}]
[131,{"$f":"花园升级数值表!P132","v":2310.1792398364723},231.01792398364725,{"$f":"C132/花园升级数值表!J132","v":2.2499999999999999E-2},346.52688597547086,462.0358479672945]
[132,{"$f":"花园升级数值表!P133","v":2361.1995483482606},236.11995483482607,{"$f":"C133/花园升级数值表!J133","v":2.2500000000000003E-2},354.1799322522391,472.23990966965215]
[133,{"$f":"花园升级数值表!P134","v":2413.3466403735315},241.33466403735315,{"$f":"C134/花园升级数值表!J134","v":2.2500000000000003E-2},362.00199605602972,482.6693280747063]
[134,{"$f":"花园升级数值表!P135","v":2466.6454009261806},246.66454009261807,{"$f":"C135/花园升级数值表!J135","v":2.250000000000001E-2},369.99681013892706,493.32908018523614]
[135,{"$f":"花园升级数值表!P136","v":2521.1212646056347},252.11212646056347,{"$f":"C136/花园升级数值表!J136","v":2.2500000000000006E-2},378.16818969084517,504.22425292112695]
[136,{"$f":"花园升级数值表!P137","v":2576.800227734449},257.68002277344493,{"$f":"C137/花园升级数值表!J137","v":2.2500000000000003E-2},386.52003416016731,515.36004554688986]
[137,{"$f":"花园升级数值表!P138","v":2633.7088607639625},263.37088607639629,{"$f":"C138/花园升级数值表!J138","v":2.2499999999999992E-2},395.05632911459435,526.74177215279258]
[138,{"$f":"花园升级数值表!P139","v":2691.8743209539352},269.18743209539355,{"$f":"C139/花园升级数值表!J139","v":2.2499999999999999E-2},403.78114814309026,538.37486419078709]
[139,{"$f":"花园升级数值表!P140","v":2751.3243653322024},275.13243653322024,{"$f":"C140/花园升级数值表!J140","v":2.2499999999999996E-2},412.69865479983036,550.26487306644049]
[140,{"$f":"花园升级数值表!P141","v":2812.0873639405645},281.20873639405647,{"$f":"C141/花园升级数值表!J141","v":2.2500000000000003E-2},421.81310459108465,562.41747278811295]
[141,{"$f":"花园升级数值表!P142","v":2874.1923133731921},287.41923133731922,{"$f":"C142/花园升级数值表!J142","v":2.2500000000000006E-2},431.1288470059788,574.83846267463844]
[142,{"$f":"花园升级数值表!P143","v":2937.6688506140376},293.7668850614038,{"$f":"C143/花园升级数值表!J143","v":2.2500000000000003E-2},440.65032759210561,587.5337701228076]
[143,{"$f":"花园升级数值表!P144","v":3002.5472671798466},300.25472671798468,{"$f":"C144/花园升级数值表!J144","v":2.2499999999999992E-2},450.38209007697697,600.50945343596936]
[144,{"$f":"花园升级数值表!P145","v":3068.8585235755131},306.8858523575513,{"$f":"C145/花园升级数值表!J145","v":2.2499999999999989E-2},460.32877853632698,613.7717047151026]
[145,{"$f":"花园升级数值表!P146","v":3136.6342640686789},313.66342640686793,{"$f":"C146/花园升级数值表!J146","v":2.2500000000000003E-2},470.49513961030181,627.32685281373585]
[146,{"$f":"花园升级数值表!P147","v":3205.9068317906354},320.59068317906355,{"$f":"C147/花园升级数值表!J147","v":2.2500000000000003E-2},480.88602476859529,641.18136635812709]
[147,{"$f":"花园升级数值表!P148","v":3276.7092841707299},327.67092841707301,{"$f":"C148/花园升级数值表!J148","v":2.2499999999999996E-2},491.50639262560946,655.34185683414603]
[148,{"$f":"花园升级数值表!P149","v":3349.0754087116416},334.9075408711642,{"$f":"C149/花园升级数值表!J149","v":2.250000000000001E-2},502.36131130674619,669.8150817423284]
[149,{"$f":"花园升级数值表!P150","v":3423.0397391130368},342.30397391130373,{"$f":"C150/花园升级数值表!J150","v":2.2500000000000003E-2},513.45596086695548,684.60794782260746]
[150,{"$f":"花园升级数值表!P151","v":3498.637571751347},349.86375717513471,{"$f":"C151/花园升级数值表!J151","v":2.2499999999999999E-2},524.79563576270198,699.72751435026942]
[151,{"$f":"花园升级数值表!P152","v":3575.9049825234747},357.59049825234752,{"$f":"C152/花园升级数值表!J152","v":2.2499999999999999E-2},536.38574737852116,715.18099650469503]
[152,{"$f":"花园升级数值表!P153","v":3654.8788440625049},365.48788440625049,{"$f":"C153/花园升级数值表!J153","v":2.2499999999999996E-2},548.23182660937573,730.97576881250097]
[153,{"$f":"花园升级数值表!P154","v":3735.5968433336261},373.55968433336261,{"$f":"C154/花园升级数值表!J154","v":2.2499999999999999E-2},560.33952650004392,747.11936866672522]
[154,{"$f":"花园升级数值表!P155","v":3818.0974996186483},381.80974996186484,{"$f":"C155/花园升级数值表!J155","v":2.2500000000000003E-2},572.71462494279717,763.61949992372968]
[155,{"$f":"花园升级数值表!P156","v":3902.4201828977248},390.24201828977249,{"$f":"C156/花园升级数值表!J156","v":2.2499999999999996E-2},585.36302743465865,780.48403657954498]
[156,{"$f":"花园升级数值表!P157","v":3988.6051326370207},398.8605132637021,{"$f":"C157/花园升级数值表!J157","v":2.2499999999999999E-2},598.29076989555313,797.72102652740421]
[157,{"$f":"花园升级数值表!P158","v":4076.6934769913105},407.66934769913109,{"$f":"C158/花园升级数值表!J158","v":2.250000000000001E-2},611.50402154869653,815.33869539826219]
[158,{"$f":"花园升级数值表!P159","v":4166.7272524306609},416.67272524306611,{"$f":"C159/花园升级数值表!J159","v":2.2499999999999999E-2},625.00908786459911,833.34545048613222]
[159,{"$f":"花园升级数值表!P160","v":4258.7494238005902},425.87494238005905,{"$f":"C160/花园升级数值表!J160","v":2.2499999999999996E-2},638.81241357008855,851.74988476011811]
[160,{"$f":"花园升级数值表!P161","v":4352.8039048252258},435.28039048252259,{"$f":"C161/花园升级数值表!J161","v":2.2499999999999996E-2},652.9205857237838,870.56078096504518]
[161,{"$f":"花园升级数值表!P162","v":4448.9355790632926},444.89355790632931,{"$f":"C162/花园升级数值表!J162","v":2.250000000000001E-2},667.34033685949385,889.78711581265861]
[162,{"$f":"花园升级数值表!P163","v":4547.1903213269024},454.71903213269024,{"$f":"C163/花园升级数值表!J163","v":2.2499999999999999E-2},682.07854819903537,909.43806426538049]
[163,{"$f":"花园升级数值表!P164","v":4647.6150195734053},464.76150195734056,{"$f":"C164/花园升级数值表!J164","v":2.2499999999999996E-2},697.14225293601078,929.52300391468111]
[164,{"$f":"花园升级数值表!P165","v":4750.2575972806844},475.02575972806846,{"$f":"C165/花园升级数值表!J165","v":2.2500000000000003E-2},712.53863959210264,950.05151945613693]
[165,{"$f":"花园升级数值表!P166","v":4855.1670363166277},485.51670363166278,{"$f":"C166/花园升级数值表!J166","v":2.2500000000000003E-2},728.27505544749408,971.03340726332556]
[166,{"$f":"花园升级数值表!P167","v":4962.3934003136765},496.23934003136765,{"$f":"C167/花园升级数值表!J167","v":2.2499999999999989E-2},744.35901004705147,992.47868006273529]
[167,{"$f":"花园升级数值表!P168","v":5071.9878585596043},507.19878585596047,{"$f":"C168/花园升级数值表!J168","v":2.2499999999999996E-2},760.79817878394067,1014.3975717119209]
[168,{"$f":"花园升级数值表!P169","v":5184.0027104158935},518.40027104158935,{"$f":"C169/花园升级数值表!J169","v":2.2500000000000003E-2},777.60040656238402,1036.8005420831787]
[169,{"$f":"花园升级数值表!P170","v":5298.4914102754274},529.84914102754271,{"$f":"C170/花园升级数值表!J170","v":2.2500000000000003E-2},794.77371154131413,1059.6982820550854]
[170,{"$f":"花园升级数值表!P171","v":5415.5085930713585},541.55085930713585,{"$f":"C171/花园升级数值表!J171","v":2.2500000000000003E-2},812.32628896070378,1083.1017186142717]
[171,{"$f":"花园升级数值表!P172","v":5562.6479615451053},556.26479615451058,{"$f":"C172/花园升级数值表!J172","v":2.2499999999999999E-2},834.39719423176575,1112.5295923090212]
[172,{"$f":"花园升级数值表!P173","v":5713.7851066602861},571.37851066602866,{"$f":"C173/花园升级数值表!J173","v":2.2499999999999999E-2},857.06776599904288,1142.7570213320573]
[173,{"$f":"花园升级数值表!P174","v":5869.028648008245},586.90286480082455,{"$f":"C174/花园升级数值表!J174","v":2.2499999999999999E-2},880.3542972012367,1173.8057296016491]
[174,{"$f":"花园升级数值表!P175","v":6028.490156374628},602.8490156374628,{"$f":"C175/花园升级数值表!J175","v":2.2499999999999996E-2},904.2735234561942,1205.6980312749256]
[175,{"$f":"花园升级数值表!P176","v":6192.2842339233266},619.22842339233273,{"$f":"C176/花园升级数值表!J176","v":2.2500000000000003E-2},928.84263508849892,1238.4568467846655]
[176,{"$f":"花园升级数值表!P177","v":6360.528596559021},636.05285965590213,{"$f":"C177/花园升级数值表!J177","v":2.2499999999999999E-2},954.07928948385313,1272.1057193118043]
[177,{"$f":"花园升级数值表!P178","v":6533.3441585275277},653.33441585275284,{"$f":"C178/花园升级数值表!J178","v":2.2499999999999999E-2},980.00162377912909,1306.6688317055057]
[178,{"$f":"花园升级数值表!P179","v":6710.8551193147205},671.08551193147207,{"$f":"C179/花园升级数值表!J179","v":2.2499999999999999E-2},1006.628267897208,1342.1710238629441]
[179,{"$f":"花园升级数值表!P180","v":6893.1890529065013},689.31890529065015,{"$f":"C180/花园升级数值表!J180","v":2.2499999999999999E-2},1033.9783579359751,1378.6378105813003]
[180,{"$f":"花园升级数值表!P181","v":7080.4769994739736},708.0476999473974,{"$f":"C181/花园升级数值表!J181","v":2.250000000000001E-2},1062.071549921096,1416.0953998947948]
[181,{"$f":"花园升级数值表!P182","v":7272.8535595496742},727.28535595496749,{"$f":"C182/花园升级数值表!J182","v":2.2499999999999996E-2},1090.9280339324512,1454.570711909935]
[182,{"$f":"花园升级数值表!P183","v":7470.456990762641},747.0456990762641,{"$f":"C183/花园升级数值表!J183","v":2.2500000000000006E-2},1120.5685486143961,1494.0913981525282]
[183,{"$f":"花园升级数值表!P184","v":7673.4293072016608},767.34293072016612,{"$f":"C184/花园升级数值表!J184","v":2.2500000000000006E-2},1151.0143960802491,1534.6858614403322]
[184,{"$f":"花园升级数值表!P185","v":7881.916381478326},788.19163814783269,{"$f":"C185/花园升级数值表!J185","v":2.2499999999999996E-2},1182.2874572217488,1576.3832762956654]
[185,{"$f":"花园升级数值表!P186","v":8096.0680495630913},809.60680495630913,{"$f":"C186/花园升级数值表!J186","v":2.2499999999999992E-2},1214.4102074344637,1619.2136099126183]
[186,{"$f":"花园升级数值表!P187","v":8316.0382184697246},831.60382184697255,{"$f":"C187/花园升级数值表!J187","v":2.250000000000001E-2},1247.4057327704586,1663.2076436939451]
[187,{"$f":"花园升级数值表!P188","v":8541.9849768655422},854.19849768655422,{"$f":"C188/花园升级数值表!J188","v":2.2499999999999996E-2},1281.2977465298313,1708.3969953731084]
[188,{"$f":"花园升级数值表!P189","v":8774.0707086869788},877.40707086869793,{"$f":"C189/花园升级数值表!J189","v":2.2499999999999999E-2},1316.1106063030468,1754.8141417373959]
[189,{"$f":"花园升级数值表!P190","v":9012.4622098419986},901.24622098419991,{"$f":"C190/花园升级数值表!J190","v":2.2499999999999989E-2},1351.8693314762997,1802.4924419683998]
[190,{"$f":"花园升级数值表!P191","v":9257.3308080834067},925.73308080834067,{"$f":"C191/花园升级数值表!J191","v":2.2499999999999989E-2},1388.599621212511,1851.4661616166813]
[191,{"$f":"花园升级数值表!P192","v":9508.8524861390342},950.88524861390351,{"$f":"C192/花园升级数值表!J192","v":2.2499999999999996E-2},1426.327872920855,1901.770497227807]
[192,{"$f":"花园升级数值表!P193","v":9767.2080081874301},976.7208008187431,{"$f":"C193/花园升级数值表!J193","v":2.2499999999999996E-2},1465.0812012281144,1953.4416016374862]
[193,{"$f":"花园升级数值表!P194","v":10032.583049769879},1003.2583049769879,{"$f":"C194/花园升级数值表!J194","v":2.2499999999999992E-2},1504.8874574654817,2006.5166099539758]
[194,{"$f":"花园升级数值表!P195","v":10305.168331232127},{"$f":"B195*0.1","v":1030.5168331232128},{"$f":"C195/花园升级数值表!J195","v":2.2499999999999996E-2},{"$f":"B195*0.15","v":1545.7752496848191},{"$f":"B195*0.2","v":2061.0336662464256}]
[195,{"$f":"花园升级数值表!P196","v":10585.159754791706},1058.5159754791707,{"$f":"C196/花园升级数值表!J196","v":2.2500000000000003E-2},1587.7739632187559,2117.0319509583414]
[196,{"$f":"花园升级数值表!P197","v":10872.758545329396},1087.2758545329395,{"$f":"C197/花园升级数值表!J197","v":2.2499999999999999E-2},1630.9137817994094,2174.5517090658791]
[197,{"$f":"花园升级数值表!P198","v":11168.171395005995},1116.8171395005995,{"$f":"C198/花园升级数值表!J198","v":2.2499999999999999E-2},1675.2257092508992,2233.634279001199]
[198,{"$f":"花园升级数值表!P199","v":11471.610611808308},1147.1610611808308,{"$f":"C199/花园升级数值表!J199","v":2.2499999999999999E-2},1720.7415917712462,2294.3221223616615]
[199,{"$f":"花园升级数值表!P200","v":11783.294272131143},1178.3294272131143,{"$f":"C200/花园升级数值表!J200","v":2.250000000000001E-2},1767.4941408196714,2356.6588544262286]
[200,{"$f":"花园升级数值表!P201","v":12103.446377504939},1210.344637750494,{"$f":"C201/花园升级数值表!J201","v":2.2499999999999999E-2},1815.5169566257407,2420.6892755009881]
[201,{"$f":"花园升级数值表!P202","v":12432.297015581755},1243.2297015581755,{"$f":"C202/花园升级数值表!J202","v":2.250000000000001E-2},1864.8445523372632,2486.459403116351]
[202,{"$f":"花园升级数值表!P203","v":12770.082525495107},1277.0082525495109,{"$f":"C203/花园升级数值表!J203","v":2.2500000000000006E-2},1915.5123788242659,2554.0165050990217]
[203,{"$f":"花园升级数值表!P204","v":13117.045667712806},1311.7045667712807,{"$f":"C204/花园升级数值表!J204","v":2.2499999999999999E-2},1967.5568501569207,2623.4091335425614]
[204,{"$f":"花园升级数值表!P205","v":13473.435798504559},1347.3435798504561,{"$f":"C205/花园升级数值表!J205","v":2.2499999999999999E-2},2021.0153697756837,2694.6871597009122]
[205,{"$f":"花园升级数值表!P206","v":13839.509049149927},1383.9509049149929,{"$f":"C206/花园升级数值表!J206","v":2.2499999999999999E-2},2075.9263573724888,2767.9018098299857]
[206,{"$f":"花园升级数值表!P207","v":14215.528510015336},1421.5528510015338,{"$f":"C207/花园升级数值表!J207","v":2.250000000000001E-2},2132.3292765023002,2843.1057020030676]
[207,{"$f":"花园升级数值表!P208","v":14601.764419632445},1460.1764419632445,{"$f":"C208/花园升级数值表!J208","v":2.2499999999999999E-2},2190.2646629448668,2920.3528839264891]
[208,{"$f":"花园升级数值表!P209","v":14998.494358913857},1499.8494358913858,{"$f":"C209/花园升级数值表!J209","v":2.2499999999999999E-2},2249.7741538370783,2999.6988717827717]
[209,{"$f":"花园升级数值表!P210","v":15406.003450645549},1540.6003450645549,{"$f":"C210/花园升级数值表!J210","v":2.2500000000000003E-2},2310.9005175968323,3081.2006901291097]
[210,{"$f":"花园升级数值表!P211","v":15824.58456439958},1582.4584564399581,{"$f":"C211/花园升级数值表!J211","v":2.2500000000000003E-2},2373.6876846599371,3164.9169128799163]
[211,{"$f":"花园升级数值表!P212","v":16254.538527014316},1625.4538527014317,{"$f":"C212/花园升级数值表!J212","v":2.2500000000000003E-2},2438.1807790521475,3250.9077054028635]
[212,{"$f":"花园升级数值表!P213","v":16696.174338793291},1669.6174338793292,{"$f":"C213/花园升级数值表!J213","v":2.2499999999999999E-2},2504.4261508189934,3339.2348677586583]
[213,{"$f":"花园升级数值表!P214","v":17149.809395578304},1714.9809395578304,{"$f":"C214/花园升级数值表!J214","v":2.2499999999999999E-2},2572.4714093367456,3429.9618791156608]
[214,{"$f":"花园升级数值表!P215","v":17615.769716856164},1761.5769716856166,{"$f":"C215/花园升级数值表!J215","v":2.2499999999999999E-2},2642.3654575284245,3523.1539433712333]
[215,{"$f":"花园升级数值表!P216","v":18094.390180063139},1809.439018006314,{"$f":"C216/花园升级数值表!J216","v":2.2499999999999996E-2},2714.1585270094706,3618.8780360126279]
[216,{"$f":"花园升级数值表!P217","v":18586.014761255454},1858.6014761255456,{"$f":"C217/花园升级数值表!J217","v":2.2499999999999999E-2},2787.9022141883179,3717.2029522510911]
[217,{"$f":"花园升级数值表!P218","v":19090.996782318769},1909.0996782318771,{"$f":"C218/花园升级数值表!J218","v":2.2500000000000003E-2},2863.6495173478152,3818.1993564637542]
[218,{"$f":"花园升级数值表!P219","v":19609.699164894366},1960.9699164894366,{"$f":"C219/花园升级数值表!J219","v":2.2500000000000003E-2},2941.4548747341546,3921.9398329788733]
[219,{"$f":"花园升级数值表!P220","v":20142.494691204538},2014.2494691204538,{"$f":"C220/花园升级数值表!J220","v":2.2499999999999999E-2},3021.3742036806807,4028.4989382409076]
[220,{"$f":"花园升级数值表!P221","v":20689.766271964563},2068.9766271964563,{"$f":"C221/花园升级数值表!J221","v":2.2499999999999999E-2},3103.4649407946845,4137.9532543929126]
[221,{"$f":"花园升级数值表!P222","v":21251.907221573842},2125.1907221573842,{"$f":"C222/花园升级数值表!J222","v":2.2500000000000003E-2},3187.7860832360761,4250.3814443147685]
[222,{"$f":"花园升级数值表!P223","v":21829.321540784},2182.9321540783999,{"$f":"C223/花园升级数值表!J223","v":2.2499999999999999E-2},3274.3982311176001,4365.8643081567998]
[223,{"$f":"花园升级数值表!P224","v":22422.42420704709},2242.2424207047093,{"$f":"C224/花园升级数值表!J224","v":2.2499999999999996E-2},3363.3636310570632,4484.4848414094186]
[224,{"$f":"花园升级数值表!P225","v":23031.641472752563},2303.1641472752563,{"$f":"C225/花园升级数值表!J225","v":2.2499999999999996E-2},3454.7462209128844,4606.3282945505125]
[225,{"$f":"花园升级数值表!P226","v":23657.411171567252},2365.7411171567251,{"$f":"C226/花园升级数值表!J226","v":2.2499999999999996E-2},3548.6116757350878,4731.4822343134501]
[226,{"$f":"花园升级数值表!P227","v":24300.183033098725},2430.0183033098724,{"$f":"C227/花园升级数值表!J227","v":2.2499999999999996E-2},3645.0274549648088,4860.0366066197448]
[227,{"$f":"花园升级数值表!P228","v":24960.419006108023},2496.0419006108023,{"$f":"C228/花园升级数值表!J228","v":2.2500000000000003E-2},3744.0628509162034,4992.0838012216045]
[228,{"$f":"花园升级数值表!P229","v":25638.593590503977},2563.8593590503979,{"$f":"C229/花园升级数值表!J229","v":2.250000000000001E-2},3845.7890385755964,5127.7187181007957]
[229,{"$f":"花园升级数值表!P230","v":26335.19417835796},2633.519417835796,{"$f":"C230/花园升级数值表!J230","v":2.2500000000000003E-2},3950.2791267536941,5267.0388356715921]
[230,{"$f":"花园升级数值表!P231","v":27050.721404183947},2705.0721404183951,{"$f":"C231/花园升级数值表!J231","v":2.2500000000000006E-2},4057.6082106275917,5410.1442808367901]
[231,{"$f":"花园升级数值表!P232","v":27785.689504735608},2778.568950473561,{"$f":"C232/花园升级数值表!J232","v":2.2499999999999999E-2},4167.8534257103411,5557.137900947122]
[232,{"$f":"花园升级数值表!P233","v":28540.626688579265},2854.0626688579268,{"$f":"C233/花园升级数值表!J233","v":2.2499999999999996E-2},4281.0940032868893,5708.1253377158537]
[233,{"$f":"花园升级数值表!P234","v":29316.075515707969},2931.6075515707971,{"$f":"C234/花园升级数值表!J234","v":2.2499999999999996E-2},4397.4113273561952,5863.2151031415942]
[234,{"$f":"花园升级数值表!P235","v":30112.593287469761},3011.2593287469763,{"$f":"C235/花园升级数值表!J235","v":2.2500000000000003E-2},4516.888993120464,6022.5186574939526]
[235,{"$f":"花园升级数值表!P236","v":30930.752447090304},3093.0752447090308,{"$f":"C236/花园升级数值表!J236","v":2.2499999999999996E-2},4639.6128670635453,6186.1504894180616]
[236,{"$f":"花园升级数值表!P237","v":31771.140991077744},3177.1140991077746,{"$f":"C237/花园升级数值表!J237","v":2.2499999999999999E-2},4765.6711486616614,6354.2281982155491]
[237,{"$f":"花园升级数值表!P238","v":32634.362891805325},3263.4362891805326,{"$f":"C238/花园升级数值表!J238","v":2.2499999999999996E-2},4895.1544337707983,6526.8725783610653]
[238,{"$f":"花园升级数值表!P239","v":33521.038531575687},3352.1038531575687,{"$f":"C239/花园升级数值表!J239","v":2.2500000000000006E-2},5028.155779736353,6704.2077063151373]
[239,{"$f":"花园升级数值表!P240","v":34431.805148478597},3443.1805148478597,{"$f":"C240/花园升级数值表!J240","v":2.2500000000000003E-2},5164.7707722717896,6886.3610296957195]
[240,{"$f":"花园升级数值表!P241","v":35367.317294362743},3536.7317294362747,{"$f":"C241/花园升级数值表!J241","v":2.2499999999999999E-2},5305.0975941544111,7073.4634588725494]
[241,{"$f":"花园升级数值表!P242","v":36328.247305250588},3632.8247305250588,{"$f":"C242/花园升级数值表!J242","v":2.2500000000000006E-2},5449.2370957875883,7265.6494610501177]
[242,{"$f":"花园升级数值表!P243","v":37315.285784534251},3731.5285784534253,{"$f":"C243/花园升级数值表!J243","v":2.2500000000000006E-2},5597.2928676801375,7463.0571569068507]
[243,{"$f":"花园升级数值表!P244","v":38329.142099300036},3832.9142099300038,{"$f":"C244/花园升级数值表!J244","v":2.2500000000000006E-2},5749.3713148950055,7665.8284198600077]
[244,{"$f":"花园升级数值表!P245","v":39370.544890138015},3937.0544890138017,{"$f":"C245/花园升级数值表!J245","v":2.2500000000000003E-2},5905.5817335207021,7874.1089780276034]
[245,{"$f":"花园升级数值表!P246","v":40440.24259480305},4044.0242594803053,{"$f":"C246/花园升级数值表!J246","v":2.2500000000000003E-2},6066.0363892204577,8088.0485189606106]
[246,{"$f":"花园升级数值表!P247","v":41539.003986103853},4153.9003986103853,{"$f":"C247/花园升级数值表!J247","v":2.2500000000000003E-2},6230.850597915578,8307.8007972207706]
[247,{"$f":"花园升级数值表!P248","v":42667.618724406268},4266.7618724406266,{"$f":"C248/花园升级数值表!J248","v":2.2499999999999989E-2},6400.1428086609403,8533.5237448812532]
[248,{"$f":"花园升级数值表!P249","v":43826.897925148391},4382.6897925148396,{"$f":"C249/花园升级数值表!J249","v":2.2499999999999996E-2},6574.0346887722581,8765.3795850296792]
[249,{"$f":"花园升级数值表!P250","v":45017.674741774681},4501.7674741774681,{"$f":"C250/花园升级数值表!J250","v":2.2500000000000003E-2},6752.6512112662022,9003.5349483549362]
[250,{"$f":"花园升级数值表!P251","v":46240.804964508694},4624.0804964508698,{"$f":"C251/花园升级数值表!J251","v":2.2500000000000003E-2},6936.1207446763037,9248.1609929017395]
[251,{"$f":"花园升级数值表!P252","v":47497.167635394362},4749.7167635394362,{"$f":"C252/花园升级数值表!J252","v":2.2499999999999985E-2},7124.5751453091543,9499.4335270788724]
[252,{"$f":"花园升级数值表!P253","v":48787.665680048034},4878.766568004804,{"$f":"C253/花园升级数值表!J253","v":2.2499999999999996E-2},7318.1498520072046,9757.5331360096079]
[253,{"$f":"花园升级数值表!P254","v":50113.226556574948},5011.3226556574955,{"$f":"C254/花园升级数值表!J254","v":2.2500000000000003E-2},7516.9839834862414,10022.645311314991]
[254,{"$f":"花园升级数值表!P255","v":51474.802922117095},5147.4802922117096,{"$f":"C255/花园升级数值表!J255","v":2.2500000000000006E-2},7721.220438317564,10294.960584423419]
[255,{"$f":"花园升级数值表!P256","v":52873.373317511032},5287.3373317511032,{"$f":"C256/花园升级数值表!J256","v":2.2500000000000006E-2},7931.0059976266548,10574.674663502206]
[256,{"$f":"花园升级数值表!P257","v":54309.942870547777},5430.9942870547784,{"$f":"C257/花园升级数值表!J257","v":2.2500000000000003E-2},8146.4914305821658,10861.988574109557]
[257,{"$f":"花园升级数值表!P258","v":55785.544018340552},5578.5544018340552,{"$f":"C258/花园升级数值表!J258","v":2.2499999999999999E-2},8367.8316027510828,11157.10880366811]
[258,{"$f":"花园升级数值表!P259","v":57301.237249318867},{"$f":"B259*0.1","v":5730.1237249318874},{"$f":"C259/花园升级数值表!J259","v":2.2500000000000003E-2},{"$f":"B259*0.15","v":8595.1855873978293},{"$f":"B259*0.2","v":11460.247449863775}]
[259,{"$f":"花园升级数值表!P260","v":58858.11186538286},5885.8111865382862,{"$f":"C260/花园升级数值表!J260","v":2.2500000000000003E-2},8828.7167798074279,11771.622373076572]
[260,{"$f":"花园升级数值表!P261","v":60457.286764765311},6045.7286764765313,{"$f":"C261/花园升级数值表!J261","v":2.2500000000000003E-2},9068.5930147147956,12091.457352953063]
[261,{"$f":"花园升级数值表!P262","v":62099.911246163945},6209.9911246163947,{"$f":"C262/花园升级数值表!J262","v":2.2499999999999992E-2},9314.9866869245907,12419.982249232789]
[262,{"$f":"花园升级数值表!P263","v":63787.165834722226},6378.7165834722227,{"$f":"C263/花园升级数值表!J263","v":2.2499999999999999E-2},9568.0748752083327,12757.433166944445]
[263,{"$f":"花园升级数值表!P264","v":65520.263130451618},6552.0263130451622,{"$f":"C264/花园升级数值表!J264","v":2.2499999999999999E-2},9828.0394695677423,13104.052626090324]
[264,{"$f":"花园升级数值表!P265","v":67300.448679705965},6730.0448679705969,{"$f":"C265/花园升级数值表!J265","v":2.2499999999999996E-2},10095.067301955894,13460.089735941194]
[265,{"$f":"花园升级数值表!P266","v":69129.001870333581},6912.9001870333586,{"$f":"C266/花园升级数值表!J266","v":2.2499999999999999E-2},10369.350280550037,13825.800374066717]
[266,{"$f":"花园升级数值表!P267","v":71007.236851150534},7100.7236851150537,{"$f":"C267/花园升级数值表!J267","v":2.2499999999999999E-2},10651.08552767258,14201.447370230107]
[267,{"$f":"花园升级数值表!P268","v":72936.50347639629},7293.6503476396292,{"$f":"C268/花园升级数值表!J268","v":2.2499999999999999E-2},10940.475521459442,14587.300695279258]
[268,{"$f":"花园升级数值表!P269","v":74918.188275849971},7491.8188275849971,{"$f":"C269/花园升级数值表!J269","v":2.2499999999999996E-2},11237.728241377496,14983.637655169994]
[269,{"$f":"花园升级数值表!P270","v":76953.715451304815},7695.3715451304815,{"$f":"C270/花园升级数值表!J270","v":2.2499999999999999E-2},11543.057317695722,15390.743090260963]
[270,{"$f":"花园升级数值表!P271","v":79044.54790011677},7904.4547900116777,{"$f":"C271/花园升级数值表!J271","v":2.2500000000000006E-2},11856.682185017515,15808.909580023355]
[271,{"$f":"花园升级数值表!P272","v":81192.188266562895},8119.2188266562898,{"$f":"C272/花园升级数值表!J272","v":2.2499999999999996E-2},12178.828239984434,16238.43765331258]
[272,{"$f":"花园升级数值表!P273","v":83398.180021765424},8339.818002176542,{"$f":"C273/花园升级数值表!J273","v":2.2499999999999999E-2},12509.727003264814,16679.636004353084]
[273,{"$f":"花园升级数值表!P274","v":85664.108572956757},8566.4108572956757,{"$f":"C274/花园升级数值表!J274","v":2.2499999999999996E-2},12849.616285943514,17132.821714591351]
[274,{"$f":"花园升级数值表!P275","v":87991.602402884018},8799.1602402884018,{"$f":"C275/花园升级数值表!J275","v":2.2500000000000006E-2},13198.740360432603,17598.320480576804]
[275,{"$f":"花园升级数值表!P276","v":90382.33424017037},9038.2334240170367,{"$f":"C276/花园升级数值表!J276","v":2.2499999999999999E-2},13557.350136025556,18076.466848034073]
[276,{"$f":"花园升级数值表!P277","v":92838.02226147578},9283.802226147578,{"$f":"C277/花园升级数值表!J277","v":2.2499999999999999E-2},13925.703339221367,18567.604452295156]
[277,{"$f":"花园升级数值表!P278","v":95360.431326320075},9536.0431326320086,{"$f":"C278/花园升级数值表!J278","v":2.2500000000000003E-2},14304.06469894801,19072.086265264017]
[278,{"$f":"花园升级数值表!P279","v":97951.374245456173},9795.1374245456173,{"$f":"C279/花园升级数值表!J279","v":2.2499999999999996E-2},14692.706136818426,19590.274849091235]
[279,{"$f":"花园升级数值表!P280","v":100612.7130837052},10061.27130837052,{"$f":"C280/花园升级数值表!J280","v":2.2499999999999996E-2},15091.906962555779,20122.542616741041]
[280,{"$f":"花园升级数值表!P281","v":103346.36049818946},10334.636049818946,{"$f":"C281/花园升级数值表!J281","v":2.2499999999999996E-2},15501.954074728419,20669.272099637892]
[281,{"$f":"花园升级数值表!P282","v":106154.28111292528},10615.428111292529,{"$f":"C282/花园升级数值表!J282","v":2.2499999999999999E-2},15923.142166938791,21230.856222585058]
[282,{"$f":"花园升级数值表!P283","v":109038.49293076344},10903.849293076346,{"$f":"C283/花园升级数值表!J283","v":2.2500000000000003E-2},16355.773939614515,21807.698586152692]
[283,{"$f":"花园升级数值表!P284","v":112001.06878369224},11200.106878369224,{"$f":"C284/花园升级数值表!J284","v":2.2499999999999992E-2},16800.160317553837,22400.213756738449]
[284,{"$f":"花园升级数值表!P285","v":115044.13782254518},11504.413782254518,{"$f":"C285/花园升级数值表!J285","v":2.2500000000000003E-2},17256.620673381774,23008.827564509036]
[285,{"$f":"花园升级数值表!P286","v":118169.88704718367},11816.988704718367,{"$f":"C286/花园升级数值表!J286","v":2.2499999999999992E-2},17725.483057077548,23633.977409436735]
[286,{"$f":"花园升级数值表!P287","v":121380.56287825567},12138.056287825568,{"$f":"C287/花园升级数值表!J287","v":2.2499999999999999E-2},18207.084431738349,24276.112575651136]
[287,{"$f":"花园升级数值表!P288","v":124678.47277165791},12467.847277165791,{"$f":"C288/花园升级数值表!J288","v":2.2499999999999999E-2},18701.770915748686,24935.694554331581]
[288,{"$f":"花园升级数值表!P289","v":128065.98687686386},12806.598687686386,{"$f":"C289/花园升级数值表!J289","v":2.2500000000000006E-2},19209.898031529578,25613.197375372773]
[289,{"$f":"花园升级数值表!P290","v":131545.53974030819},13154.55397403082,{"$f":"C290/花园升级数值表!J290","v":2.2499999999999999E-2},19731.830961046227,26309.107948061639]
[290,{"$f":"花园升级数值表!P291","v":135119.63205505241},13511.963205505243,{"$f":"C291/花园升级数值表!J291","v":2.250000000000001E-2},20267.94480825786,27023.926411010485]
[291,{"$f":"花园升级数值表!P292","v":138790.83245798812},13879.083245798813,{"$f":"C292/花园升级数值表!J292","v":2.2499999999999996E-2},20818.624868698218,27758.166491597625]
[292,{"$f":"花园升级数值表!P293","v":142561.7793758717},14256.17793758717,{"$f":"C293/花园升级数值表!J293","v":2.2499999999999999E-2},21384.266906380755,28512.35587517434]
[293,{"$f":"花园升级数值表!P294","v":146435.18292151406},14643.518292151406,{"$f":"C294/花园升级数值表!J294","v":2.2499999999999992E-2},21965.277438227109,29287.036584302812]
[294,{"$f":"花园升级数值表!P295","v":150413.82684149162},15041.382684149163,{"$f":"C295/花园升级数值表!J295","v":2.2499999999999996E-2},22562.074026223741,30082.765368298325]
[295,{"$f":"花园升级数值表!P296","v":154500.57051677495},15450.057051677497,{"$f":"C296/花园升级数值表!J296","v":2.2500000000000003E-2},23175.085577516242,30900.114103354994]
[296,{"$f":"花园升级数值表!P297","v":158698.35101771576},15869.835101771576,{"$f":"C297/花园升级数值表!J297","v":2.250000000000001E-2},23804.752652657364,31739.670203543152]
[297,{"$f":"花园升级数值表!P298","v":163010.18521486697},16301.018521486698,{"$f":"C298/花园升级数值表!J298","v":2.2499999999999996E-2},24451.527782230045,32602.037042973396]
[298,{"$f":"花园升级数值表!P299","v":167439.17194715494},16743.917194715494,{"$f":"C299/花园升级数值表!J299","v":2.2499999999999996E-2},25115.875792073242,33487.834389430987]
[299,{"$f":"花园升级数值表!P300","v":171988.49424895915},17198.849424895914,{"$f":"C300/花园升级数值表!J300","v":2.2499999999999999E-2},25798.274137343873,34397.698849791828]
[300,{"$f":"花园升级数值表!P301","v":176661.42163770334},17666.142163770335,{"$f":"C301/花园升级数值表!J301","v":2.2500000000000003E-2},26499.213245655501,35332.28432754067]
[301,{"$f":"花园升级数值表!P302","v":181461.31246359978},18146.131246359979,{"$f":"C302/花园升级数值表!J302","v":2.2500000000000006E-2},27219.196869539966,36292.262492719958]
[302,{"$f":"花园升级数值表!P303","v":186391.61632323574},18639.161632323576,{"$f":"C303/花园升级数值表!J303","v":2.2500000000000006E-2},27958.742448485358,37278.323264647152]
[303,{"$f":"花园升级数值表!P304","v":191455.87653873806},19145.587653873805,{"$f":"C304/花园升级数值表!J304","v":2.250000000000001E-2},28718.381480810709,38291.17530774761]
[304,{"$f":"花园升级数值表!P305","v":196657.73270429549},19665.773270429549,{"$f":"C305/花园升级数值表!J305","v":2.2500000000000006E-2},29498.659905644323,39331.546540859097]
[305,{"$f":"花园升级数值表!P306","v":202000.92330187114},20200.092330187115,{"$f":"C306/花园升级数值表!J306","v":2.2499999999999999E-2},30300.138495280669,40400.184660374231]
[306,{"$f":"花园升级数值表!P307","v":207489.28838798299},20748.9288387983,{"$f":"C307/花园升级数值表!J307","v":2.2500000000000003E-2},31123.393258197448,41497.857677596599]
[307,{"$f":"花园升级数值表!P308","v":213126.77235348444},21312.677235348445,{"$f":"C308/花园升级数值表!J308","v":2.2500000000000003E-2},31969.015853022665,42625.35447069689]
[308,{"$f":"花园升级数值表!P309","v":218917.4267583286},21891.742675832862,{"$f":"C309/花园升级数值表!J309","v":2.2500000000000006E-2},32837.614013749291,43783.485351665724]
[309,{"$f":"花园升级数值表!P310","v":224865.41324335226},22486.541324335227,{"$f":"C310/花园升级数值表!J310","v":2.2499999999999996E-2},33729.811986502835,44973.082648670454]
[310,{"$f":"花园升级数值表!P311","v":230975.00652117404},23097.500652117407,{"$f":"C311/花园升级数值表!J311","v":2.2499999999999992E-2},34646.250978176104,46195.001304234815]
[311,{"$f":"花园升级数值表!P312","v":237250.59744835438},23725.059744835438,{"$f":"C312/花园升级数值表!J312","v":2.2499999999999999E-2},35587.589617253157,47450.119489670877]
[312,{"$f":"花园升级数值表!P313","v":243696.6961810262},24369.66961810262,{"$f":"C313/花园升级数值表!J313","v":2.2500000000000003E-2},36554.50442715393,48739.33923620524]
[313,{"$f":"花园升级数值表!P314","v":250317.93541626463},25031.793541626466,{"$f":"C314/花园升级数值表!J314","v":2.2500000000000003E-2},37547.690312439692,50063.587083252933]
[314,{"$f":"花园升级数值表!P315","v":257119.07372152447},25711.907372152447,{"$f":"C315/花园升级数值表!J315","v":2.2499999999999992E-2},38567.861058228671,51423.814744304895]
[315,{"$f":"花园升级数值表!P316","v":264104.99895453831},26410.499895453831,{"$f":"C316/花园升级数值表!J316","v":2.2499999999999999E-2},39615.749843180747,52820.999790907663]
[316,{"$f":"花园升级数值表!P317","v":271280.73177613306},27128.073177613307,{"$f":"C317/花园升级数值表!J317","v":2.2499999999999996E-2},40692.109766419955,54256.146355226614]
[317,{"$f":"花园升级数值表!P318","v":278651.42925849056},27865.142925849057,{"$f":"C318/花园升级数值表!J318","v":2.2499999999999992E-2},41797.71438877358,55730.285851698114]
[318,{"$f":"花园升级数值表!P319","v":286222.38859144377},28622.238859144378,{"$f":"C319/花园升级数值表!J319","v":2.2499999999999996E-2},42933.358288716561,57244.477718288756]
[319,{"$f":"花园升级数值表!P320","v":293999.05088947323},29399.905088947326,{"$f":"C320/花园升级数值表!J320","v":2.2499999999999996E-2},44099.857633420987,58799.810177894651]
[320,{"$f":"花园升级数值表!P321","v":301987.00510214031},30198.700510214032,{"$f":"C321/花园升级数值表!J321","v":2.2499999999999999E-2},45298.050765321044,60397.401020428064]
[321,{"$f":"花园升级数值表!P322","v":310191.9920307654},31019.19920307654,{"$f":"C322/花园升级数值表!J322","v":2.2499999999999999E-2},46528.798804614809,62038.398406153079]
[322,{"$f":"花园升级数值表!P323","v":318619.90845424117},{"$f":"B323*0.1","v":31861.990845424119},{"$f":"C323/花园升级数值表!J323","v":2.2499999999999992E-2},{"$f":"B323*0.15","v":47792.986268136177},{"$f":"B323*0.2","v":63723.981690848239}]
[323,{"$f":"花园升级数值表!P324","v":327276.811366943},32727.6811366943,{"$f":"C324/花园升级数值表!J324","v":2.2499999999999999E-2},49091.52170504145,65455.3622733886]
[324,{"$f":"花园升级数值表!P325","v":336168.9223317827},33616.892233178274,{"$f":"C325/花园升级数值表!J325","v":2.2499999999999999E-2},50425.3383497674,67233.784466356548]
[325,{"$f":"花园升级数值表!P326","v":345302.6319515371},34530.263195153711,{"$f":"C326/花园升级数值表!J326","v":2.2499999999999992E-2},51795.394792730563,69060.526390307423]
[326,{"$f":"花园升级数值表!P327","v":354684.50446166046},35468.450446166047,{"$f":"C327/花园升级数值表!J327","v":2.2499999999999999E-2},53202.675669249067,70936.900892332094]
[327,{"$f":"花园升级数值表!P328","v":364321.2824478838},36432.128244788379,{"$f":"C328/花园升级数值表!J328","v":2.2499999999999999E-2},54648.192367182572,72864.256489576757]
[328,{"$f":"花园升级数值表!P329","v":374219.89169199258},37421.98916919926,{"$f":"C329/花园升级数值表!J329","v":2.2499999999999992E-2},56132.983753798886,74843.97833839852]
[329,{"$f":"花园升级数值表!P330","v":384387.44614926429},38438.744614926429,{"$f":"C330/花园升级数值表!J330","v":2.250000000000001E-2},57658.116922389643,76877.489229852858]
[330,{"$f":"花园升级数值表!P331","v":394831.25306113955},39483.125306113958,{"$f":"C331/花园升级数值表!J331","v":2.2499999999999996E-2},59224.687959170929,78966.250612227916]
[331,{"$f":"花园升级数值表!P332","v":405558.81820681068},40555.881820681068,{"$f":"C332/花园升级数值表!J332","v":2.2499999999999996E-2},60833.822731021603,81111.763641362137]
[332,{"$f":"花园升级数值表!P333","v":416577.85129748966},41657.785129748969,{"$f":"C333/花园升级数值表!J333","v":2.2499999999999996E-2},62486.677694623446,83315.570259497938]
[333,{"$f":"花园升级数值表!P334","v":427896.27151724254},42789.627151724257,{"$f":"C334/花园升级数值表!J334","v":2.2499999999999999E-2},64184.440727586378,85579.254303448513]
[334,{"$f":"花园升级数值表!P335","v":439522.21321436606},43952.221321436606,{"$f":"C335/花园升级数值表!J335","v":2.2499999999999999E-2},65928.331982154908,87904.442642873211]
[335,{"$f":"花园升级数值表!P336","v":451464.03174740047},45146.403174740051,{"$f":"C336/花园升级数值表!J336","v":2.250000000000001E-2},67719.604762110073,90292.806349480103]
[336,{"$f":"花园升级数值表!P337","v":463730.30948997702},46373.030948997708,{"$f":"C337/花园升级数值表!J337","v":2.2499999999999999E-2},69559.546423496548,92746.061897995416]
[337,{"$f":"花园升级数值表!P338","v":476329.86199881975},47632.986199881976,{"$f":"C338/花园升级数值表!J338","v":2.2499999999999999E-2},71449.479299822953,95265.972399763952]
[338,{"$f":"花园升级数值表!P339","v":489271.7443493277},48927.174434932771,{"$f":"C339/花园升级数值表!J339","v":2.2500000000000006E-2},73390.761652399146,97854.348869865542]
[339,{"$f":"花园升级数值表!P340","v":502565.25764329865},50256.525764329868,{"$f":"C340/花园升级数值表!J340","v":2.2499999999999996E-2},75384.788646494795,100513.05152865974]
[340,{"$f":"花园升级数值表!P341","v":516219.95569346723},51621.995569346727,{"$f":"C341/花园升级数值表!J341","v":2.2500000000000006E-2},77432.993354020087,103243.99113869345]
[341,{"$f":"花园升级数值表!P342","v":530245.65188965865},53024.565188965869,{"$f":"C342/花园升级数值表!J342","v":2.2499999999999999E-2},79536.8477834488,106049.13037793174]
[342,{"$f":"花园升级数值表!P343","v":544652.4262515005},54465.242625150051,{"$f":"C343/花园升级数值表!J343","v":2.2499999999999992E-2},81697.863937725066,108930.4852503001]
[343,{"$f":"花园升级数值表!P344","v":559450.63267275412},55945.063267275415,{"$f":"C344/花园升级数值表!J344","v":2.2500000000000006E-2},83917.594900913115,111890.12653455083]
[344,{"$f":"花园升级数值表!P345","v":574650.90636247268},57465.090636247274,{"$f":"C345/花园升级数值表!J345","v":2.2500000000000006E-2},86197.635954370897,114930.18127249455]
[345,{"$f":"花园升级数值表!P346","v":590264.17148834094},59026.417148834094,{"$f":"C346/花园升级数值表!J346","v":2.2499999999999999E-2},88539.625723251142,118052.83429766819]
[346,{"$f":"花园升级数值表!P347","v":606301.64902767912},60630.164902767916,{"$f":"C347/花园升级数值表!J347","v":2.2500000000000003E-2},90945.24735415187,121260.32980553583]
[347,{"$f":"花园升级数值表!P348","v":622774.86483176099},62277.486483176101,{"$f":"C348/花园升级数值表!J348","v":2.2499999999999999E-2},93416.22972476414,124554.9729663522]
[348,{"$f":"花园升级数值表!P349","v":639695.65790923988},63969.565790923989,{"$f":"C349/花园升级数值表!J349","v":2.2499999999999999E-2},95954.348686385973,127939.13158184798]
[349,{"$f":"花园升级数值表!P350","v":657076.18893463386},65707.618893463383,{"$f":"C350/花园升级数值表!J350","v":2.2499999999999999E-2},98561.428340195082,131415.23778692677]
[350,{"$f":"花园升级数值表!P351","v":674928.94898798841},67492.894898798841,{"$f":"C351/花园升级数值表!J351","v":2.2500000000000017E-2},101239.34234819826,134985.78979759768]
[351,{"$f":"花园升级数值表!P352","v":693266.76853199163},69326.676853199169,{"$f":"C352/花园升级数值表!J352","v":2.2500000000000006E-2},103990.01527979874,138653.35370639834]
[352,{"$f":"花园升级数值表!P353","v":712102.82663300552},71210.282663300561,{"$f":"C353/花园升级数值表!J353","v":2.2499999999999999E-2},106815.42399495082,142420.56532660112]
[353,{"$f":"花园升级数值表!P354","v":731450.66043262428},73145.066043262428,{"$f":"C354/花园升级数值表!J354","v":2.2499999999999999E-2},109717.59906489364,146290.13208652486]
[354,{"$f":"花园升级数值表!P355","v":751324.17487657839},75132.417487657847,{"$f":"C355/花园升级数值表!J355","v":2.2499999999999996E-2},112698.62623148675,150264.83497531569]
[355,{"$f":"花园升级数值表!P356","v":771737.65270797512},77173.765270797521,{"$f":"C356/花园升级数值表!J356","v":2.2499999999999999E-2},115760.64790619626,154347.53054159504]
[356,{"$f":"花园升级数值表!P357","v":792705.76473205059},79270.576473205059,{"$f":"C357/花园升级数值表!J357","v":2.2499999999999992E-2},118905.86470980759,158541.15294641012]
[357,{"$f":"花园升级数值表!P358","v":814243.58035982051},81424.358035982063,{"$f":"C358/花园升级数值表!J358","v":2.2500000000000003E-2},122136.53705397306,162848.71607196413]
[358,{"$f":"花园升级数值表!P359","v":836366.5784381968},83636.657843819688,{"$f":"C359/花园升级数值表!J359","v":2.2500000000000003E-2},125454.98676572951,167273.31568763938]
[359,{"$f":"花园升级数值表!P360","v":859090.65837436239},85909.065837436239,{"$f":"C360/花园升级数值表!J360","v":2.2499999999999999E-2},128863.59875615436,171818.13167487248]
[360,{"$f":"花园升级数值表!P361","v":882432.15156239376},88243.215156239385,{"$f":"C361/花园升级数值表!J361","v":2.2499999999999999E-2},132364.82273435907,176486.43031247877]
[361,{"$f":"花园升级数值表!P362","v":906407.83312034397},90640.7833120344,{"$f":"C362/花园升级数值表!J362","v":2.2499999999999999E-2},135961.17496805158,181281.5666240688]
[362,{"$f":"花园升级数值表!P363","v":931034.93394622346},93103.493394622346,{"$f":"C363/花园升级数值表!J363","v":2.2499999999999996E-2},139655.24009193352,186206.98678924469]
[363,{"$f":"花园升级数值表!P364","v":956331.1531015425},95633.115310154259,{"$f":"C364/花园升级数值表!J364","v":2.2500000000000003E-2},143449.67296523138,191266.23062030852]
[364,{"$f":"花园升级数值表!P365","v":982314.67053131107},98231.467053131113,{"$f":"C365/花园升级数值表!J365","v":2.2499999999999996E-2},147347.20057969666,196462.93410626223]
[365,{"$f":"花园升级数值表!P366","v":1009004.1601296468},100900.41601296468,{"$f":"C366/花园升级数值表!J366","v":2.2499999999999992E-2},151350.62401944702,201800.83202592935]
[366,{"$f":"花园升级数值表!P367","v":1036418.803160369},103641.88031603691,{"$f":"C367/花园升级数值表!J367","v":2.2499999999999996E-2},155462.82047405536,207283.76063207383]
[367,{"$f":"花园升级数值表!P368","v":1064578.3020422366},106457.83020422366,{"$f":"C368/花园升级数值表!J368","v":2.2499999999999999E-2},159686.74530633548,212915.66040844732]
[368,{"$f":"花园升级数值表!P369","v":1093502.8945087241},109350.28945087241,{"$f":"C369/花园升级数值表!J369","v":2.2499999999999999E-2},164025.4341763086,218700.57890174483]
[369,{"$f":"花园升级数值表!P370","v":1123213.3681525264},112321.33681525265,{"$f":"C370/花园升级数值表!J370","v":2.250000000000001E-2},168482.00522287897,224642.67363050531]
[370,{"$f":"花园升级数值表!P371","v":1153731.0753652304},115373.10753652305,{"$f":"C371/花园升级数值表!J371","v":2.2500000000000006E-2},173059.66130478456,230746.2150730461]
[371,{"$f":"花园升级数值表!P372","v":1185077.9486829038},118507.79486829038,{"$f":"C372/花园升级数值表!J372","v":2.250000000000001E-2},177761.69230243555,237015.58973658076]
[372,{"$f":"花园升级数值表!P373","v":1217276.5165486177},121727.65165486178,{"$f":"C373/花园升级数值表!J373","v":2.2500000000000003E-2},182591.47748229266,243455.30330972356]
[373,{"$f":"花园升级数值表!P374","v":1250349.9195032441},125034.99195032442,{"$f":"C374/花园升级数值表!J374","v":2.250000000000001E-2},187552.48792548661,250069.98390064883]
[374,{"$f":"花园升级数值表!P375","v":1284321.9268161461},128432.19268161462,{"$f":"C375/花园升级数值表!J375","v":2.2499999999999996E-2},192648.2890224219,256864.38536322923]
[375,{"$f":"花园升级数值表!P376","v":1319216.953567741},131921.69535677411,{"$f":"C376/花园升级数值表!J376","v":2.2500000000000006E-2},197882.54303516113,263843.39071354823]
[376,{"$f":"花园升级数值表!P377","v":1355060.0781961754},135506.00781961755,{"$f":"C377/花园升级数值表!J377","v":2.2499999999999989E-2},203259.0117294263,271012.01563923509]
[377,{"$f":"花园升级数值表!P378","v":1391877.0605207668},139187.70605207668,{"$f":"C378/花园升级数值表!J378","v":2.2500000000000006E-2},208781.55907811501,278375.41210415337]
[378,{"$f":"花园升级数值表!P379","v":1429694.3602551157},142969.43602551156,{"$f":"C379/花园升级数值表!J379","v":2.2499999999999996E-2},214454.15403826736,285938.87205102312]
[379,{"$f":"花园升级数值表!P380","v":1468539.1560232474},146853.91560232473,{"$f":"C380/花园升级数值表!J380","v":2.2500000000000003E-2},220280.87340348712,293707.83120464947]
[380,{"$f":"花园升级数值表!P381","v":1508439.3648923987},150843.93648923989,{"$f":"C381/花园升级数值表!J381","v":2.2500000000000006E-2},226265.90473385979,301687.87297847978]
[381,{"$f":"花园升级数值表!P382","v":1549423.6624365251},154942.3662436525,{"$f":"C382/花园升级数值表!J382","v":2.2500000000000003E-2},232413.54936547877,309884.73248730501]
[382,{"$f":"花园升级数值表!P383","v":1591521.5033449256},159152.15033449256,{"$f":"C383/花园升级数值表!J383","v":2.2500000000000003E-2},238728.22550173884,318304.30066898512]
[383,{"$f":"花园升级数值表!P384","v":1634763.1425908066},163476.31425908068,{"$f":"C384/花园升级数值表!J384","v":2.2500000000000003E-2},245214.47138862096,326952.62851816136]
[384,{"$f":"花园升级数值表!P385","v":1679179.6571749991},167917.96571749993,{"$f":"C385/花园升级数值表!J385","v":2.2500000000000006E-2},251876.94857624985,335835.93143499986]
[385,{"$f":"花园升级数值表!P386","v":1724802.9684604437},172480.29684604437,{"$f":"C386/花园升级数值表!J386","v":2.2500000000000003E-2},258720.44526906655,344960.59369208873]
[386,{"$f":"花园升级数值表!P387","v":1771665.8651135138},{"$f":"B387*0.1","v":177166.5865113514},{"$f":"C387/花园升级数值表!J387","v":2.2500000000000006E-2},{"$f":"B387*0.15","v":265749.87976702704},{"$f":"B387*0.2","v":354333.1730227028}]
[387,{"$f":"花园升级数值表!P388","v":1819802.0266686475},181980.20266686476,{"$f":"C388/花园升级数值表!J388","v":2.2500000000000003E-2},272970.3040002971,363960.40533372952]
[388,{"$f":"花园升级数值表!P389","v":1869246.0477332342},186924.60477332343,{"$f":"C389/花园升级数值表!J389","v":2.2499999999999999E-2},280386.9071599851,373849.20954664686]
[389,{"$f":"花园升级数值表!P390","v":1920033.4628501455},192003.34628501456,{"$f":"C390/花园升级数值表!J390","v":2.2499999999999992E-2},288005.01942752179,384006.69257002912]
[390,{"$f":"花园升级数值表!P391","v":1972200.7720357846},197220.07720357846,{"$f":"C391/花园升级数值表!J391","v":2.2500000000000003E-2},295830.11580536765,394440.15440715692]
[391,{"$f":"花园升级数值表!P392","v":2025785.4670119965},202578.54670119967,{"$f":"C392/花园升级数值表!J392","v":2.2499999999999999E-2},303867.82005179947,405157.09340239933]
[392,{"$f":"花园升级数值表!P393","v":2080826.0581507129},208082.60581507129,{"$f":"C393/花园升级数值表!J393","v":2.2500000000000003E-2},312123.9087226069,416165.21163014258]
[393,{"$f":"花园升级数值表!P394","v":2137362.1021506679},213736.21021506679,{"$f":"C394/花园升级数值表!J394","v":2.2500000000000006E-2},320604.31532260019,427472.42043013358]
[394,{"$f":"花园升级数值表!P395","v":2195434.2304661013},219543.42304661014,{"$f":"C395/花园升级数值表!J395","v":2.2500000000000006E-2},329315.13456991519,439086.84609322029]
[395,{"$f":"花园升级数值表!P396","v":2255084.1785078645},225508.41785078647,{"$f":"C396/花园升级数值表!J396","v":2.2499999999999999E-2},338262.62677617965,451016.83570157294]
[396,{"$f":"花园升级数值表!P397","v":2316354.8156379233},231635.48156379233,{"$f":"C397/花园升级数值表!J397","v":2.2500000000000006E-2},347453.2223456885,463270.96312758466]
[397,{"$f":"花园升级数值表!P398","v":2379290.1759788049},237929.01759788051,{"$f":"C398/花园升级数值表!J398","v":2.2499999999999999E-2},356893.52639682073,475858.03519576101]
[398,{"$f":"花园升级数值表!P399","v":2443935.4900601488},244393.54900601489,{"$f":"C399/花园升级数值表!J399","v":2.2499999999999999E-2},366590.3235090223,488787.09801202978]
[399,{"$f":"花园升级数值表!P400","v":2510337.2173250825},251033.72173250827,{"$f":"C400/花园升级数值表!J400","v":2.2499999999999999E-2},376550.58259876235,502067.44346501655]
[400,{"$f":"花园升级数值表!P401","v":2578543.079519806},257854.30795198062,{"$f":"C401/花园升级数值表!J401","v":2.2500000000000006E-2},386781.46192797087,515708.61590396124]
[401,{"$f":"花园升级数值表!P402","v":2648602.0949903582},264860.20949903585,{"$f":"C402/花园升级数值表!J402","v":2.2500000000000003E-2},397290.31424855371,529720.41899807169]
[402,{"$f":"花园升级数值表!P403","v":2720564.6139112455},272056.46139112458,{"$f":"C403/花园升级数值表!J403","v":2.2500000000000003E-2},408084.69208668679,544112.92278224917]
[403,{"$f":"花园升级数值表!P404","v":2794482.3544712146},279448.23544712149,{"$f":"C404/花园升级数值表!J404","v":2.2500000000000003E-2},419172.35317068215,558896.47089424299]
[404,{"$f":"花园升级数值表!P405","v":2870408.4400421963},287040.84400421963,{"$f":"C405/花园升级数值表!J405","v":2.2499999999999996E-2},430561.26600632945,574081.68800843926]
[405,{"$f":"花园升级数值表!P406","v":2948397.4373581433},294839.74373581435,{"$f":"C406/花园升级数值表!J406","v":2.2500000000000006E-2},442259.61560372147,589679.4874716287]
[406,{"$f":"花园升级数值表!P407","v":3028505.3957311627},302850.53957311629,{"$f":"C407/花园升级数值表!J407","v":2.2499999999999996E-2},454275.8093596744,605701.07914623257]
[407,{"$f":"花园升级数值表!P408","v":3110789.8873331789},311078.98873331788,{"$f":"C408/花园升级数值表!J408","v":2.2499999999999999E-2},466618.48309997685,622157.97746663576]
[408,{"$f":"花园升级数值表!P409","v":3195310.0485720201},319531.00485720206,{"$f":"C409/花园升级数值表!J409","v":2.2499999999999996E-2},479296.50728580297,639062.00971440412]
[409,{"$f":"花园升级数值表!P410","v":3282126.6225917232},328212.66225917236,{"$f":"C410/花园升级数值表!J410","v":2.2500000000000006E-2},492318.99338875845,656425.32451834471]
[410,{"$f":"花园升级数值表!P411","v":3371302.0029275389},337130.20029275393,{"$f":"C411/花园升级数值表!J411","v":2.2499999999999996E-2},505695.30043913081,674260.40058550786]
[411,{"$f":"花园升级数值表!P412","v":3462900.2783470815},346290.02783470816,{"$f":"C412/花园升级数值表!J412","v":2.2500000000000006E-2},519435.04175206221,692580.05566941632]
[412,{"$f":"花园升级数值表!P413","v":3556987.2789097712},355698.72789097717,{"$f":"C413/花园升级数值表!J413","v":2.2500000000000006E-2},533548.09183646564,711397.45578195434]
[413,{"$f":"花园升级数值表!P414","v":3653630.623277748},365363.06232777482,{"$f":"C414/花园升级数值表!J414","v":2.2499999999999996E-2},548044.59349166218,730726.12465554965]
[414,{"$f":"花园升级数值表!P415","v":3752899.7673122035},375289.97673122038,{"$f":"C415/花园升级数值表!J415","v":2.2499999999999996E-2},562934.96509683051,750579.95346244075]
[415,{"$f":"花园升级数值表!P416","v":3854866.0539900782},385486.60539900785,{"$f":"C416/花园升级数值表!J416","v":2.250000000000001E-2},578229.90809851175,770973.2107980157]
[416,{"$f":"花园升级数值表!P417","v":3959602.7646769858},395960.27646769863,{"$f":"C417/花园升级数值表!J417","v":2.2499999999999999E-2},593940.41470154782,791920.55293539725]
[417,{"$f":"花园升级数值表!P418","v":4067185.1717932615},406718.51717932615,{"$f":"C418/花园升级数值表!J418","v":2.2500000000000003E-2},610077.77576898923,813437.03435865231]
[418,{"$f":"花园升级数值表!P419","v":4177690.5929108821},417769.05929108826,{"$f":"C419/花园升级数值表!J419","v":2.2499999999999999E-2},626653.58893663227,835538.11858217651]
[419,{"$f":"花园升级数值表!P420","v":4291198.4463202711},429119.84463202715,{"$f":"C420/花园升级数值表!J420","v":2.2500000000000003E-2},643679.76694804069,858239.68926405429]
[420,{"$f":"花园升级数值表!P421","v":4407790.3081067903},440779.03081067908,{"$f":"C421/花园升级数值表!J421","v":2.2499999999999996E-2},661168.5462160185,881558.06162135815]
[421,{"$f":"花园升级数值表!P422","v":4527549.9707780546},452754.99707780546,{"$f":"C422/花园升级数值表!J422","v":2.250000000000001E-2},679132.49561670818,905509.99415561091]
[422,{"$f":"花园升级数值表!P423","v":4650563.5034840917},465056.35034840921,{"$f":"C423/花园升级数值表!J423","v":2.2499999999999999E-2},697584.52552261378,930112.70069681841]
[423,{"$f":"花园升级数值表!P424","v":4776919.313873752},477691.93138737523,{"$f":"C424/花园升级数值表!J424","v":2.2499999999999989E-2},716537.89708106278,955383.86277475045]
[424,{"$f":"花园升级数值表!P425","v":4906708.2116317051},490670.82116317051,{"$f":"C425/花园升级数值表!J425","v":2.2500000000000006E-2},736006.23174475576,981341.64232634101]
[425,{"$f":"花园升级数值表!P426","v":5040023.4737417335},504002.34737417335,{"$f":"C426/花园升级数值表!J426","v":2.2499999999999992E-2},756003.52106126002,1008004.6947483467]
[426,{"$f":"花园升级数值表!P427","v":5176960.9115232984},517696.09115232987,{"$f":"C427/花园升级数值表!J427","v":2.2500000000000006E-2},776544.13672849478,1035392.1823046597]
[427,{"$f":"花园升级数值表!P428","v":5317618.9394893851},531761.89394893858,{"$f":"C428/花园升级数值表!J428","v":2.2500000000000003E-2},797642.8409234077,1063523.7878978772]
[428,{"$f":"花园升级数值表!P429","v":5462098.6460753111},546209.86460753111,{"$f":"C429/花园升级数值表!J429","v":2.2499999999999999E-2},819314.79691129667,1092419.7292150622]
[429,{"$f":"花园升级数值表!P430","v":5610503.8662891779},561050.38662891777,{"$f":"C430/花园升级数值表!J430","v":2.2499999999999999E-2},841575.57994337671,1122100.7732578355]
[430,{"$f":"花园升级数值表!P431","v":5762941.256336255},576294.12563362555,{"$f":"C431/花园升级数值表!J431","v":2.2500000000000006E-2},864441.1884504382,1152588.2512672511]
[431,{"$f":"花园升级数值表!P432","v":5919520.3702709107},591952.03702709114,{"$f":"C432/花园升级数值表!J432","v":2.2500000000000006E-2},887928.05554063653,1183904.0740541823]
[432,{"$f":"花园升级数值表!P433","v":6080353.7387311673},608035.3738731168,{"$f":"C433/花园升级数值表!J433","v":2.2499999999999989E-2},912053.06080967502,1216070.7477462336]
[433,{"$f":"花园升级数值表!P434","v":6245556.9498124979},624555.69498124986,{"$f":"C434/花园升级数值表!J434","v":2.2500000000000006E-2},936833.54247187462,1249111.3899624997]
[434,{"$f":"花园升级数值表!P435","v":6415248.7321389029},641524.87321389036,{"$f":"C435/花园升级数值表!J435","v":2.2500000000000006E-2},962287.30982083536,1283049.7464277807]
[435,{"$f":"花园升级数值表!P436","v":6589551.0401911158},658955.1040191116,{"$f":"C436/花园升级数值表!J436","v":2.2500000000000003E-2},988432.65602866735,1317910.2080382232]
[436,{"$f":"花园升级数值表!P437","v":6768589.1419531051},676858.91419531056,{"$f":"C437/花园升级数值表!J437","v":2.2499999999999999E-2},1015288.3712929657,1353717.8283906211]
[437,{"$f":"花园升级数值表!P438","v":6952491.7089399705},695249.17089399707,{"$f":"C438/花园升级数值表!J438","v":2.2499999999999999E-2},1042873.7563409955,1390498.3417879941]
[438,{"$f":"花园升级数值表!P439","v":7141390.9086718718},714139.09086718725,{"$f":"C439/花园升级数值表!J439","v":2.2500000000000006E-2},1071208.6363007808,1428278.1817343745]
[439,{"$f":"花园升级数值表!P440","v":7335422.4996604864},733542.24996604864,{"$f":"C440/花园升级数值表!J440","v":2.250000000000001E-2},1100313.374949073,1467084.4999320973]
[440,{"$f":"花园升级数值表!P441","v":7534725.9289762573},753472.59289762576,{"$f":"C441/花园升级数值表!J441","v":2.2499999999999999E-2},1130208.8893464385,1506945.1857952515]
[441,{"$f":"花园升级数值表!P442","v":7739444.4324665414},773944.44324665423,{"$f":"C442/花园升级数值表!J442","v":2.2500000000000003E-2},1160916.6648699811,1547888.8864933085]
[442,{"$f":"花园升级数值表!P443","v":7949725.1376966536},794972.51376966538,{"$f":"C443/花园升级数值表!J443","v":2.2499999999999992E-2},1192458.7706544979,1589945.0275393308]
[443,{"$f":"花园升级数值表!P444","v":8165719.1696878718},816571.91696878721,{"$f":"C444/花园升级数值表!J444","v":2.2499999999999996E-2},1224857.8754531806,1633143.8339375744]
[444,{"$f":"花园升级数值表!P445","v":8387581.7595282923},838758.1759528293,{"$f":"C445/花园升级数值表!J445","v":2.2499999999999999E-2},1258137.2639292439,1677516.3519056586]
[445,{"$f":"花园升级数值表!P446","v":8615472.3559346739},861547.23559346749,{"$f":"C446/花园升级数值表!J446","v":2.2499999999999996E-2},1292320.853390201,1723094.471186935]
[446,{"$f":"花园升级数值表!P447","v":8849554.7398454193},884955.47398454195,{"$f":"C447/花园升级数值表!J447","v":2.2500000000000003E-2},1327433.2109768128,1769910.9479690839]
[447,{"$f":"花园升级数值表!P448","v":9089997.1421270184},908999.71421270189,{"$f":"C448/花园升级数值表!J448","v":2.2500000000000003E-2},1363499.5713190527,1817999.4284254038]
[448,{"$f":"花园升级数值表!P449","v":9336972.3644786067},933697.23644786072,{"$f":"C449/花园升级数值表!J449","v":2.2499999999999999E-2},1400545.854671791,1867394.4728957214]
[449,{"$f":"花园升级数值表!P450","v":9590657.9036214892},959065.79036214901,{"$f":"C450/花园升级数值表!J450","v":2.2499999999999999E-2},1438598.6855432233,1918131.580724298]
[450,{"$f":"花园升级数值表!P451","v":9851236.078862885},{"$f":"B451*0.1","v":985123.60788628855},{"$f":"C451/花园升级数值表!J451","v":2.2500000000000003E-2},{"$f":"B451*0.15","v":1477685.4118294327},{"$f":"B451*0.2","v":1970247.2157725771}]
[451,{"$f":"花园升级数值表!P452","v":10118894.163125588},1011889.4163125588,{"$f":"C452/花园升级数值表!J452","v":2.2499999999999999E-2},1517834.1244688381,2023778.8326251176]
[452,{"$f":"花园升级数值表!P453","v":10393824.517537711},1039382.4517537712,{"$f":"C453/花园升级数值表!J453","v":2.2500000000000003E-2},1559073.6776306566,2078764.9035075423]
[453,{"$f":"花园升级数值表!P454","v":10676224.729679205},1067622.4729679206,{"$f":"C454/花园升级数值表!J454","v":2.2499999999999996E-2},1601433.7094518805,2135244.9459358412]
[454,{"$f":"花园升级数值表!P455","v":10966297.75558459},1096629.7755584591,{"$f":"C455/花园升级数值表!J455","v":2.2499999999999999E-2},1644944.6633376884,2193259.5511169182]
[455,{"$f":"花园升级数值表!P456","v":11264252.065603821},1126425.2065603822,{"$f":"C456/花园升级数值表!J456","v":2.2499999999999999E-2},1689637.809840573,2252850.4131207643]
[456,{"$f":"花园升级数值表!P457","v":11570301.794226272},1157030.1794226272,{"$f":"C457/花园升级数值表!J457","v":2.2499999999999992E-2},1735545.2691339408,2314060.3588452544]
[457,{"$f":"花园升级数值表!P458","v":11884666.893975401},1188466.6893975402,{"$f":"C458/花园升级数值表!J458","v":2.2499999999999999E-2},1782700.0340963101,2376933.3787950804]
[458,{"$f":"花园升级数值表!P459","v":12207573.293484712},1220757.3293484712,{"$f":"C459/花园升级数值表!J459","v":2.2499999999999999E-2},1831135.9940227068,2441514.6586969425]
[459,{"$f":"花园升级数值表!P460","v":12539253.059868688},1253925.3059868689,{"$f":"C460/花园升级数值表!J460","v":2.2499999999999996E-2},1880887.958980303,2507850.6119737378]
[460,{"$f":"花园升级数值表!P461","v":12879944.56550532},1287994.456550532,{"$f":"C461/花园升级数值表!J461","v":2.2499999999999992E-2},1931991.684825798,2575988.913101064]
[461,{"$f":"花园升级数值表!P462","v":13229892.659350101},1322989.2659350103,{"$f":"C462/花园升级数值表!J462","v":2.2499999999999999E-2},1984483.8989025149,2645978.5318700206]
[462,{"$f":"花园升级数值表!P463","v":13589348.842904642},1358934.8842904642,{"$f":"C463/花园升级数值表!J463","v":2.2499999999999999E-2},2038402.3264356963,2717869.7685809284]
[463,{"$f":"花园升级数值表!P464","v":13958571.450966364},1395857.1450966364,{"$f":"C464/花园升级数值表!J464","v":2.2499999999999999E-2},2093785.7176449546,2791714.2901932728]
[464,{"$f":"花园升级数值表!P465","v":14337825.837289121},1433782.5837289123,{"$f":"C465/花园升级数值表!J465","v":2.2500000000000006E-2},2150673.875593368,2867565.1674578246]
[465,{"$f":"花园升级数值表!P466","v":14727384.565288259},1472738.4565288259,{"$f":"C466/花园升级数值表!J466","v":2.2499999999999996E-2},2209107.6847932385,2945476.9130576518]
[466,{"$f":"花园升级数值表!P467","v":15127527.603927143},1512752.7603927143,{"$f":"C467/花园升级数值表!J467","v":2.2499999999999999E-2},2269129.1405890714,3025505.5207854286]
[467,{"$f":"花园升级数值表!P468","v":15538542.528925836},1553854.2528925836,{"$f":"C468/花园升级数值表!J468","v":2.2499999999999992E-2},2330781.3793388754,3107708.5057851672]
[468,{"$f":"花园升级数值表!P469","v":15960724.729436755},1596072.4729436757,{"$f":"C469/花园升级数值表!J469","v":2.2500000000000003E-2},2394108.7094155131,3192144.9458873514]
[469,{"$f":"花园升级数值表!P470","v":16394377.620335553},1639437.7620335554,{"$f":"C470/花园升级数值表!J470","v":2.250000000000001E-2},2459156.643050333,3278875.5240671108]
[470,{"$f":"花园升级数值表!P471","v":16839812.860280063},1683981.2860280063,{"$f":"C471/花园升级数值表!J471","v":2.2499999999999999E-2},2525971.9290420092,3367962.5720560127]
[471,{"$f":"花园升级数值表!P472","v":17297350.575693861},1729735.0575693862,{"$f":"C472/花园升级数值表!J472","v":2.2499999999999992E-2},2594602.5863540792,3459470.1151387724]
[472,{"$f":"花园升级数值表!P473","v":17767319.590835471},1776731.9590835471,{"$f":"C473/花园升级数值表!J473","v":2.2500000000000003E-2},2665097.9386253203,3553463.9181670942]
[473,{"$f":"花园升级数值表!P474","v":18250057.664118465},1825005.7664118465,{"$f":"C474/花园升级数值表!J474","v":2.2499999999999999E-2},2737508.6496177698,3650011.532823693]
[474,{"$f":"花园升级数值表!P475","v":18745911.730852555},1874591.1730852555,{"$f":"C475/花园升级数值表!J475","v":2.2499999999999985E-2},2811886.7596278833,3749182.3461705111]
[475,{"$f":"花园升级数值表!P476","v":19255238.152579822},1925523.8152579824,{"$f":"C476/花园升级数值表!J476","v":2.2499999999999996E-2},2888285.7228869731,3851047.6305159647]
[476,{"$f":"花园升级数值表!P477","v":19778402.973185413},1977840.2973185414,{"$f":"C477/花园升级数值表!J477","v":2.2499999999999996E-2},2966760.4459778117,3955680.5946370829]
[477,{"$f":"花园升级数值表!P478","v":20315782.181966856},2031578.2181966857,{"$f":"C478/花园升级数值表!J478","v":2.2499999999999992E-2},3047367.3272950281,4063156.4363933713]
[478,{"$f":"花园升级数值表!P479","v":20867761.9838509},2086776.1983850901,{"$f":"C479/花园升级数值表!J479","v":2.2499999999999999E-2},3130164.2975776349,4173552.3967701802]
[479,{"$f":"花园升级数值表!P480","v":21434739.07695213},2143473.9076952129,{"$f":"C480/花园升级数值表!J480","v":2.2499999999999999E-2},3215210.8615428195,4286947.8153904257]
[480,{"$f":"花园升级数值表!P481","v":22017120.937672921},2201712.0937672923,{"$f":"C481/花园升级数值表!J481","v":2.250000000000001E-2},3302568.1406509378,4403424.1875345847]
[481,{"$f":"花园升级数值表!P482","v":22615326.113549486},2261532.6113549485,{"$f":"C482/花园升级数值表!J482","v":2.2499999999999996E-2},3392298.917032423,4523065.222709897]
[482,{"$f":"花园升级数值表!P483","v":23229784.52405462},2322978.452405462,{"$f":"C483/花园升级数值表!J483","v":2.2499999999999999E-2},3484467.6786081931,4645956.9048109241]
[483,{"$f":"花园升级数值表!P484","v":23860937.769573174},2386093.7769573177,{"$f":"C484/花园升级数值表!J484","v":2.2499999999999996E-2},3579140.6654359759,4772187.5539146354]
[484,{"$f":"花园升级数值表!P485","v":24509239.448772479},2450923.9448772478,{"$f":"C485/花园升级数值表!J485","v":2.2499999999999989E-2},3676385.9173158719,4901847.8897544956]
[485,{"$f":"花园升级数值表!P486","v":25175155.484595638},2517515.5484595639,{"$f":"C486/花园升级数值表!J486","v":2.2499999999999999E-2},3776273.3226893456,5035031.0969191277]
[486,{"$f":"花园升级数值表!P487","v":25859164.459112093},2585916.4459112096,{"$f":"C487/花园升级数值表!J487","v":2.2499999999999999E-2},3878874.6688668136,5171832.8918224191]
[487,{"$f":"花园升级数值表!P488","v":26561757.957466174},2656175.7957466175,{"$f":"C488/花园升级数值表!J488","v":2.2500000000000003E-2},3984263.693619926,5312351.591493235]
[488,{"$f":"花园升级数值表!P489","v":27283440.921170522},2728344.0921170525,{"$f":"C489/花园升级数值表!J489","v":2.2500000000000003E-2},4092516.1381755779,5456688.1842341051]
[489,{"$f":"花园升级数值表!P490","v":28024732.010998715},2802473.2010998717,{"$f":"C490/花园升级数值表!J490","v":2.2499999999999996E-2},4203709.801649807,5604946.4021997433]
[490,{"$f":"花园升级数值表!P491","v":28786163.97973755},2878616.3979737554,{"$f":"C491/花园升级数值表!J491","v":2.2499999999999996E-2},4317924.5969606321,5757232.7959475107]
[491,{"$f":"花园升级数值表!P492","v":29568284.055067014},2956828.4055067017,{"$f":"C492/花园升级数值表!J492","v":2.2499999999999996E-2},4435242.6082600523,5913656.8110134033]
[492,{"$f":"花园升级数值表!P493","v":30371654.332843188},3037165.433284319,{"$f":"C493/花园升级数值表!J493","v":2.2499999999999999E-2},4555748.149926478,6074330.866568638]
[493,{"$f":"花园升级数值表!P494","v":31196852.181066539},3119685.218106654,{"$f":"C494/花园升级数值表!J494","v":2.2500000000000003E-2},4679527.8271599803,6239370.436213308]
[494,{"$f":"花园升级数值表!P495","v":32044470.654826116},3204447.0654826118,{"$f":"C495/花园升级数值表!J495","v":2.2500000000000006E-2},4806670.5982239172,6408894.1309652235]
[495,{"$f":"花园升级数值表!P496","v":32915118.922517739},3291511.8922517742,{"$f":"C496/花园升级数值表!J496","v":2.2500000000000003E-2},4937267.8383776611,6583023.7845035484]
[496,{"$f":"花园升级数值表!P497","v":33809422.703642532},3380942.2703642533,{"$f":"C497/花园升级数值表!J497","v":2.2499999999999999E-2},5071413.4055463793,6761884.5407285066]
[497,{"$f":"花园升级数值表!P498","v":34728024.718500488},3472802.4718500488,{"$f":"C498/花园升级数值表!J498","v":2.2499999999999989E-2},5209203.7077750731,6945604.9437000975]
[498,{"$f":"花园升级数值表!P499","v":35671585.150102168},3567158.5150102172,{"$f":"C499/花园升级数值表!J499","v":2.250000000000001E-2},5350737.7725153249,7134317.0300204344]
[499,{"$f":"花园升级数值表!P500","v":36640782.118630439},3664078.2118630442,{"$f":"C500/花园升级数值表!J500","v":2.2500000000000006E-2},5496117.317794566,7328156.4237260884]
[500,{"$f":"花园升级数值表!P501","v":37636312.168793611},3763631.2168793613,{"$f":"C501/花园升级数值表!J501","v":2.2499999999999999E-2},5645446.8253190415,7527262.4337587226]
[501,{"$f":"花园升级数值表!P502","v":38658890.770419732},3865889.0770419734,{"$f":"C502/花园升级数值表!J502","v":2.2500000000000003E-2},5798833.6155629596,7731778.1540839467]
[502,{"$f":"花园升级数值表!P503","v":39709252.832652032},3970925.2832652032,{"$f":"C503/花园升级数值表!J503","v":2.2499999999999999E-2},5956387.9248978049,7941850.5665304065]
[503,{"$f":"花园升级数值表!P504","v":40788153.232115202},4078815.3232115204,{"$f":"C504/花园升级数值表!J504","v":2.250000000000001E-2},6118222.9848172804,8157630.6464230409]
[504,{"$f":"花园升级数值表!P505","v":41896367.355431758},4189636.7355431761,{"$f":"C505/花园升级数值表!J505","v":2.2500000000000003E-2},6284455.1033147639,8379273.4710863521]
[505,{"$f":"花园升级数值表!P506","v":43034691.65647883},4303469.165647883,{"$f":"C506/花园升级数值表!J506","v":2.2499999999999999E-2},6455203.7484718245,8606938.3312957659]
[506,{"$f":"花园升级数值表!P507","v":44203944.228785358},4420394.4228785364,{"$f":"C507/花园升级数值表!J507","v":2.2499999999999996E-2},6630591.6343178032,8840788.8457570728]
[507,{"$f":"花园升级数值表!P508","v":45404965.393481486},4540496.5393481487,{"$f":"C508/花园升级数值表!J508","v":2.250000000000001E-2},6810744.8090222226,9080993.0786962975]
[508,{"$f":"花园升级数值表!P509","v":46638618.303222343},4663861.8303222349,{"$f":"C509/花园升级数值表!J509","v":2.2499999999999999E-2},6995792.7454833509,9327723.6606444698]
[509,{"$f":"花园升级数值表!P510","v":47905789.562520914},4790578.9562520916,{"$f":"C510/花园升级数值表!J510","v":2.2500000000000006E-2},7185868.4343781369,9581157.9125041831]
[510,{"$f":"花园升级数值表!P511","v":49207389.864934586},4920738.986493459,{"$f":"C511/花园升级数值表!J511","v":2.2500000000000003E-2},7381108.4797401875,9841477.9729869179]
[511,{"$f":"花园升级数值表!P512","v":50544354.647564866},5054435.4647564869,{"$f":"C512/花园升级数值表!J512","v":2.2500000000000006E-2},7581653.1971347295,10108870.929512974]
[512,{"$f":"花园升级数值表!P513","v":51917644.763339192},5191764.4763339199,{"$f":"C513/花园升级数值表!J513","v":2.2500000000000003E-2},7787646.714500878,10383528.95266784]
[513,{"$f":"花园升级数值表!P514","v":53328247.171559103},5332824.717155911,{"$f":"C514/花园升级数值表!J514","v":2.2499999999999999E-2},7999237.0757338647,10665649.434311822]
[514,{"$f":"花园升级数值表!P515","v":54777175.64721036},{"$f":"B515*0.1","v":5477717.5647210367},{"$f":"C515/花园升级数值表!J515","v":2.2499999999999999E-2},{"$f":"B515*0.15","v":8216576.3470815532},{"$f":"B515*0.2","v":10955435.129442073}]
[515,{"$f":"花园升级数值表!P516","v":56265471.509545073},5626547.1509545073,{"$f":"C516/花园升级数值表!J516","v":2.2500000000000003E-2},8439820.7264317609,11253094.301909015]
[516,{"$f":"花园升级数值表!P517","v":57794204.370459415},5779420.4370459421,{"$f":"C517/花园升级数值表!J517","v":2.2500000000000006E-2},8669130.6555689126,11558840.874091884]
[517,{"$f":"花园升级数值表!P518","v":59364472.903204784},5936447.2903204784,{"$f":"C518/花园升级数值表!J518","v":2.2499999999999999E-2},8904670.9354807176,11872894.580640957]
[518,{"$f":"花园升级数值表!P519","v":60977405.631984882},6097740.5631984882,{"$f":"C519/花园升级数值表!J519","v":2.2500000000000006E-2},9146610.8447977323,12195481.126396976]
[519,{"$f":"花园升级数值表!P520","v":62634161.743005887},6263416.1743005887,{"$f":"C520/花园升级数值表!J520","v":2.2500000000000003E-2},9395124.261450883,12526832.348601177]
[520,{"$f":"花园升级数值表!P521","v":64335931.917563349},6433593.1917563351,{"$f":"C521/花园升级数值表!J521","v":2.2499999999999999E-2},9650389.7876345012,12867186.38351267]
[521,{"$f":"花园升级数值表!P522","v":66083939.187763542},6608393.9187763548,{"$f":"C522/花园升级数值表!J522","v":2.2500000000000003E-2},9912590.8781645317,13216787.83755271]
[522,{"$f":"花园升级数值表!P523","v":67879439.815495044},6787943.9815495051,{"$f":"C523/花园升级数值表!J523","v":2.2499999999999996E-2},10181915.972324256,13575887.96309901]
[523,{"$f":"花园升级数值表!P524","v":69723724.195282057},6972372.4195282059,{"$f":"C524/花园升级数值表!J524","v":2.2500000000000003E-2},10458558.629292307,13944744.839056412]
[524,{"$f":"花园升级数值表!P525","v":71618117.781667858},7161811.7781667858,{"$f":"C525/花园升级数值表!J525","v":2.2500000000000003E-2},10742717.667250179,14323623.556333572]
[525,{"$f":"花园升级数值表!P526","v":73563982.041795745},7356398.2041795747,{"$f":"C526/花园升级数值表!J526","v":2.2499999999999992E-2},11034597.306269361,14712796.408359149]
[526,{"$f":"花园升级数值表!P527","v":75562715.433871359},7556271.5433871364,{"$f":"C527/花园升级数值表!J527","v":2.2500000000000003E-2},11334407.315080704,15112543.086774273]
[527,{"$f":"花园升级数值表!P528","v":77615754.412209615},7761575.4412209615,{"$f":"C528/花园升级数值表!J528","v":2.2499999999999996E-2},11642363.161831442,15523150.882441923]
[528,{"$f":"花园升级数值表!P529","v":79724574.459589317},7972457.4459589319,{"$f":"C529/花园升级数值表!J529","v":2.2499999999999989E-2},11958686.168938396,15944914.891917864]
[529,{"$f":"花园升级数值表!P530","v":81890691.147656426},8189069.1147656431,{"$f":"C530/花园升级数值表!J530","v":2.2500000000000013E-2},12283603.672148464,16378138.229531286]
[530,{"$f":"花园升级数值表!P531","v":84115661.226138204},8411566.1226138212,{"$f":"C531/花园升级数值表!J531","v":2.2500000000000003E-2},12617349.18392073,16823132.245227642]
[531,{"$f":"花园升级数值表!P532","v":86401083.741652384},8640108.3741652388,{"$f":"C532/花园升级数值表!J532","v":2.2500000000000003E-2},12960162.561247857,17280216.748330478]
[532,{"$f":"花园升级数值表!P533","v":88748601.186913088},8874860.1186913084,{"$f":"C533/花园升级数值表!J533","v":2.2500000000000006E-2},13312290.178036964,17749720.237382617]
[533,{"$f":"花园升级数值表!P534","v":91159900.681161493},9115990.0681161489,{"$f":"C534/花园升级数值表!J534","v":2.2500000000000003E-2},13673985.102174224,18231980.136232298]
[534,{"$f":"花园升级数值表!P535","v":93636715.182668597},9363671.5182668604,{"$f":"C535/花园升级数值表!J535","v":2.2499999999999992E-2},14045507.277400289,18727343.036533721]
[535,{"$f":"花园升级数值表!P536","v":96180824.734181717},9618082.4734181724,{"$f":"C536/花园升级数值表!J536","v":2.2499999999999996E-2},14427123.710127257,19236164.946836345]
[536,{"$f":"花园升级数值表!P537","v":98794057.742209449},9879405.7742209453,{"$f":"C537/花园升级数值表!J537","v":2.2500000000000003E-2},14819108.661331417,19758811.548441891]
[537,{"$f":"花园升级数值表!P538","v":101478292.29106526},10147829.229106527,{"$f":"C538/花园升级数值表!J538","v":2.2500000000000003E-2},15221743.843659788,20295658.458213054]
[538,{"$f":"花园升级数值表!P539","v":104235457.49261351},10423545.749261351,{"$f":"C539/花园升级数值表!J539","v":2.2499999999999999E-2},15635318.623892026,20847091.498522703]
[539,{"$f":"花园升级数值表!P540","v":107067534.87268782},10706753.487268783,{"$f":"C540/花园升级数值表!J540","v":2.2500000000000003E-2},16060130.230903171,21413506.974537566]
[540,{"$f":"花园升级数值表!P541","v":109976559.7951787},10997655.97951787,{"$f":"C541/花园升级数值表!J541","v":2.2499999999999992E-2},16496483.969276804,21995311.959035739]
[541,{"$f":"花园升级数值表!P542","v":112964622.92481372},11296462.292481372,{"$f":"C542/花园升级数值表!J542","v":2.2499999999999996E-2},16944693.438722055,22592924.584962744]
[542,{"$f":"花园升级数值表!P543","v":116033871.72968094},11603387.172968095,{"$f":"C543/花园升级数值表!J543","v":2.250000000000001E-2},17405080.759452142,23206774.34593619]
[543,{"$f":"花园升级数值表!P544","v":119186512.02457632},11918651.202457633,{"$f":"C544/花园升级数值表!J544","v":2.2500000000000003E-2},17877976.803686447,23837302.404915266]
[544,{"$f":"花园升级数值表!P545","v":122424809.5562841},12242480.95562841,{"$f":"C545/花园升级数值表!J545","v":2.2500000000000003E-2},18363721.433442615,24484961.91125682]
[545,{"$f":"花园升级数值表!P546","v":125751091.63192825},12575109.163192825,{"$f":"C546/花园升级数值表!J546","v":2.2499999999999996E-2},18862663.744789235,25150218.326385651]
[546,{"$f":"花园升级数值表!P547","v":129167748.79156777},12916774.879156778,{"$f":"C547/花园升级数值表!J547","v":2.2500000000000003E-2},19375162.318735164,25833549.758313555]
[547,{"$f":"花园升级数值表!P548","v":132677236.52623469},13267723.652623469,{"$f":"C548/花园升级数值表!J548","v":2.2500000000000006E-2},19901585.478935201,26535447.305246938]
[548,{"$f":"花园升级数值表!P549","v":136282077.04265246},13628207.704265246,{"$f":"C549/花园升级数值表!J549","v":2.2500000000000006E-2},20442311.556397866,27256415.408530492]
[549,{"$f":"花园升级数值表!P550","v":139984861.0759013},13998486.107590131,{"$f":"C550/花园升级数值表!J550","v":2.2500000000000003E-2},20997729.161385193,27996972.215180263]
[550,{"$f":"花园升级数值表!P551","v":143788249.75133345},14378824.975133345,{"$f":"C551/花园升级数值表!J551","v":2.2499999999999989E-2},21568237.462700017,28757649.950266689]
[551,{"$f":"花园升级数值表!P552","v":147694976.4970772},14769497.64970772,{"$f":"C552/花园升级数值表!J552","v":2.2499999999999996E-2},22154246.47456158,29538995.299415439]
[552,{"$f":"花园升级数值表!P553","v":151707849.00850287},15170784.900850289,{"$f":"C553/花园升级数值表!J553","v":2.2500000000000013E-2},22756177.351275429,30341569.801700577]
[553,{"$f":"花园升级数值表!P554","v":155829751.26606381},15582975.126606382,{"$f":"C554/花园升级数值表!J554","v":2.2499999999999999E-2},23374462.68990957,31165950.253212765]
[554,{"$f":"花园升级数值表!P555","v":160063645.60796273},16006364.560796274,{"$f":"C555/花园升级数值表!J555","v":2.2499999999999999E-2},24009546.84119441,32012729.121592548]
[555,{"$f":"花园升级数值表!P556","v":164412574.85913113},16441257.485913113,{"$f":"C556/花园升级数值表!J556","v":2.2500000000000003E-2},24661886.228869669,32882514.971826226]
[556,{"$f":"花园升级数值表!P557","v":168879664.51805374},16887966.451805376,{"$f":"C557/花园升级数值表!J557","v":2.2500000000000006E-2},25331949.67770806,33775932.903610751]
[557,{"$f":"花园升级数值表!P558","v":173468125.0030092},17346812.500300921,{"$f":"C558/花园升级数值表!J558","v":2.2500000000000003E-2},26020218.750451379,34693625.000601843]
[558,{"$f":"花园升级数值表!P559","v":178181253.9593409},17818125.39593409,{"$f":"C559/花园升级数值表!J559","v":2.2499999999999996E-2},26727188.093901135,35636250.79186818]
[559,{"$f":"花园升级数值表!P560","v":183022438.62941614},18302243.862941615,{"$f":"C560/花园升级数值表!J560","v":2.2499999999999996E-2},27453365.794412419,36604487.725883231]
[560,{"$f":"花园升级数值表!P561","v":187995158.28697735},18799515.828697737,{"$f":"C561/花园升级数值表!J561","v":2.2499999999999999E-2},28199273.7430466,37599031.657395475]
[561,{"$f":"花园升级数值表!P562","v":193102986.73763457},19310298.673763458,{"$f":"C562/花园升级数值表!J562","v":2.2500000000000006E-2},28965448.010645185,38620597.347526915]
[562,{"$f":"花园升级数值表!P563","v":198349594.88729599},19834959.4887296,{"$f":"C563/花园升级数值表!J563","v":2.2499999999999996E-2},29752439.233094398,39669918.9774592]
[563,{"$f":"花园升级数值表!P564","v":203738753.38038388},20373875.338038389,{"$f":"C564/花园升级数值表!J564","v":2.2500000000000003E-2},30560813.007057581,40747750.676076777]
[564,{"$f":"花园升级数值表!P565","v":209274335.30972886},20927433.530972887,{"$f":"C565/花园升级数值表!J565","v":2.2499999999999999E-2},31391150.296459328,41854867.061945774]
[565,{"$f":"花园升级数值表!P566","v":214960319.00009418},21496031.90000942,{"$f":"C566/花园升级数值表!J566","v":2.2499999999999999E-2},32244047.850014124,42992063.80001884]
[566,{"$f":"花园升级数值表!P567","v":220800790.86732665},22080079.086732667,{"$f":"C567/花园升级数值表!J567","v":2.2499999999999992E-2},33120118.630098995,44160158.173465334]
[567,{"$f":"花园升级数值表!P568","v":226799948.35519195},22679994.835519195,{"$f":"C568/花园升级数值表!J568","v":2.2499999999999996E-2},34019992.253278792,45359989.671038389]
[568,{"$f":"花园升级数值表!P569","v":232962102.95200256},23296210.295200258,{"$f":"C569/花园升级数值表!J569","v":2.2500000000000006E-2},34944315.44280038,46592420.590400517]
[569,{"$f":"花园升级数值表!P570","v":239291683.28920841},23929168.328920841,{"$f":"C570/花园升级数值表!J570","v":2.2500000000000003E-2},35893752.493381262,47858336.657841682]
[570,{"$f":"花园升级数值表!P571","v":245793238.32417622},24579323.832417622,{"$f":"C571/花园升级数值表!J571","v":2.2500000000000006E-2},36868985.748626433,49158647.664835244]
[571,{"$f":"花园升级数值表!P572","v":252471440.60944393},25247144.060944393,{"$f":"C572/花园升级数值表!J572","v":2.2499999999999999E-2},37870716.09141659,50494288.121888787]
[572,{"$f":"花园升级数值表!P573","v":259331089.65080264},25933108.965080265,{"$f":"C573/花园升级数值表!J573","v":2.2500000000000006E-2},38899663.447620392,51866217.93016053]
[573,{"$f":"花园升级数值表!P574","v":266377115.35661489},26637711.535661489,{"$f":"C574/花园升级数值表!J574","v":2.2500000000000003E-2},39956567.303492233,53275423.071322978]
[574,{"$f":"花园升级数值表!P575","v":273614581.580854},27361458.158085402,{"$f":"C575/花园升级数值表!J575","v":2.2500000000000003E-2},41042187.237128101,54722916.316170804]
[575,{"$f":"花园升级数值表!P576","v":281048689.76240563},28104868.976240564,{"$f":"C576/花园升级数值表!J576","v":2.2499999999999992E-2},42157303.464360841,56209737.952481128]
[576,{"$f":"花园升级数值表!P577","v":288684782.66325033},28868478.266325034,{"$f":"C577/花园升级数值表!J577","v":2.2500000000000003E-2},43302717.399487548,57736956.532650068]
[577,{"$f":"花园升级数值表!P578","v":296528348.20821077},29652834.820821077,{"$f":"C578/花园升级数值表!J578","v":2.2500000000000003E-2},44479252.231231615,59305669.641642153]
[578,{"$f":"花园升级数值表!P579","v":304585023.42902792},{"$f":"B579*0.1","v":30458502.342902794},{"$f":"C579/花园升级数值表!J579","v":2.2500000000000006E-2},{"$f":"B579*0.15","v":45687753.514354184},{"$f":"B579*0.2","v":60917004.685805589}]
[579,{"$f":"花园升级数值表!P580","v":312860598.51559454},31286059.851559456,{"$f":"C580/花园升级数值表!J580","v":2.2500000000000003E-2},46929089.777339183,62572119.703118913]
[580,{"$f":"花园升级数值表!P581","v":321361020.97726309},32136102.097726312,{"$f":"C581/花园升级数值表!J581","v":2.2499999999999999E-2},48204153.146589465,64272204.195452623]
[581,{"$f":"花园升级数值表!P582","v":330092399.91721529},33009239.99172153,{"$f":"C582/花园升级数值表!J582","v":2.2499999999999999E-2},49513859.987582289,66018479.983443059]
[582,{"$f":"花园升级数值表!P583","v":339061010.42296606},33906101.042296611,{"$f":"C583/花园升级数值表!J583","v":2.2500000000000006E-2},50859151.563444905,67812202.084593222]
[583,{"$f":"花园升级数值表!P584","v":348273298.07615787},34827329.807615787,{"$f":"C584/花园升级数值表!J584","v":2.2499999999999992E-2},52240994.71142368,69654659.615231574]
[584,{"$f":"花园升级数值表!P585","v":357735883.58488739},35773588.358488739,{"$f":"C585/花园升级数值表!J585","v":2.250000000000001E-2},53660382.537733108,71547176.716977477]
[585,{"$f":"花园升级数值表!P586","v":367455567.54188859},36745556.754188858,{"$f":"C586/花园升级数值表!J586","v":2.2499999999999999E-2},55118335.131283291,73491113.508377716]
[586,{"$f":"花园升级数值表!P587","v":377439335.31200165},37743933.531200163,{"$f":"C587/花园升级数值表!J587","v":2.2499999999999996E-2},56615900.296800248,75487867.062400326]
[587,{"$f":"花园升级数值表!P588","v":387694362.05242878},38769436.20524288,{"$f":"C588/花园升级数值表!J588","v":2.2500000000000003E-2},58154154.307864316,77538872.410485759]
[588,{"$f":"花园升级数值表!P589","v":398228017.86939311},39822801.786939315,{"$f":"C589/花园升级数值表!J589","v":2.2500000000000003E-2},59734202.680408962,79645603.573878631]
[589,{"$f":"花园升级数值表!P590","v":409047873.11490446},40904787.311490446,{"$f":"C590/花园升级数值表!J590","v":2.2499999999999996E-2},61357180.967235669,81809574.622980893]
[590,{"$f":"花园升级数值表!P591","v":420161703.82743645},42016170.382743649,{"$f":"C591/花园升级数值表!J591","v":2.2500000000000003E-2},63024255.574115463,84032340.765487298]
[591,{"$f":"花园升级数值表!P592","v":431577497.32042795},43157749.732042797,{"$f":"C592/花园升级数值表!J592","v":2.2500000000000003E-2},64736624.598064192,86315499.464085594]
[592,{"$f":"花园升级数值表!P593","v":443303457.92262375},44330345.792262375,{"$f":"C593/花园升级数值表!J593","v":2.2499999999999996E-2},66495518.688393563,88660691.584524751]
[593,{"$f":"花园升级数值表!P594","v":455348012.87438148},45534801.287438154,{"$f":"C594/花园升级数值表!J594","v":2.2500000000000003E-2},68302201.931157216,91069602.574876308]
[594,{"$f":"花园升级数值表!P595","v":467719818.38417828},46771981.838417828,{"$f":"C595/花园升级数值表!J595","v":2.2499999999999992E-2},70157972.757626742,93543963.676835656]
[595,{"$f":"花园升级数值表!P596","v":480427765.84967649},48042776.58496765,{"$f":"C596/花园升级数值表!J596","v":2.2499999999999996E-2},72064164.877451465,96085553.169935301]
[596,{"$f":"花园升级数值表!P597","v":493480988.24781191},49348098.824781194,{"$f":"C597/花园升级数值表!J597","v":2.2499999999999992E-2},74022148.237171784,98696197.649562389]
[597,{"$f":"花园升级数值表!P598","v":506888866.69850516},50688886.669850521,{"$f":"C598/花园升级数值表!J598","v":2.2499999999999999E-2},76033330.004775777,101377773.33970104]
[598,{"$f":"花园升级数值表!P599","v":520661037.20670336},52066103.720670342,{"$f":"C599/花园升级数值表!J599","v":2.2499999999999996E-2},78099155.581005499,104132207.44134068]
[599,{"$f":"花园升级数值表!P600","v":534807397.58760989},53480739.758760989,{"$f":"C600/花园升级数值表!J600","v":2.2500000000000006E-2},80221109.638141483,106961479.51752198]
[600,{"$f":"花园升级数值表!P601","v":549338114.58006501},54933811.458006501,{"$f":"C601/花园升级数值表!J601","v":2.2499999999999999E-2},82400717.187009752,109867622.916013]

{"sheet":"精灵数值表","index":2,"n_rows":602,"n_cols":22,"rows_kept":602,"cut":false,"hidden":false,"merged":[]}
["花园等级","每分钟可分配总数值","蜜蜂1","蜜蜂2","蜜蜂3","蜜蜂4","蜜蜂5","蝴蝶1","蝴蝶2","蝴蝶3","蝴蝶4","蝴蝶5","蜻蜓1","蜻蜓2","蜻蜓3","蜻蜓4","蜻蜓5","金龟子1","金龟子2","金龟子3","金龟子4","金龟子5"]
[null,"基准值",5.0000000000000001E-3,6.0000000000000001E-3,7.0000000000000001E-3,8.0000000000000002E-3,8.9999999999999993E-3,6.0000000000000001E-3,7.0000000000000001E-3,8.0000000000000002E-3,8.9999999999999993E-3,0.01,7.0000000000000001E-3,8.0000000000000002E-3,8.9999999999999993E-3,0.01,1.0999999999999999E-2,8.0000000000000002E-3,8.9999999999999993E-3,0.01,1.0999999999999999E-2,1.2E-2]
[1,{"$f":"花园升级数值表!Q2","v":405},{"$f":"B3*0.005","v":2.0249999999999999},{"$f":"B3*0.006","v":2.4300000000000002},{"$f":"B3*0.007","v":2.835},{"$f":"B3*0.008","v":3.24},{"$f":"B3*0.009","v":3.6449999999999996},{"$f":"B3*0.006","v":2.4300000000000002},{"$f":"B3*0.007","v":2.835},{"$f":"B3*0.008","v":3.24},{"$f":"B3*0.009","v":3.6449999999999996},{"$f":"B3*0.01","v":4.05},{"$f":"B3*M2","v":2.835},{"$f":"B3*0.008","v":3.24},{"$f":"B3*0.009","v":3.6449999999999996},{"$f":"B3*0.01","v":4.05},{"$f":"B3*0.011","v":4.4550000000000001},{"$f":"B3*0.008","v":3.24},{"$f":"B3*0.009","v":3.6449999999999996},{"$f":"B3*0.01","v":4.05},{"$f":"B3*0.011","v":4.4550000000000001},{"$f":"B3*0.012","v":4.8600000000000003}]
[2,{"$f":"花园升级数值表!Q3","v":413.9444249999998},{"$f":"B4*0.005","v":2.0697221249999989},{"$f":"B4*0.006","v":2.4836665499999988},{"$f":"B4*0.007","v":2.8976109749999988},{"$f":"B4*0.008","v":3.3115553999999983},{"$f":"B4*0.009","v":3.7254998249999978},{"$f":"B4*0.006","v":2.4836665499999988},{"$f":"B4*0.007","v":2.8976109749999988},{"$f":"B4*0.008","v":3.3115553999999983},{"$f":"B4*0.009","v":3.7254998249999978},{"$f":"B4*0.01","v":4.1394442499999977},{"$f":"(B4)*0.007","v":2.8976109749999988},{"$f":"B4*0.008","v":3.3115553999999983},{"$f":"B4*0.009","v":3.7254998249999978},{"$f":"B4*0.01","v":4.1394442499999977},{"$f":"B4*0.011","v":4.5533886749999972},{"$f":"B4*0.008","v":3.3115553999999983},{"$f":"B4*0.009","v":3.7254998249999978},{"$f":"B4*0.01","v":4.1394442499999977},{"$f":"B4*0.011","v":4.5533886749999972},{"$f":"B4*0.012","v":4.9673330999999976}]
[3,{"$f":"花园升级数值表!Q4","v":423.08638762612469},2.1154319381306235,2.5385183257567481,2.9616047133828727,3.3846911010089977,3.8077774886351219,2.5385183257567481,2.9616047133828727,3.3846911010089977,3.8077774886351219,4.2308638762612469,2.9616047133828727,3.3846911010089977,3.8077774886351219,4.2308638762612469,4.6539502638873715,3.3846911010089977,3.8077774886351219,4.2308638762612469,4.6539502638873715,5.0770366515134961]
[4,{"$f":"花园升级数值表!Q5","v":432.43025049684769},2.1621512524842386,2.5945815029810864,3.0270117534779337,3.4594420039747815,3.8918722544716289,2.5945815029810864,3.0270117534779337,3.4594420039747815,3.8918722544716289,4.3243025049684771,3.0270117534779337,3.4594420039747815,3.8918722544716289,4.3243025049684771,4.7567327554653245,3.4594420039747815,3.8918722544716289,4.3243025049684771,4.7567327554653245,5.1891630059621727]
[5,{"$f":"花园升级数值表!Q6","v":441.98047257907047},2.2099023628953525,2.6518828354744231,3.0938633080534932,3.5358437806325638,3.9778242532116339,2.6518828354744231,3.0938633080534932,3.5358437806325638,3.9778242532116339,4.4198047257907049,3.0938633080534932,3.5358437806325638,3.9778242532116339,4.4198047257907049,4.8617851983697751,3.5358437806325638,3.9778242532116339,4.4198047257907049,4.8617851983697751,5.3037656709488461]
[6,{"$f":"花园升级数值表!Q7","v":451.74161131597924},2.2587080565798963,2.7104496678958756,3.1621912792118549,3.6139328905278338,4.0656745018438132,2.7104496678958756,3.1621912792118549,3.6139328905278338,4.0656745018438132,4.5174161131597925,3.1621912792118549,3.6139328905278338,4.0656745018438132,4.5174161131597925,4.969157724475771,3.6139328905278338,4.0656745018438132,4.5174161131597925,4.969157724475771,5.4208993357917512]
[7,{"$f":"花园升级数值表!Q8","v":461.71832480189232},2.3085916240094617,2.7703099488113541,3.2320282736132464,3.6937465984151387,4.1554649232170302,2.7703099488113541,3.2320282736132464,3.6937465984151387,4.1554649232170302,4.6171832480189234,3.2320282736132464,3.6937465984151387,4.1554649232170302,4.6171832480189234,5.0789015728208149,3.6937465984151387,4.1554649232170302,4.6171832480189234,5.0789015728208149,5.5406198976227081]
[8,{"$f":"花园升级数值表!Q9","v":471.91537400514216},2.3595768700257107,2.8314922440308532,3.3034076180359953,3.7753229920411373,4.2472383660462789,2.8314922440308532,3.3034076180359953,3.7753229920411373,4.2472383660462789,4.7191537400514214,3.3034076180359953,3.7753229920411373,4.2472383660462789,4.7191537400514214,5.191069114056563,3.7753229920411373,4.2472383660462789,4.7191537400514214,5.191069114056563,5.6629844880617064]
[9,{"$f":"花园升级数值表!Q10","v":482.33762504004562},2.4116881252002282,2.894025750240274,3.3763633752803193,3.858701000320365,4.3410386253604099,2.894025750240274,3.3763633752803193,3.858701000320365,4.3410386253604099,4.8233762504004565,3.3763633752803193,3.858701000320365,4.3410386253604099,4.8233762504004565,5.3057138754405013,3.858701000320365,4.3410386253604099,4.8233762504004565,5.3057138754405013,5.788051500480548]
[10,{"$f":"花园升级数值表!Q11","v":492.99005148905496},2.4649502574452749,2.9579403089343299,3.450930360423385,3.9439204119124396,4.4369104634014942,2.9579403089343299,3.450930360423385,3.9439204119124396,4.4369104634014942,4.9299005148905497,3.450930360423385,3.9439204119124396,4.4369104634014942,4.9299005148905497,5.4228905663796043,3.9439204119124396,4.4369104634014942,4.9299005148905497,5.4228905663796043,5.9158806178686598]
[11,{"$f":"花园升级数值表!Q12","v":503.87773677619066},2.5193886838809534,3.0232664206571442,3.5271441574333346,4.0310218942095251,4.5348996309857155,3.0232664206571442,3.5271441574333346,4.0310218942095251,4.5348996309857155,5.0387773677619068,3.5271441574333346,4.0310218942095251,4.5348996309857155,5.0387773677619068,5.5426551045380972,4.0310218942095251,4.5348996309857155,5.0387773677619068,5.5426551045380972,6.0465328413142885]
[12,{"$f":"花园升级数值表!Q13","v":515.00587659289272},2.5750293829644635,3.0900352595573564,3.6050411361502492,4.1200470127431421,4.6350528893360341,3.0900352595573564,3.6050411361502492,4.1200470127431421,4.6350528893360341,5.150058765928927,3.6050411361502492,4.1200470127431421,4.6350528893360341,5.150058765928927,5.6650646425218198,4.1200470127431421,4.6350528893360341,5.150058765928927,5.6650646425218198,6.1800705191147127]
[13,{"$f":"花园升级数值表!Q14","v":526.37978137744642},2.631898906887232,3.1582786882646787,3.684658469642125,4.2110382510195716,4.7374180323970174,3.1582786882646787,3.684658469642125,4.2110382510195716,4.7374180323970174,5.2637978137744641,3.684658469642125,4.2110382510195716,4.7374180323970174,5.2637978137744641,5.7901775951519099,4.2110382510195716,4.7374180323970174,5.2637978137744641,5.7901775951519099,6.3165573765293574]
[14,{"$f":"花园升级数值表!Q15","v":538.0048788491672},2.6900243942458362,3.2280292730950033,3.7660341519441705,4.304039030793338,4.8420439096425048,3.2280292730950033,3.7660341519441705,4.304039030793338,4.8420439096425048,5.3800487884916723,3.7660341519441705,4.304039030793338,4.8420439096425048,5.3800487884916723,5.918053667340839,4.304039030793338,4.8420439096425048,5.3800487884916723,5.918053667340839,6.4560585461900066]
[15,{"$f":"花园升级数值表!Q16","v":549.88671659855117},2.7494335829927561,3.2993202995913071,3.8492070161898582,4.3990937327884092,4.9489804493869602,3.2993202995913071,3.8492070161898582,4.3990937327884092,4.9489804493869602,5.4988671659855122,3.8492070161898582,4.3990937327884092,4.9489804493869602,5.4988671659855122,6.0487538825840623,4.3990937327884092,4.9489804493869602,5.4988671659855122,6.0487538825840623,6.5986405991826143]
[16,{"$f":"花园升级数值表!Q17","v":562.03096473462983},2.8101548236731491,3.3721857884077791,3.934216753142409,4.496247717877039,5.0582786826116681,3.3721857884077791,3.934216753142409,4.496247717877039,5.0582786826116681,5.6203096473462981,3.934216753142409,4.496247717877039,5.0582786826116681,5.6203096473462981,6.1823406120809281,4.496247717877039,5.0582786826116681,5.6203096473462981,6.1823406120809281,6.7443715768155581]
[17,{"$f":"花园升级数值表!Q18","v":574.44341859079429},2.8722170929539717,3.4466605115447657,4.0211039301355598,4.5955473487263543,5.1699907673171479,3.4466605115447657,4.0211039301355598,4.5955473487263543,5.1699907673171479,5.7444341859079433,4.0211039301355598,4.5955473487263543,5.1699907673171479,5.7444341859079433,6.3188776044987369,4.5955473487263543,5.1699907673171479,5.7444341859079433,6.3188776044987369,6.8933210230895314]
[18,{"$f":"花园升级数值表!Q19","v":587.13000149037191},2.9356500074518594,3.5227800089422314,4.1099100104326034,4.6970400119229758,5.2841700134133465,3.5227800089422314,4.1099100104326034,4.6970400119229758,5.2841700134133465,5.8713000149037189,4.1099100104326034,4.6970400119229758,5.2841700134133465,5.8713000149037189,6.4584300163940904,4.6970400119229758,5.2841700134133465,5.8713000149037189,6.4584300163940904,7.0455600178844628]
[19,{"$f":"花园升级数值表!Q20","v":600.09676757328657},3.0004838378664331,3.6005806054397196,4.200677373013006,4.8007741405862925,5.4008709081595789,3.6005806054397196,4.200677373013006,4.8007741405862925,5.4008709081595789,6.0009676757328663,4.200677373013006,4.8007741405862925,5.4008709081595789,6.0009676757328663,6.6010644433061518,4.8007741405862925,5.4008709081595789,6.0009676757328663,6.6010644433061518,7.2011612108794392]
[20,{"$f":"花园升级数值表!Q21","v":613.34990468514229},3.0667495234257114,3.6800994281108537,4.2934493327959959,4.9067992374811382,5.5201491421662805,3.6800994281108537,4.2934493327959959,4.9067992374811382,5.5201491421662805,6.1334990468514228,4.2934493327959959,4.9067992374811382,5.5201491421662805,6.1334990468514228,6.7468489515365651,4.9067992374811382,5.5201491421662805,6.1334990468514228,6.7468489515365651,7.3601988562217073]
[21,{"$f":"花园升级数值表!Q22","v":626.89573733011377},3.1344786866505689,3.7613744239806826,4.3882701613107962,5.0151658986409107,5.6420616359710234,3.7613744239806826,4.3882701613107962,5.0151658986409107,5.6420616359710234,6.2689573733011379,4.3882701613107962,5.0151658986409107,5.6420616359710234,6.2689573733011379,6.8958531106312515,5.0151658986409107,5.6420616359710234,6.2689573733011379,6.8958531106312515,7.5227488479613651]
[22,{"$f":"花园升级数值表!Q23","v":640.74072968904909},3.2037036484452455,3.8444443781342947,4.4851851078233436,5.1259258375123924,5.7666665672014412,3.8444443781342947,4.4851851078233436,5.1259258375123924,5.7666665672014412,6.4074072968904909,4.4851851078233436,5.1259258375123924,5.7666665672014412,6.4074072968904909,7.0481480265795398,5.1259258375123924,5.7666665672014412,6.4074072968904909,7.0481480265795398,7.6888887562685895]
[23,{"$f":"花园升级数值表!Q24","v":654.89148870423162},3.274457443521158,3.9293489322253898,4.5842404209296213,5.2391319096338531,5.8940233983380841,3.9293489322253898,4.5842404209296213,5.2391319096338531,5.8940233983380841,6.5489148870423159,4.5842404209296213,5.2391319096338531,5.8940233983380841,6.5489148870423159,7.2038063757465478,5.2391319096338531,5.8940233983380841,6.5489148870423159,7.2038063757465478,7.8586978644507797]
[24,{"$f":"花园升级数值表!Q25","v":669.35476723226429},3.3467738361613217,4.0161286033935859,4.6854833706258505,5.3548381378581142,6.024192905090378,4.0161286033935859,4.6854833706258505,5.3548381378581142,6.024192905090378,6.6935476723226435,4.6854833706258505,5.3548381378581142,6.024192905090378,6.6935476723226435,7.3629024395549072,5.3548381378581142,6.024192905090378,6.6935476723226435,7.3629024395549072,8.0322572067871718]
[25,{"$f":"花园升级数值表!Q26","v":684.13746726658917},3.420687336332946,4.1048248035995352,4.7889622708661239,5.4730997381327136,6.1572372053993023,4.1048248035995352,4.7889622708661239,5.4730997381327136,6.1572372053993023,6.8413746726658919,4.7889622708661239,5.4730997381327136,6.1572372053993023,6.8413746726658919,7.5255121399324807,5.4730997381327136,6.1572372053993023,6.8413746726658919,7.5255121399324807,8.2096496071990703]
[26,{"$f":"花园升级数值表!Q27","v":699.24664323117156},3.4962332161558578,4.1954798593870297,4.8947265026182007,5.5939731458493727,6.2932197890805437,4.1954798593870297,4.8947265026182007,5.5939731458493727,6.2932197890805437,6.9924664323117156,4.8947265026182007,5.5939731458493727,6.2932197890805437,6.9924664323117156,7.6917130755428866,5.5939731458493727,6.2932197890805437,6.9924664323117156,7.6917130755428866,8.3909597187740594]
[27,{"$f":"花园升级数值表!Q28","v":714.68950534693192},3.5734475267346597,4.2881370320815915,5.0028265374285237,5.7175160427754559,6.4322055481223872,4.2881370320815915,5.0028265374285237,5.7175160427754559,6.4322055481223872,7.1468950534693194,5.0028265374285237,5.7175160427754559,6.4322055481223872,7.1468950534693194,7.8615845588162507,5.7175160427754559,6.4322055481223872,7.1468950534693194,7.8615845588162507,8.5762740641631829]
[28,{"$f":"花园升级数值表!Q29","v":730.47342307251881},3.6523671153625941,4.3828405384351132,5.1133139615076315,5.8437873845801507,6.574260807652669,4.3828405384351132,5.1133139615076315,5.8437873845801507,6.574260807652669,7.3047342307251881,5.1133139615076315,5.8437873845801507,6.574260807652669,7.3047342307251881,8.0352076537977073,5.8437873845801507,6.574260807652669,7.3047342307251881,8.0352076537977073,8.7656810768702265]
[29,{"$f":"花园升级数值表!Q30","v":746.60592862107546},3.7330296431053775,4.4796355717264529,5.2262415003475287,5.9728474289686035,6.7194533575896784,4.4796355717264529,5.2262415003475287,5.9728474289686035,6.7194533575896784,7.4660592862107551,5.2262415003475287,5.9728474289686035,6.7194533575896784,7.4660592862107551,8.21266521483183,5.9728474289686035,6.7194533575896784,7.4660592862107551,8.21266521483183,8.9592711434529058]
[30,{"$f":"花园升级数值表!Q31","v":763.09472055467108},3.8154736027733556,4.5785683233280263,5.341663043882698,6.1047577644373687,6.8678524849920395,4.5785683233280263,5.341663043882698,6.1047577644373687,6.8678524849920395,7.6309472055467111,5.341663043882698,6.1047577644373687,6.8678524849920395,7.6309472055467111,8.3940419261013819,6.1047577644373687,6.8678524849920395,7.6309472055467111,8.3940419261013819,9.1571366466560526]
[31,{"$f":"花园升级数值表!Q32","v":779.94766745812137},3.8997383372906071,4.6796860047487288,5.4596336722068495,6.2395813396649711,7.0195290071230918,4.6796860047487288,5.4596336722068495,6.2395813396649711,7.0195290071230918,7.7994766745812143,5.4596336722068495,6.2395813396649711,7.0195290071230918,7.7994766745812143,8.579424342039335,6.2395813396649711,7.0195290071230918,7.7994766745812143,8.579424342039335,9.3593720094974575]
[32,{"$f":"花园升级数值表!Q33","v":797.17281169393357},3.9858640584696681,4.7830368701636017,5.5802096818575349,6.3773824935514689,7.1745553052454012,4.7830368701636017,5.5802096818575349,6.3773824935514689,7.1745553052454012,7.9717281169393361,5.5802096818575349,6.3773824935514689,7.1745553052454012,7.9717281169393361,8.7689009286332684,6.3773824935514689,7.1745553052454012,7.9717281169393361,8.7689009286332684,9.5660737403272034]
[33,{"$f":"花园升级数值表!Q34","v":814.77837324019379},4.0738918662009693,4.8886702394411632,5.7034486126813571,6.51822698592155,7.3330053591617439,4.8886702394411632,5.7034486126813571,6.51822698592155,7.3330053591617439,8.1477837324019387,5.7034486126813571,6.51822698592155,7.3330053591617439,8.1477837324019387,8.9625621056421316,6.51822698592155,7.3330053591617439,8.1477837324019387,8.9625621056421316,9.7773404788823264]
[34,{"$f":"花园升级数值表!Q35","v":832.77275361320346},4.1638637680660171,4.9966365216792212,5.8294092752924245,6.6621820289056277,7.494954782518831,4.9966365216792212,5.8294092752924245,6.6621820289056277,7.494954782518831,8.3277275361320342,5.8294092752924245,6.6621820289056277,7.494954782518831,8.3277275361320342,9.1605002897452383,6.6621820289056277,7.494954782518831,8.3277275361320342,9.1605002897452383,9.9932730433584425]
[35,{"$f":"花园升级数值表!Q36","v":851.16453987675084},4.2558226993837547,5.1069872392605049,5.958151779137256,6.8093163190140071,7.6604808588907574,5.1069872392605049,5.958151779137256,6.8093163190140071,7.6604808588907574,8.5116453987675094,5.958151779137256,6.8093163190140071,7.6604808588907574,8.5116453987675094,9.3628099386442578,6.8093163190140071,7.6604808588907574,8.5116453987675094,9.3628099386442578,10.21397447852101]
[36,{"$f":"花园升级数值表!Q37","v":869.96250873992858},4.3498125436996427,5.2197750524395712,6.0897375611795006,6.9597000699194291,7.8296625786593568,5.2197750524395712,6.0897375611795006,6.9597000699194291,7.8296625786593568,8.6996250873992853,6.0897375611795006,6.9597000699194291,7.8296625786593568,8.6996250873992853,9.5695875961392129,6.9597000699194291,7.8296625786593568,8.6996250873992853,9.5695875961392129,10.439550104879142]
[37,{"$f":"花园升级数值表!Q38","v":889.17563074545012},4.4458781537272509,5.3350537844727004,6.2242294152181508,7.1134050459636011,8.0025806767090497,5.3350537844727004,6.2242294152181508,7.1134050459636011,8.0025806767090497,8.8917563074545019,6.2242294152181508,7.1134050459636011,8.0025806767090497,8.8917563074545019,9.7809319381999504,7.1134050459636011,8.0025806767090497,8.8917563074545019,9.7809319381999504,10.670107568945401]
[38,{"$f":"花园升级数值表!Q39","v":908.81307455046294},4.544065372752315,5.452878447302778,6.361691521853241,7.2705045964037041,8.1793176709541662,5.452878447302778,6.361691521853241,7.2705045964037041,8.1793176709541662,9.0881307455046301,6.361691521853241,7.2705045964037041,8.1793176709541662,9.0881307455046301,9.9969438200550922,7.2705045964037041,8.1793176709541662,9.0881307455046301,9.9969438200550922,10.905756894605556]
[39,{"$f":"花园升级数值表!Q40","v":928.88421130190989},4.6444210565095494,5.5733052678114596,6.502189479113369,7.4310736904152792,8.3599579017171877,5.5733052678114596,6.502189479113369,7.4310736904152792,8.3599579017171877,9.2888421130190988,6.502189479113369,7.4310736904152792,8.3599579017171877,9.2888421130190988,10.217726324321008,7.4310736904152792,8.3599579017171877,9.2888421130190988,10.217726324321008,11.146610535622919]
[40,{"$f":"花园升级数值表!Q41","v":949.39861910851266},4.746993095542563,5.6963917146510763,6.6457903337595887,7.5951889528681011,8.5445875719766136,5.6963917146510763,6.6457903337595887,7.5951889528681011,8.5445875719766136,9.493986191085126,6.6457903337595887,7.5951889528681011,8.5445875719766136,9.493986191085126,10.443384810193638,7.5951889528681011,8.5445875719766136,9.493986191085126,10.443384810193638,11.392783429302153]
[41,{"$f":"花园升级数值表!Q42","v":970.36608761152377},4.8518304380576192,5.8221965256691428,6.7925626132806665,7.7629287008921901,8.7332947885037129,5.8221965256691428,6.7925626132806665,7.7629287008921901,8.7332947885037129,9.7036608761152383,6.7925626132806665,7.7629287008921901,8.7332947885037129,9.7036608761152383,10.67402696372676,7.7629287008921901,8.7332947885037129,9.7036608761152383,10.67402696372676,11.644393051338286]
[42,{"$f":"花园升级数值表!Q43","v":991.79662265642366},4.9589831132821187,5.9507797359385419,6.942576358594966,7.9343729812513892,8.9261696039078124,5.9507797359385419,6.942576358594966,7.9343729812513892,8.9261696039078124,9.9179662265642374,6.942576358594966,7.9343729812513892,8.9261696039078124,9.9179662265642374,10.909762849220659,7.9343729812513892,8.9261696039078124,9.9179662265642374,10.909762849220659,11.901559471877084]
[43,{"$f":"花园升级数值表!Q44","v":1013.7004510677908},5.068502255338954,6.0822027064067452,7.0959031574745355,8.1096036085423275,9.1233040596101169,6.0822027064067452,7.0959031574745355,8.1096036085423275,9.1233040596101169,10.137004510677908,7.0959031574745355,8.1096036085423275,9.1233040596101169,10.137004510677908,11.150704961745699,8.1096036085423275,9.1233040596101169,10.137004510677908,11.150704961745699,12.16440541281349]
[44,{"$f":"花园升级数值表!Q45","v":1036.0880255296227},5.1804401276481133,6.2165281531777357,7.2526161787073589,8.2887042042369821,9.3247922297666026,6.2165281531777357,7.2526161787073589,8.2887042042369821,9.3247922297666026,10.360880255296227,7.2526161787073589,8.2887042042369821,9.3247922297666026,10.360880255296227,11.396968280825849,8.2887042042369821,9.3247922297666026,10.360880255296227,11.396968280825849,12.433056306355471]
[45,{"$f":"花园升级数值表!Q46","v":1058.9700295734447},5.2948501478672236,6.3538201774406682,7.4127902070141127,8.4717602365875582,9.5307302661610009,6.3538201774406682,7.4127902070141127,8.4717602365875582,9.5307302661610009,10.589700295734447,7.4127902070141127,8.4717602365875582,9.5307302661610009,10.589700295734447,11.64867032530789,8.4717602365875582,9.5307302661610009,10.589700295734447,11.64867032530789,12.707640354881336]
[46,{"$f":"花园升级数值表!Q47","v":1082.3573826765733},5.4117869133828664,6.4941442960594395,7.5765016787360127,8.6588590614125867,9.741216444089158,6.4941442960594395,7.5765016787360127,8.6588590614125867,9.741216444089158,10.823573826765733,7.5765016787360127,8.6588590614125867,9.741216444089158,10.823573826765733,11.905931209442304,8.6588590614125867,9.741216444089158,10.823573826765733,11.905931209442304,12.988288592118879]
[47,{"$f":"花园升级数值表!Q48","v":1106.2612454729856},5.5313062273649285,6.6375674728379135,7.7438287183108994,8.8500899637838852,9.9563512092568693,6.6375674728379135,7.7438287183108994,8.8500899637838852,9.9563512092568693,11.062612454729857,7.7438287183108994,8.8500899637838852,9.9563512092568693,11.062612454729857,12.168873700202841,8.8500899637838852,9.9563512092568693,11.062612454729857,12.168873700202841,13.275134945675827]
[48,{"$f":"花园升级数值表!Q49","v":1130.6930250792564},5.6534651253962815,6.7841581504755384,7.9148511755547943,9.0455442006340512,10.176237225713306,6.7841581504755384,7.9148511755547943,9.0455442006340512,10.176237225713306,11.306930250792563,7.9148511755547943,9.0455442006340512,10.176237225713306,11.306930250792563,12.43762327587182,9.0455442006340512,10.176237225713306,11.306930250792563,12.43762327587182,13.568316300951077]
[49,{"$f":"花园升级数值表!Q50","v":1155.6643805381314},5.7783219026906565,6.933986283228788,8.0896506637669194,9.2453150443050518,10.400979424843181,6.933986283228788,8.0896506637669194,9.2453150443050518,10.400979424843181,11.556643805381313,8.0896506637669194,9.2453150443050518,10.400979424843181,11.556643805381313,12.712308185919444,9.2453150443050518,10.400979424843181,11.556643805381313,12.712308185919444,13.867972566457576]
[50,{"$f":"花园升级数值表!Q51","v":1181.1872283823161},5.9059361419115808,7.0871233702938969,8.2683105986762122,9.4494978270585293,10.630685055440845,7.0871233702938969,8.2683105986762122,9.4494978270585293,10.630685055440845,11.811872283823162,8.2683105986762122,9.4494978270585293,10.630685055440845,11.811872283823162,12.993059512205477,9.4494978270585293,10.630685055440845,11.811872283823162,12.993059512205477,14.174246740587794]
[51,{"$f":"花园升级数值表!Q52","v":1207.273748321139},6.0363687416056955,7.2436424899268346,8.4509162382479737,9.6581899865691128,10.86546373489025,7.2436424899268346,8.4509162382479737,9.6581899865691128,10.86546373489025,12.072737483211391,8.4509162382479737,9.6581899865691128,10.86546373489025,12.072737483211391,13.280011231532528,9.6581899865691128,10.86546373489025,12.072737483211391,13.280011231532528,14.487284979853669]
[52,{"$f":"花园升级数值表!Q53","v":1233.9363890528114},6.169681945264057,7.4036183343168682,8.6375547233696803,9.8714911124224916,11.105427501475301,7.4036183343168682,8.6375547233696803,9.8714911124224916,11.105427501475301,12.339363890528114,8.6375547233696803,9.8714911124224916,11.105427501475301,12.339363890528114,13.573300279580923,9.8714911124224916,11.105427501475301,12.339363890528114,13.573300279580923,14.807236668633736]
[53,{"$f":"花园升级数值表!Q54","v":1261.1878742050421},6.305939371025211,7.5671272452302532,8.8283151194352953,10.089502993640338,11.350690867845378,7.5671272452302532,8.8283151194352953,10.089502993640338,11.350690867845378,12.611878742050422,8.8283151194352953,10.089502993640338,11.350690867845378,12.611878742050422,13.873066616255462,10.089502993640338,11.350690867845378,12.611878742050422,13.873066616255462,15.134254490460506]
[54,{"$f":"花园升级数值表!Q55","v":1289.0412084068603},6.4452060420343011,7.7342472504411619,9.0232884588480218,10.312329667254883,11.601370875661742,7.7342472504411619,9.0232884588480218,10.312329667254883,11.601370875661742,12.890412084068602,9.0232884588480218,10.312329667254883,11.601370875661742,12.890412084068602,14.179453292475463,10.312329667254883,11.601370875661742,12.890412084068602,14.179453292475463,15.468494500882324]
[55,{"$f":"花园升级数值表!Q56","v":1317.5096834945264},6.5875484174726324,7.9050581009671586,9.2225677844616847,10.540077467956211,11.857587151450737,7.9050581009671586,9.2225677844616847,10.540077467956211,11.857587151450737,13.175096834945265,9.2225677844616847,10.540077467956211,11.857587151450737,13.175096834945265,14.492606518439789,10.540077467956211,11.857587151450737,13.175096834945265,14.492606518439789,15.810116201934317]
[56,{"$f":"花园升级数值表!Q57","v":1346.6068848545021},6.7330344242725104,8.0796413091270125,9.4262481939815146,10.772855078836017,12.119461963690519,8.0796413091270125,9.4262481939815146,10.772855078836017,12.119461963690519,13.466068848545021,9.4262481939815146,10.772855078836017,12.119461963690519,13.466068848545021,14.812675733399523,10.772855078836017,12.119461963690519,13.466068848545021,14.812675733399523,16.159282618254025]
[57,{"$f":"花园升级数值表!Q58","v":1376.3466979065136},6.8817334895325679,8.2580801874390808,9.6344268853455954,11.010773583252108,12.387120281158621,8.2580801874390808,9.6344268853455954,11.010773583252108,12.387120281158621,13.763466979065136,9.6344268853455954,11.010773583252108,12.387120281158621,13.763466979065136,15.139813676971649,11.010773583252108,12.387120281158621,13.763466979065136,15.139813676971649,16.516160374878162]
[58,{"$f":"花园升级数值表!Q59","v":1406.7433147297793},7.0337165736488965,8.4404598883786761,9.8472032031084549,11.253946517838234,12.660689832568012,8.4404598883786761,9.8472032031084549,11.253946517838234,12.660689832568012,14.067433147297793,9.8472032031084549,11.253946517838234,12.660689832568012,14.067433147297793,15.474176462027572,11.253946517838234,12.660689832568012,14.067433147297793,15.474176462027572,16.880919776757352]
[59,{"$f":"花园升级数值表!Q60","v":1437.8112408355857},7.1890562041779287,8.6268674450135148,10.064678685849101,11.502489926684687,12.940301167520271,8.6268674450135148,10.064678685849101,11.502489926684687,12.940301167520271,14.378112408355857,10.064678685849101,11.502489926684687,12.940301167520271,14.378112408355857,15.815923649191442,11.502489926684687,12.940301167520271,14.378112408355857,15.815923649191442,17.25373489002703]
[60,{"$f":"花园升级数值表!Q61","v":1469.5653020894395},7.3478265104471978,8.8173918125366377,10.286957114626077,11.756522416715516,13.226087718804955,8.8173918125366377,10.286957114626077,11.756522416715516,13.226087718804955,14.695653020894396,10.286957114626077,11.756522416715516,13.226087718804955,14.695653020894396,16.165218322983833,11.756522416715516,13.226087718804955,14.695653020894396,16.165218322983833,17.634783625073275]
[61,{"$f":"花园升级数值表!Q62","v":1502.0206517860843},7.5101032589304211,9.0121239107165056,10.51414456250259,12.016165214288675,13.518185866074758,9.0121239107165056,10.51414456250259,12.016165214288675,13.518185866074758,15.020206517860842,10.51414456250259,12.016165214288675,13.518185866074758,15.020206517860842,16.522227169646925,12.016165214288675,13.518185866074758,15.020206517860842,16.522227169646925,18.024247821433011]
[62,{"$f":"花园升级数值表!Q63","v":1535.1927778807794},7.6759638894038975,9.2111566672846763,10.746349445165457,12.281542223046236,13.816735000927014,9.2111566672846763,10.746349445165457,12.281542223046236,13.816735000927014,15.351927778807795,10.746349445165457,12.281542223046236,13.816735000927014,15.351927778807795,16.887120556688572,12.281542223046236,13.816735000927014,15.351927778807795,16.887120556688572,18.422313334569353]
[63,{"$f":"花园升级数值表!Q64","v":1569.0975103802766},7.8454875519013836,9.4145850622816596,10.983682572661937,12.552780083042213,14.121877593422488,9.4145850622816596,10.983682572661937,12.552780083042213,14.121877593422488,15.690975103802767,10.983682572661937,12.552780083042213,14.121877593422488,15.690975103802767,17.260072614183041,12.552780083042213,14.121877593422488,15.690975103802767,17.260072614183041,18.829170124563319]
[64,{"$f":"花园升级数值表!Q65","v":1603.7510288970248},8.0187551444851231,9.6225061733821491,11.226257202279173,12.830008231176198,14.433759260073222,9.6225061733821491,11.226257202279173,12.830008231176198,14.433759260073222,16.037510288970246,11.226257202279173,12.830008231176198,14.433759260073222,16.037510288970246,17.641261317867272,12.830008231176198,14.433759260073222,16.037510288970246,17.641261317867272,19.245012346764298]
[65,{"$f":"花园升级数值表!Q66","v":1639.1698703702157},8.1958493518510789,9.8350192222212947,11.47418909259151,13.113358962961726,14.75252883333194,9.8350192222212947,11.47418909259151,13.113358962961726,14.75252883333194,16.391698703702158,11.47418909259151,13.113358962961726,14.75252883333194,16.391698703702158,18.030868574072372,13.113358962961726,14.75252883333194,16.391698703702158,18.030868574072372,19.670038444442589]
[66,{"$f":"花园升级数值表!Q67","v":1675.3709369573407},{"$f":"B68*0.005","v":8.3768546847867036},{"$f":"B68*0.006","v":10.052225621744045},{"$f":"B68*0.007","v":11.727596558701386},{"$f":"B68*0.008","v":13.402967495658727},{"$f":"B68*0.009","v":15.078338432616066},{"$f":"B68*0.006","v":10.052225621744045},{"$f":"B68*0.007","v":11.727596558701386},{"$f":"B68*0.008","v":13.402967495658727},{"$f":"B68*0.009","v":15.078338432616066},{"$f":"B68*0.01","v":16.753709369573407},{"$f":"(B68)*0.007","v":11.727596558701386},{"$f":"B68*0.008","v":13.402967495658727},{"$f":"B68*0.009","v":15.078338432616066},{"$f":"B68*0.01","v":16.753709369573407},{"$f":"B68*0.011","v":18.429080306530746},{"$f":"B68*0.008","v":13.402967495658727},{"$f":"B68*0.009","v":15.078338432616066},{"$f":"B68*0.01","v":16.753709369573407},{"$f":"B68*0.011","v":18.429080306530746},{"$f":"B68*0.012","v":20.104451243488089}]
[67,{"$f":"花园升级数值表!Q68","v":1712.371504100043},8.5618575205002152,10.274229024600258,11.986600528700301,13.698972032800345,15.411343536900386,10.274229024600258,11.986600528700301,13.698972032800345,15.411343536900386,17.12371504100043,11.986600528700301,13.698972032800345,15.411343536900386,17.12371504100043,18.836086545100471,13.698972032800345,15.411343536900386,17.12371504100043,18.836086545100471,20.548458049200516]
[68,{"$f":"花园升级数值表!Q69","v":1750.1892287680921},8.7509461438404603,10.501135372608553,12.251324601376645,14.001513830144738,15.751703058912828,10.501135372608553,12.251324601376645,14.001513830144738,15.751703058912828,17.501892287680921,12.251324601376645,14.001513830144738,15.751703058912828,17.501892287680921,19.252081516449014,14.001513830144738,15.751703058912828,17.501892287680921,19.252081516449014,21.002270745217107]
[69,{"$f":"花园升级数值表!Q70","v":1788.8421578854357},8.9442107894271778,10.733052947312615,12.52189510519805,14.310737263083485,16.099579420968919,10.733052947312615,12.52189510519805,14.310737263083485,16.099579420968919,17.888421578854356,12.52189510519805,14.310737263083485,16.099579420968919,17.888421578854356,19.677263736739793,14.310737263083485,16.099579420968919,17.888421578854356,19.677263736739793,21.46610589462523]
[70,{"$f":"花园升级数值表!Q71","v":1828.3487369423358},9.1417436847116793,10.970092421654014,12.798441158596351,14.626789895538687,16.45513863248102,10.970092421654014,12.798441158596351,14.626789895538687,16.45513863248102,18.283487369423359,12.798441158596351,14.626789895538687,16.45513863248102,18.283487369423359,20.111836106365693,14.626789895538687,16.45513863248102,18.283487369423359,20.111836106365693,21.940184843308028]
[71,{"$f":"花园升级数值表!Q72","v":1868.7278187977065},9.3436390939885321,11.212366912786239,13.081094731583946,14.949822550381652,16.818550369179356,11.212366912786239,13.081094731583946,14.949822550381652,16.818550369179356,18.687278187977064,13.081094731583946,14.949822550381652,16.818550369179356,18.687278187977064,20.556006006774769,14.949822550381652,16.818550369179356,18.687278187977064,20.556006006774769,22.424733825572478]
[72,{"$f":"花园升级数值表!Q73","v":1909.9986726758525},9.5499933633792633,11.459992036055116,13.369990708730969,15.27998938140682,17.189988054082672,11.459992036055116,13.369990708730969,15.27998938140682,17.189988054082672,19.099986726758527,13.369990708730969,15.27998938140682,17.189988054082672,19.099986726758527,21.009985399434377,15.27998938140682,17.189988054082672,19.099986726758527,21.009985399434377,22.919984072110232]
[73,{"$f":"花园升级数值表!Q74","v":1952.1809933618988},9.7609049668094947,11.713085960171393,13.665266953533292,15.61744794689519,17.569628940257086,11.713085960171393,13.665266953533292,15.61744794689519,17.569628940257086,19.521809933618989,13.665266953533292,15.61744794689519,17.569628940257086,19.521809933618989,21.473990926980886,15.61744794689519,17.569628940257086,19.521809933618989,21.473990926980886,23.426171920342785]
[74,{"$f":"花园升级数值表!Q75","v":1995.2949106002964},9.9764745530014824,11.971769463601779,13.967064374202074,15.962359284802371,17.957654195402664,11.971769463601779,13.967064374202074,15.962359284802371,17.957654195402664,19.952949106002965,13.967064374202074,15.962359284802371,17.957654195402664,19.952949106002965,21.948244016603258,15.962359284802371,17.957654195402664,19.952949106002965,21.948244016603258,23.943538927203559]
[75,{"$f":"花园升级数值表!Q76","v":2039.3609987009031},10.196804993504516,12.23616599220542,14.275526990906322,16.314887989607225,18.354248988308125,12.23616599220542,14.275526990906322,16.314887989607225,18.354248988308125,20.393609987009032,14.275526990906322,16.314887989607225,18.354248988308125,20.393609987009032,22.432970985709932,16.314887989607225,18.354248988308125,20.393609987009032,22.432970985709932,24.47233198441084]
[76,{"$f":"花园升级数值表!Q77","v":2084.4002863572123},10.422001431786061,12.506401718143273,14.590802004500487,16.675202290857698,18.75960257721491,12.506401718143273,14.590802004500487,16.675202290857698,18.75960257721491,20.844002863572122,14.590802004500487,16.675202290857698,18.75960257721491,20.844002863572122,22.928403149929334,16.675202290857698,18.75960257721491,20.844002863572122,22.928403149929334,25.012803436286546]
[77,{"$f":"花园升级数值表!Q78","v":2130.4342666814114},10.652171333407058,12.782605600088468,14.91303986676988,17.043474133451291,19.173908400132699,12.782605600088468,14.91303986676988,17.043474133451291,19.173908400132699,21.304342666814115,14.91303986676988,17.043474133451291,19.173908400132699,21.304342666814115,23.434776933495524,17.043474133451291,19.173908400132699,21.304342666814115,23.434776933495524,25.565211200176936]
[78,{"$f":"花园升级数值表!Q79","v":2177.4849074610693},10.887424537305346,13.064909444766416,15.242394352227485,17.419879259688553,19.597364167149621,13.064909444766416,15.242394352227485,17.419879259688553,19.597364167149621,21.774849074610692,15.242394352227485,17.419879259688553,19.597364167149621,21.774849074610692,23.95233398207176,17.419879259688553,19.597364167149621,21.774849074610692,23.95233398207176,26.129818889532832]
[79,{"$f":"花园升级数值表!Q80","v":2225.5746616423462},11.127873308211731,13.353447969854077,15.579022631496423,17.804597293138769,20.030171954781114,13.353447969854077,15.579022631496423,17.804597293138769,20.030171954781114,22.255746616423462,15.579022631496423,17.804597293138769,20.030171954781114,22.255746616423462,24.481321278065806,17.804597293138769,20.030171954781114,22.255746616423462,24.481321278065806,26.706895939708154]
[80,{"$f":"花园升级数值表!Q81","v":2274.7264780447176},11.373632390223589,13.648358868268305,15.923085346313023,18.197811824357743,20.472538302402459,13.648358868268305,15.923085346313023,18.197811824357743,20.472538302402459,22.747264780447178,15.923085346313023,18.197811824357743,20.472538302402459,22.747264780447178,25.021991258491891,18.197811824357743,20.472538302402459,22.747264780447178,25.021991258491891,27.29671773653661]
[81,{"$f":"花园升级数值表!Q82","v":2324.963812312335},11.624819061561675,13.94978287387401,16.274746686186344,18.599710498498681,20.924674310811014,13.94978287387401,16.274746686186344,18.599710498498681,20.924674310811014,23.249638123123351,16.274746686186344,18.599710498498681,20.924674310811014,23.249638123123351,25.574601935435684,18.599710498498681,20.924674310811014,23.249638123123351,25.574601935435684,27.899565747748021]
[82,{"$f":"花园升级数值表!Q83","v":2376.3106381072521},11.881553190536261,14.257863828643513,16.634174466750764,19.010485104858017,21.386795742965266,14.257863828643513,16.634174466750764,19.010485104858017,21.386795742965266,23.763106381072522,16.634174466750764,19.010485104858017,21.386795742965266,23.763106381072522,26.139417019179771,19.010485104858017,21.386795742965266,23.763106381072522,26.139417019179771,28.515727657287027]
[83,{"$f":"花园升级数值表!Q84","v":2428.7914585498502},12.143957292749251,14.572748751299102,17.001540209848951,19.4303316683988,21.859123126948649,14.572748751299102,17.001540209848951,19.4303316683988,21.859123126948649,24.287914585498502,17.001540209848951,19.4303316683988,21.859123126948649,24.287914585498502,26.716706044048351,19.4303316683988,21.859123126948649,24.287914585498502,26.716706044048351,29.145497502598204]
[84,{"$f":"花园升级数值表!Q85","v":2482.4313179119222},12.412156589559611,14.894587907471534,17.377019225383457,19.859450543295377,22.341881861207298,14.894587907471534,17.377019225383457,19.859450543295377,22.341881861207298,24.824313179119223,17.377019225383457,19.859450543295377,22.341881861207298,24.824313179119223,27.306744497031143,19.859450543295377,22.341881861207298,24.824313179119223,27.306744497031143,29.789175814943068]
[85,{"$f":"花园升级数值表!Q86","v":2537.2558135680069},12.686279067840035,15.223534881408042,17.760790694976048,20.298046508544054,22.83530232211206,15.223534881408042,17.760790694976048,20.298046508544054,22.83530232211206,25.37255813568007,17.760790694976048,20.298046508544054,22.83530232211206,25.37255813568007,27.909813949248075,20.298046508544054,22.83530232211206,25.37255813568007,27.909813949248075,30.447069762816085]
[86,{"$f":"花园升级数值表!Q87","v":2593.2911082106571},12.966455541053286,15.559746649263943,18.1530377574746,20.746328865685257,23.33961997389591,15.559746649263943,18.1530377574746,20.746328865685257,23.33961997389591,25.932911082106571,18.1530377574746,20.746328865685257,23.33961997389591,25.932911082106571,28.526202190317225,20.746328865685257,23.33961997389591,25.932911082106571,28.526202190317225,31.119493298527885]
[87,{"$f":"花园升级数值表!Q88","v":2650.5639423354883},13.252819711677441,15.903383654012931,18.553947596348419,21.204511538683906,23.855075481019394,15.903383654012931,18.553947596348419,21.204511538683906,23.855075481019394,26.505639423354882,18.553947596348419,21.204511538683906,23.855075481019394,26.505639423354882,29.15620336569037,21.204511538683906,23.855075481019394,26.505639423354882,29.15620336569037,31.806767308025861]
[88,{"$f":"花园升级数值表!Q89","v":2709.1016470019667},13.545508235009834,16.254609882011799,18.963711529013768,21.672813176015733,24.381914823017699,16.254609882011799,18.963711529013768,21.672813176015733,24.381914823017699,27.091016470019667,18.963711529013768,21.672813176015733,24.381914823017699,27.091016470019667,29.800118117021633,21.672813176015733,24.381914823017699,27.091016470019667,29.800118117021633,32.509219764023598]
[89,{"$f":"花园升级数值表!Q90","v":2768.9321568760038},13.84466078438002,16.613592941256023,19.382525098132028,22.15145725500803,24.920389411884031,16.613592941256023,19.382525098132028,22.15145725500803,24.920389411884031,27.68932156876004,19.382525098132028,22.15145725500803,24.920389411884031,27.68932156876004,30.458253725636041,22.15145725500803,24.920389411884031,27.68932156876004,30.458253725636041,33.227185882512046]
[90,{"$f":"花园升级数值表!Q91","v":2830.0840235606097},14.15042011780305,16.98050414136366,19.810588164924269,22.640672188484878,25.470756212045487,16.98050414136366,19.810588164924269,22.640672188484878,25.470756212045487,28.300840235606099,19.810588164924269,22.640672188484878,25.470756212045487,28.300840235606099,31.130924259166704,22.640672188484878,25.470756212045487,28.300840235606099,31.130924259166704,33.96100828272732]
[91,{"$f":"花园升级数值表!Q92","v":2892.5864292209458},14.462932146104729,17.355518575325675,20.24810500454662,23.140691433767568,26.033277862988509,17.355518575325675,20.24810500454662,23.140691433767568,26.033277862988509,28.925864292209457,20.24810500454662,23.140691433767568,26.033277862988509,28.925864292209457,31.818450721430402,23.140691433767568,26.033277862988509,28.925864292209457,31.818450721430402,34.71103715065135]
[92,{"$f":"花园升级数值表!Q93","v":2956.4692005102893},14.782346002551447,17.738815203061737,20.695284403572025,23.651753604082316,26.6082228045926,17.738815203061737,20.695284403572025,23.651753604082316,26.6082228045926,29.564692005102895,20.695284403572025,23.651753604082316,26.6082228045926,29.564692005102895,32.521161205613183,23.651753604082316,26.6082228045926,29.564692005102895,32.521161205613183,35.477630406123474]
[93,{"$f":"花园升级数值表!Q94","v":3021.7628228035587},15.108814114017793,18.130576936821353,21.152339759624912,24.174102582428471,27.195865405232027,18.130576936821353,21.152339759624912,24.174102582428471,27.195865405232027,30.217628228035586,21.152339759624912,24.174102582428471,27.195865405232027,30.217628228035586,33.239391050839146,24.174102582428471,27.195865405232027,30.217628228035586,33.239391050839146,36.261153873642705]
[94,{"$f":"花园升级数值表!Q95","v":3088.4984547451763},15.442492273725883,18.530990728471057,21.619489183216235,24.707987637961413,27.796486092706584,18.530990728471057,21.619489183216235,24.707987637961413,27.796486092706584,30.884984547451765,21.619489183216235,24.707987637961413,27.796486092706584,30.884984547451765,33.973483002196936,24.707987637961413,27.796486092706584,30.884984547451765,33.973483002196936,37.061981456942114]
[95,{"$f":"花园升级数值表!Q96","v":3156.707943118221},15.783539715591106,18.940247658709325,22.096955601827549,25.25366354494577,28.410371488063987,18.940247658709325,22.096955601827549,25.25366354494577,28.410371488063987,31.567079431182211,22.096955601827549,25.25366354494577,28.410371488063987,31.567079431182211,34.723787374300429,25.25366354494577,28.410371488063987,31.567079431182211,34.723787374300429,37.880495317418649]
[96,{"$f":"花园升级数值表!Q97","v":3226.423838041987},16.132119190209934,19.358543028251923,22.584966866293911,25.811390704335896,29.03781454237788,19.358543028251923,22.584966866293911,25.811390704335896,29.03781454237788,32.264238380419869,22.584966866293911,25.811390704335896,29.03781454237788,32.264238380419869,35.490662218461857,25.811390704335896,29.03781454237788,32.264238380419869,35.490662218461857,38.717086056503845]
[97,{"$f":"花园升级数值表!Q98","v":3297.6794085051424},16.488397042525712,19.786076451030855,23.083755859535998,26.381435268041141,29.679114676546281,19.786076451030855,23.083755859535998,26.381435268041141,29.679114676546281,32.976794085051424,23.083755859535998,26.381435268041141,29.679114676546281,32.976794085051424,36.274473493556563,26.381435268041141,29.679114676546281,32.976794085051424,36.274473493556563,39.57215290206171]
[98,{"$f":"花园升级数值表!Q99","v":3370.5086582419776},16.852543291209887,20.223051949451865,23.593560607693846,26.964069265935823,30.334577924177797,20.223051949451865,23.593560607693846,26.964069265935823,30.334577924177797,33.705086582419774,23.593560607693846,26.964069265935823,30.334577924177797,33.705086582419774,37.075595240661755,26.964069265935823,30.334577924177797,33.705086582419774,37.075595240661755,40.446103898903729]
[99,{"$f":"花园升级数值表!Q100","v":3444.9463419592494},17.224731709796249,20.669678051755497,24.114624393714745,27.559570735673997,31.004517077633242,20.669678051755497,24.114624393714745,27.559570735673997,31.004517077633242,34.449463419592497,24.114624393714745,27.559570735673997,31.004517077633242,34.449463419592497,37.894409761551742,27.559570735673997,31.004517077633242,34.449463419592497,37.894409761551742,41.339356103510994]
[100,{"$f":"花园升级数值表!Q101","v":3521.0279819214206},17.605139909607104,21.126167891528524,24.647195873449945,28.168223855371366,31.689251837292783,21.126167891528524,24.647195873449945,28.168223855371366,31.689251837292783,35.210279819214207,24.647195873449945,28.168223855371366,31.689251837292783,35.210279819214207,38.731307801135628,28.168223855371366,31.689251837292783,35.210279819214207,38.731307801135628,42.252335783057049]
[101,{"$f":"花园升级数值表!Q102","v":3598.7898849021549},17.993949424510774,21.592739309412931,25.191529194315084,28.790319079217241,32.389108964119394,21.592739309412931,25.191529194315084,28.790319079217241,32.389108964119394,35.987898849021548,25.191529194315084,28.790319079217241,32.389108964119394,35.987898849021548,39.586688733923701,28.790319079217241,32.389108964119394,35.987898849021548,39.586688733923701,43.185478618825861]
[102,{"$f":"花园升级数值表!Q103","v":3678.2691595102187},18.391345797551093,22.069614957061312,25.74788411657153,29.426153276081749,33.104422435591964,22.069614957061312,25.74788411657153,29.426153276081749,33.104422435591964,36.782691595102186,25.74788411657153,29.426153276081749,33.104422435591964,36.782691595102186,40.460960754612401,29.426153276081749,33.104422435591964,36.782691595102186,40.460960754612401,44.139229914122623]
[103,{"$f":"花园升级数值表!Q104","v":3759.5037338980001},18.79751866949,22.557022403388,26.316526137286001,30.076029871184002,33.835533605081999,22.557022403388,26.316526137286001,30.076029871184002,33.835533605081999,37.595037338979999,26.316526137286001,30.076029871184002,33.835533605081999,37.595037338979999,41.354541072878,30.076029871184002,33.835533605081999,37.595037338979999,41.354541072878,45.114044806776]
[104,{"$f":"花园升级数值表!Q105","v":3842.5323738611373},19.212661869305688,23.055194243166824,26.897726617027963,30.7402589908891,34.582791364750236,23.055194243166824,26.897726617027963,30.7402589908891,34.582791364750236,38.425323738611375,26.897726617027963,30.7402589908891,34.582791364750236,38.425323738611375,42.267856112472508,30.7402589908891,34.582791364750236,38.425323738611375,42.267856112472508,46.110388486333648]
[105,{"$f":"花园升级数值表!Q106","v":3927.3947013378597},19.636973506689298,23.564368208027158,27.491762909365018,31.419157610702879,35.346552312040735,23.564368208027158,27.491762909365018,31.419157610702879,35.346552312040735,39.273947013378596,27.491762909365018,31.419157610702879,35.346552312040735,39.273947013378596,43.201341714716456,31.419157610702879,35.346552312040735,39.273947013378596,43.201341714716456,47.128736416054316]
[106,{"$f":"花园升级数值表!Q107","v":4014.1312133169045},20.070656066584522,24.084787279901427,28.098918493218331,32.113049706535236,36.127180919852137,24.084787279901427,28.098918493218331,32.113049706535236,36.127180919852137,40.141312133169045,28.098918493218331,32.113049706535236,36.127180919852137,40.141312133169045,44.155443346485946,32.113049706535236,36.127180919852137,40.141312133169045,44.155443346485946,48.169574559802854]
[107,{"$f":"花园升级数值表!Q108","v":4102.7833011630064},20.513916505815033,24.61669980697804,28.719483108141045,32.822266409304049,36.925049710467057,24.61669980697804,28.719483108141045,32.822266409304049,36.925049710467057,41.027833011630065,28.719483108141045,32.822266409304049,36.925049710467057,41.027833011630065,45.130616312793066,32.822266409304049,36.925049710467057,41.027833011630065,45.130616312793066,49.233399613956081]
[108,{"$f":"花园升级数值表!Q109","v":4193.3932703691926},20.966966351845965,25.160359622215157,29.35375289258435,33.547146162953538,37.740539433322731,25.160359622215157,29.35375289258435,33.547146162953538,37.740539433322731,41.93393270369193,29.35375289258435,33.547146162953538,37.740539433322731,41.93393270369193,46.127325974061115,33.547146162953538,37.740539433322731,41.93393270369193,46.127325974061115,50.320719244430315]
[109,{"$f":"花园升级数值表!Q110","v":4286.0043607452953},21.430021803726476,25.716026164471774,30.002030525217069,34.288034885962361,38.574039246707656,25.716026164471774,30.002030525217069,34.288034885962361,38.574039246707656,42.860043607452951,30.002030525217069,34.288034885962361,38.574039246707656,42.860043607452951,47.146047968198246,34.288034885962361,38.574039246707656,42.860043607452951,47.146047968198246,51.432052328943549]
[110,{"$f":"花园升级数值表!Q111","v":4380.6607670523554},21.903303835261777,26.283964602314132,30.664625369366487,35.045286136418845,39.425946903471193,26.283964602314132,30.664625369366487,35.045286136418845,39.425946903471193,43.806607670523555,30.664625369366487,35.045286136418845,39.425946903471193,43.806607670523555,48.187268437575909,35.045286136418845,39.425946903471193,43.806607670523555,48.187268437575909,52.567929204628264]
[111,{"$f":"花园升级数值表!Q112","v":4477.4076600927037},22.387038300463519,26.864445960556225,31.341853620648926,35.819261280741628,40.29666894083433,26.864445960556225,31.341853620648926,35.819261280741628,40.29666894083433,44.774076600927039,31.341853620648926,35.819261280741628,40.29666894083433,44.774076600927039,49.251484261019741,35.819261280741628,40.29666894083433,44.774076600927039,49.251484261019741,53.728891921112449]
[112,{"$f":"花园升级数值表!Q113","v":4576.2912082658504},22.881456041329251,27.457747249595101,32.034038457860952,36.610329666126802,41.186620874392652,27.457747249595101,32.034038457860952,36.610329666126802,41.186620874392652,45.762912082658502,32.034038457860952,36.610329666126802,41.186620874392652,45.762912082658502,50.339203290924353,36.610329666126802,41.186620874392652,45.762912082658502,50.339203290924353,54.915494499190203]
[113,{"$f":"花园升级数值表!Q114","v":4677.3585996004012},23.386792998002008,28.064151597602407,32.741510197202807,37.41886879680321,42.096227396403606,28.064151597602407,32.741510197202807,37.41886879680321,42.096227396403606,46.773585996004016,32.741510197202807,37.41886879680321,42.096227396403606,46.773585996004016,51.450944595604412,37.41886879680321,42.096227396403606,46.773585996004016,51.450944595604412,56.128303195204815]
[114,{"$f":"花园升级数值表!Q115","v":4780.6580642725758},23.903290321362878,28.683948385635457,33.464606449908032,38.245264514180604,43.025922578453176,28.683948385635457,33.464606449908032,38.245264514180604,43.025922578453176,47.806580642725756,33.464606449908032,38.245264514180604,43.025922578453176,47.806580642725756,52.587238706998328,38.245264514180604,43.025922578453176,47.806580642725756,52.587238706998328,57.367896771270914]
[115,{"$f":"花园升级数值表!Q116","v":4886.2388976220336},24.431194488110169,29.317433385732201,34.203672283354237,39.089911180976273,43.976150078598302,29.317433385732201,34.203672283354237,39.089911180976273,43.976150078598302,48.862388976220338,34.203672283354237,39.089911180976273,43.976150078598302,48.862388976220338,53.748627873842366,39.089911180976273,43.976150078598302,48.862388976220338,53.748627873842366,58.634866771464402]
[116,{"$f":"花园升级数值表!Q117","v":4994.1514836760161},24.970757418380082,29.964908902056099,34.959060385732116,39.953211869408129,44.947363353084143,29.964908902056099,34.959060385732116,39.953211869408129,44.947363353084143,49.941514836760163,34.959060385732116,39.953211869408129,44.947363353084143,49.941514836760163,54.935666320436177,39.953211869408129,44.947363353084143,49.941514836760163,54.935666320436177,59.929817804112197]
[117,{"$f":"花园升级数值表!Q118","v":5104.4473191929992},25.522236595964998,30.626683915157997,35.731131234350997,40.835578553543996,45.940025872736989,30.626683915157997,35.731131234350997,40.835578553543996,45.940025872736989,51.044473191929995,35.731131234350997,40.835578553543996,45.940025872736989,51.044473191929995,56.148920511122988,40.835578553543996,45.940025872736989,51.044473191929995,56.148920511122988,61.253367830315995]
[118,{"$f":"花园升级数值表!Q119","v":5217.1790382373756},26.085895191186879,31.303074229424254,36.52025326766163,41.737432305899006,46.954611344136374,31.303074229424254,36.52025326766163,41.737432305899006,46.954611344136374,52.171790382373757,36.52025326766163,41.737432305899006,46.954611344136374,52.171790382373757,57.388969420611126,41.737432305899006,46.954611344136374,52.171790382373757,57.388969420611126,62.606148458848509]
[119,{"$f":"花园升级数值表!Q120","v":5332.4004372968475},26.662002186484237,31.994402623781085,37.326803061077932,42.659203498374779,47.991603935671627,31.994402623781085,37.326803061077932,42.659203498374779,47.991603935671627,53.324004372968474,37.326803061077932,42.659203498374779,47.991603935671627,53.324004372968474,58.656404810265322,42.659203498374779,47.991603935671627,53.324004372968474,58.656404810265322,63.988805247562169]
[120,{"$f":"花园升级数值表!Q121","v":5450.1665009545468},27.250832504772735,32.700999005727283,38.151165506681828,43.601332007636373,49.051498508590917,32.700999005727283,38.151165506681828,43.601332007636373,49.051498508590917,54.501665009545469,38.151165506681828,43.601332007636373,49.051498508590917,54.501665009545469,59.951831510500014,43.601332007636373,49.051498508590917,54.501665009545469,59.951831510500014,65.401998011454566]
[121,{"$f":"花园升级数值表!Q122","v":5570.5334281281266},27.852667140640634,33.423200568768763,38.993733996896886,44.564267425025015,50.134800853153138,33.423200568768763,38.993733996896886,44.564267425025015,50.134800853153138,55.705334281281267,38.993733996896886,44.564267425025015,50.134800853153138,55.705334281281267,61.27586770940939,44.564267425025015,50.134800853153138,55.705334281281267,61.27586770940939,66.846401137537526]
[122,{"$f":"花园升级数值表!Q123","v":5693.5586588883352},28.467793294441677,34.161351953330012,39.854910612218347,45.548469271106683,51.242027929995011,34.161351953330012,39.854910612218347,45.548469271106683,51.242027929995011,56.935586588883353,39.854910612218347,45.548469271106683,51.242027929995011,56.935586588883353,62.629145247771682,45.548469271106683,51.242027929995011,56.935586588883353,62.629145247771682,68.322703906660024]
[123,{"$f":"花园升级数值表!Q124","v":5819.300901869884},29.096504509349419,34.915805411219303,40.73510631308919,46.55440721495907,52.373708116828951,34.915805411219303,40.73510631308919,46.55440721495907,52.373708116828951,58.193009018698838,40.73510631308919,46.55440721495907,52.373708116828951,58.193009018698838,64.012309920568725,46.55440721495907,52.373708116828951,58.193009018698838,64.012309920568725,69.831610822438606]
[124,{"$f":"花园升级数值表!Q125","v":5947.8201622876777},29.739100811438391,35.686920973726068,41.634741136013744,47.582561298301421,53.530381460589098,35.686920973726068,41.634741136013744,47.582561298301421,53.530381460589098,59.478201622876782,41.634741136013744,47.582561298301421,53.530381460589098,59.478201622876782,65.426021785164451,47.582561298301421,53.530381460589098,59.478201622876782,65.426021785164451,71.373841947452135]
[125,{"$f":"花园升级数值表!Q126","v":6079.1777705717986},30.395888852858995,36.475066623430791,42.554244394002595,48.633422164574391,54.712599935146187,36.475066623430791,42.554244394002595,48.633422164574391,54.712599935146187,60.79177770571799,42.554244394002595,48.633422164574391,54.712599935146187,60.79177770571799,66.87095547628978,48.633422164574391,54.712599935146187,60.79177770571799,66.87095547628978,72.950133246861583]
[126,{"$f":"花园升级数值表!Q127","v":6213.4364116348788},31.067182058174396,37.280618469809276,43.49405488144415,49.70749129307903,55.920927704713904,37.280618469809276,43.49405488144415,49.70749129307903,55.920927704713904,62.134364116348792,43.49405488144415,49.70749129307903,55.920927704713904,62.134364116348792,68.347800527983665,49.70749129307903,55.920927704713904,62.134364116348792,68.347800527983665,74.561236939618553]
[127,{"$f":"花园升级数值表!Q128","v":6350.6601547858327},31.753300773929166,38.103960928714997,44.454621083500832,50.805281238286661,57.155941393072489,38.103960928714997,44.454621083500832,50.805281238286661,57.155941393072489,63.506601547858331,44.454621083500832,50.805281238286661,57.155941393072489,63.506601547858331,69.857261702644152,50.805281238286661,57.155941393072489,63.506601547858331,69.857261702644152,76.207921857429994]
[128,{"$f":"花园升级数值表!Q129","v":6490.9144843042786},32.454572421521391,38.945486905825675,45.436401390129951,51.927315874434228,58.418230358738505,38.945486905825675,45.436401390129951,51.927315874434228,58.418230358738505,64.909144843042782,45.436401390129951,51.927315874434228,58.418230358738505,64.909144843042782,71.400059327347066,51.927315874434228,58.418230358738505,64.909144843042782,71.400059327347066,77.890973811651349]
[129,{"$f":"花园升级数值表!Q130","v":6634.2663306901377},33.171331653450686,39.805597984140825,46.439864314830963,53.074130645521102,59.708396976211233,39.805597984140825,46.439864314830963,53.074130645521102,59.708396976211233,66.342663306901372,46.439864314830963,53.074130645521102,59.708396976211233,66.342663306901372,72.97692963759151,53.074130645521102,59.708396976211233,66.342663306901372,72.97692963759151,79.611195968281649]
[130,{"$f":"花园升级数值表!Q131","v":6780.7841026034212},{"$f":"B132*0.005","v":33.903920513017106},{"$f":"B132*0.006","v":40.684704615620525},{"$f":"B132*0.007","v":47.465488718223952},{"$f":"B132*0.008","v":54.246272820827372},{"$f":"B132*0.009","v":61.027056923430784},{"$f":"B132*0.006","v":40.684704615620525},{"$f":"B132*0.007","v":47.465488718223952},{"$f":"B132*0.008","v":54.246272820827372},{"$f":"B132*0.009","v":61.027056923430784},{"$f":"B132*0.01","v":67.807841026034211},{"$f":"(B132)*0.007","v":47.465488718223952},{"$f":"B132*0.008","v":54.246272820827372},{"$f":"B132*0.009","v":61.027056923430784},{"$f":"B132*0.01","v":67.807841026034211},{"$f":"B132*0.011","v":74.588625128637631},{"$f":"B132*0.008","v":54.246272820827372},{"$f":"B132*0.009","v":61.027056923430784},{"$f":"B132*0.01","v":67.807841026034211},{"$f":"B132*0.011","v":74.588625128637631},{"$f":"B132*0.012","v":81.36940923124105}]
[131,{"$f":"花园升级数值表!Q132","v":6930.5377195094179},34.65268859754709,41.583226317056507,48.513764036565924,55.444301756075347,62.374839475584757,41.583226317056507,48.513764036565924,55.444301756075347,62.374839475584757,69.305377195094181,48.513764036565924,55.444301756075347,62.374839475584757,69.305377195094181,76.235914914603597,55.444301756075347,62.374839475584757,69.305377195094181,76.235914914603597,83.166452634113014]
[132,{"$f":"花园升级数值表!Q133","v":7083.5986450447826},35.417993225223917,42.501591870268697,49.585190515313478,56.668789160358266,63.752387805403039,42.501591870268697,49.585190515313478,56.668789160358266,63.752387805403039,70.835986450447834,49.585190515313478,56.668789160358266,63.752387805403039,70.835986450447834,77.919585095492607,56.668789160358266,63.752387805403039,70.835986450447834,77.919585095492607,85.003183740537395]
[133,{"$f":"花园升级数值表!Q134","v":7240.039921120594},36.200199605602968,43.440239526723566,50.680279447844157,57.920319368964755,65.160359290085339,43.440239526723566,50.680279447844157,57.920319368964755,65.160359290085339,72.400399211205936,50.680279447844157,57.920319368964755,65.160359290085339,72.400399211205936,79.640439132326534,57.920319368964755,65.160359290085339,72.400399211205936,79.640439132326534,86.880479053447132]
[134,{"$f":"花园升级数值表!Q135","v":7399.9362027785419},36.999681013892712,44.399617216671253,51.799553419449794,59.199489622228334,66.599425825006875,44.399617216671253,51.799553419449794,59.199489622228334,66.599425825006875,73.999362027785423,51.799553419449794,59.199489622228334,66.599425825006875,73.999362027785423,81.399298230563957,59.199489622228334,66.599425825006875,73.999362027785423,81.399298230563957,88.799234433342505]
[135,{"$f":"花园升级数值表!Q136","v":7563.363793816904},37.816818969084522,45.380182762901427,52.943546556718331,60.506910350535236,68.070274144352126,45.380182762901427,52.943546556718331,60.506910350535236,68.070274144352126,75.633637938169045,52.943546556718331,60.506910350535236,68.070274144352126,75.633637938169045,83.197001731985935,60.506910350535236,68.070274144352126,75.633637938169045,83.197001731985935,90.760365525802854]
[136,{"$f":"花园升级数值表!Q137","v":7730.4006832033474},38.65200341601674,46.382404099220082,54.112804782423432,61.843205465626781,69.573606148830123,46.382404099220082,54.112804782423432,61.843205465626781,69.573606148830123,77.30400683203348,54.112804782423432,61.843205465626781,69.573606148830123,77.30400683203348,85.034407515236822,61.843205465626781,69.573606148830123,77.30400683203348,85.034407515236822,92.764808198440164]
[137,{"$f":"花园升级数值表!Q138","v":7901.1265822918886},39.505632911459443,47.406759493751331,55.307886076043218,63.209012658335112,71.110139240626992,47.406759493751331,55.307886076043218,63.209012658335112,71.110139240626992,79.011265822918887,55.307886076043218,63.209012658335112,71.110139240626992,79.011265822918887,86.912392405210767,63.209012658335112,71.110139240626992,79.011265822918887,86.912392405210767,94.813518987502661]
[138,{"$f":"花园升级数值表!Q139","v":8075.6229628618057},40.378114814309029,48.453737777170836,56.529360740032644,64.604983702894444,72.680606665756244,48.453737777170836,56.529360740032644,64.604983702894444,72.680606665756244,80.756229628618058,56.529360740032644,64.604983702894444,72.680606665756244,80.756229628618058,88.831852591479858,64.604983702894444,72.680606665756244,80.756229628618058,88.831852591479858,96.907475554341673]
[139,{"$f":"花园升级数值表!Q140","v":8253.9730959966073},41.269865479983039,49.523838575979646,57.777811671976252,66.031784767972866,74.285757863969465,49.523838575979646,57.777811671976252,66.031784767972866,74.285757863969465,82.539730959966079,57.777811671976252,66.031784767972866,74.285757863969465,82.539730959966079,90.793704055962678,66.031784767972866,74.285757863969465,82.539730959966079,90.793704055962678,99.047677151959292]
[140,{"$f":"花园升级数值表!Q141","v":8436.2620918216944},42.181310459108474,50.61757255093017,59.053834642751859,67.490096734573555,75.926358826395244,50.61757255093017,59.053834642751859,67.490096734573555,75.926358826395244,84.362620918216948,59.053834642751859,67.490096734573555,75.926358826395244,84.362620918216948,92.798883010038637,67.490096734573555,75.926358826395244,84.362620918216948,92.798883010038637,101.23514510186034]
[141,{"$f":"花园升级数值表!Q142","v":8622.5769401195776},43.112884700597888,51.735461640717467,60.358038580837047,68.980615520956619,77.603192461076191,51.735461640717467,60.358038580837047,68.980615520956619,77.603192461076191,86.225769401195777,60.358038580837047,68.980615520956619,77.603192461076191,86.225769401195777,94.848346341315349,68.980615520956619,77.603192461076191,86.225769401195777,94.848346341315349,103.47092328143493]
[142,{"$f":"花园升级数值表!Q143","v":8813.0065518421125},44.06503275921056,52.878039311052675,61.691045862894789,70.504052414736904,79.317058966579012,52.878039311052675,61.691045862894789,70.504052414736904,79.317058966579012,88.130065518421119,61.691045862894789,70.504052414736904,79.317058966579012,88.130065518421119,96.943072070263227,70.504052414736904,79.317058966579012,88.130065518421119,96.943072070263227,105.75607862210535]
[143,{"$f":"花园升级数值表!Q144","v":9007.6418015395411},45.038209007697709,54.045850809237251,63.053492610776786,72.061134412316335,81.06877621385587,54.045850809237251,63.053492610776786,72.061134412316335,81.06877621385587,90.076418015395419,63.053492610776786,72.061134412316335,81.06877621385587,90.076418015395419,99.084059816934953,72.061134412316335,81.06877621385587,90.076418015395419,99.084059816934953,108.0917016184745]
[144,{"$f":"花园升级数值表!Q145","v":9206.5755707265398},46.032877853632698,55.23945342435924,64.446028995085783,73.652604565812325,82.859180136538853,55.23945342435924,64.446028995085783,73.652604565812325,82.859180136538853,92.065755707265396,64.446028995085783,73.652604565812325,82.859180136538853,92.065755707265396,101.27233127799194,73.652604565812325,82.859180136538853,92.065755707265396,101.27233127799194,110.47890684871848]
[145,{"$f":"花园升级数值表!Q146","v":9409.9027922060377},47.049513961030186,56.459416753236226,65.869319545442266,75.279222337648307,84.689125129854332,56.459416753236226,65.869319545442266,75.279222337648307,84.689125129854332,94.099027922060372,65.869319545442266,75.279222337648307,84.689125129854332,94.099027922060372,103.50893071426641,75.279222337648307,84.689125129854332,94.099027922060372,103.50893071426641,112.91883350647245]
[146,{"$f":"花园升级数值表!Q147","v":9617.7204953719065},48.088602476859535,57.70632297223144,67.324043467603346,76.941763962975259,86.559484458347157,57.70632297223144,67.324043467603346,76.941763962975259,86.559484458347157,96.17720495371907,67.324043467603346,76.941763962975259,86.559484458347157,96.17720495371907,105.79492544909097,76.941763962975259,86.559484458347157,96.17720495371907,105.79492544909097,115.41264594446288]
[147,{"$f":"花园升级数值表!Q148","v":9830.1278525121907},49.150639262560958,58.980767115073142,68.810894967585341,78.641022820097533,88.47115067260971,58.980767115073142,68.810894967585341,78.641022820097533,88.47115067260971,98.301278525121916,68.810894967585341,78.641022820097533,88.47115067260971,98.301278525121916,108.13140637763409,78.641022820097533,88.47115067260971,98.301278525121916,108.13140637763409,117.96153423014628]
[148,{"$f":"花园升级数值表!Q149","v":10047.226226134926},50.236131130674629,60.28335735680956,70.330583582944485,80.377809809079409,90.425036035214333,60.28335735680956,70.330583582944485,80.377809809079409,90.425036035214333,100.47226226134926,70.330583582944485,80.377809809079409,90.425036035214333,100.47226226134926,110.51948848748418,80.377809809079409,90.425036035214333,100.47226226134926,110.51948848748418,120.56671471361912]
[149,{"$f":"花园升级数值表!Q150","v":10269.11921733911},51.345596086695551,61.614715304034661,71.883834521373771,82.152953738712881,92.422072956051977,61.614715304034661,71.883834521373771,82.152953738712881,92.422072956051977,102.6911921733911,71.883834521373771,82.152953738712881,92.422072956051977,102.6911921733911,112.9603113907302,82.152953738712881,92.422072956051977,102.6911921733911,112.9603113907302,123.22943060806932]
[150,{"$f":"花园升级数值表!Q151","v":10495.912715254042},52.479563576270209,62.975476291524252,73.471389006778296,83.967301722032346,94.463214437286368,62.975476291524252,73.471389006778296,83.967301722032346,94.463214437286368,104.95912715254042,73.471389006778296,83.967301722032346,94.463214437286368,104.95912715254042,115.45503986779445,83.967301722032346,94.463214437286368,104.95912715254042,115.45503986779445,125.9509525830485]
[151,{"$f":"花园升级数值表!Q152","v":10727.714947570425},53.638574737852124,64.366289685422544,75.094004632992977,85.821719580563396,96.549434528133816,64.366289685422544,75.094004632992977,85.821719580563396,96.549434528133816,107.27714947570425,75.094004632992977,85.821719580563396,96.549434528133816,107.27714947570425,118.00486442327467,85.821719580563396,96.549434528133816,107.27714947570425,118.00486442327467,128.73257937084509]
[152,{"$f":"花园升级数值表!Q153","v":10964.636532187515},54.823182660937576,65.787819193125088,76.752455725312601,87.717092257500113,98.681728789687625,65.787819193125088,76.752455725312601,87.717092257500113,98.681728789687625,109.64636532187515,76.752455725312601,87.717092257500113,98.681728789687625,109.64636532187515,120.61100185406265,87.717092257500113,98.681728789687625,109.64636532187515,120.61100185406265,131.57563838625018]
[153,{"$f":"花园升级数值表!Q154","v":11206.790530000879},56.033952650004395,67.240743180005268,78.447533710006155,89.654324240007028,100.8611147700079,67.240743180005268,78.447533710006155,89.654324240007028,100.8611147700079,112.06790530000879,78.447533710006155,89.654324240007028,100.8611147700079,112.06790530000879,123.27469583000966,89.654324240007028,100.8611147700079,112.06790530000879,123.27469583000966,134.48148636001054]
[154,{"$f":"花园升级数值表!Q155","v":11454.292498855946},57.271462494279731,68.725754993135681,80.18004749199163,91.634339990847565,103.08863248970351,68.725754993135681,80.18004749199163,91.634339990847565,103.08863248970351,114.54292498855946,80.18004749199163,91.634339990847565,103.08863248970351,114.54292498855946,125.9972174874154,91.634339990847565,103.08863248970351,114.54292498855946,125.9972174874154,137.45150998627136]
[155,{"$f":"花园升级数值表!Q156","v":11707.260548693175},58.536302743465875,70.243563292159052,81.950823840852223,93.658084389545408,105.36534493823856,70.243563292159052,81.950823840852223,93.658084389545408,105.36534493823856,117.07260548693175,81.950823840852223,93.658084389545408,105.36534493823856,117.07260548693175,128.77986603562491,93.658084389545408,105.36534493823856,117.07260548693175,128.77986603562491,140.4871265843181]
[156,{"$f":"花园升级数值表!Q157","v":11965.815397911063},59.829076989555318,71.794892387466376,83.760707785377448,95.726523183288506,107.69233858119956,71.794892387466376,83.760707785377448,95.726523183288506,107.69233858119956,119.65815397911064,83.760707785377448,95.726523183288506,107.69233858119956,119.65815397911064,131.62396937702169,95.726523183288506,107.69233858119956,119.65815397911064,131.62396937702169,143.58978477493275]
[157,{"$f":"花园升级数值表!Q158","v":12230.080430973932},61.15040215486966,73.380482585843595,85.610563016817522,97.840643447791464,110.07072387876538,73.380482585843595,85.610563016817522,97.840643447791464,110.07072387876538,122.30080430973932,85.610563016817522,97.840643447791464,110.07072387876538,122.30080430973932,134.53088474071325,97.840643447791464,110.07072387876538,122.30080430973932,134.53088474071325,146.76096517168719]
[158,{"$f":"花园升级数值表!Q159","v":12500.181757291983},62.500908786459917,75.0010905437519,87.501272301043883,100.00145405833587,112.50163581562784,75.0010905437519,87.501272301043883,100.00145405833587,112.50163581562784,125.00181757291983,87.501272301043883,100.00145405833587,112.50163581562784,125.00181757291983,137.50199933021179,100.00145405833587,112.50163581562784,125.00181757291983,137.50199933021179,150.0021810875038]
[159,{"$f":"花园升级数值表!Q160","v":12776.248271401771},63.881241357008861,76.65748962841063,89.4337378998124,102.20998617121417,114.98623444261594,76.65748962841063,89.4337378998124,102.20998617121417,114.98623444261594,127.76248271401772,89.4337378998124,102.20998617121417,114.98623444261594,127.76248271401772,140.53873098541948,102.20998617121417,114.98623444261594,127.76248271401772,140.53873098541948,153.31497925682126]
[160,{"$f":"花园升级数值表!Q161","v":13058.411714475678},65.292058572378394,78.350470286854076,91.408882001329744,104.46729371580543,117.52570543028109,78.350470286854076,91.408882001329744,104.46729371580543,117.52570543028109,130.58411714475679,91.408882001329744,104.46729371580543,117.52570543028109,130.58411714475679,143.64252885923244,104.46729371580543,117.52570543028109,130.58411714475679,143.64252885923244,156.70094057370815]
[161,{"$f":"花园升级数值表!Q162","v":13346.806737189878},66.734033685949385,80.080840423139264,93.427647160329144,106.77445389751902,120.12126063470889,80.080840423139264,93.427647160329144,106.77445389751902,120.12126063470889,133.46806737189877,93.427647160329144,106.77445389751902,120.12126063470889,133.46806737189877,146.81487410908863,106.77445389751902,120.12126063470889,133.46806737189877,146.81487410908863,160.16168084627853]
[162,{"$f":"花园升级数值表!Q163","v":13641.570963980706},68.207854819903531,81.849425783884243,95.490996747864941,109.13256771184565,122.77413867582635,81.849425783884243,95.490996747864941,109.13256771184565,122.77413867582635,136.41570963980706,95.490996747864941,109.13256771184565,122.77413867582635,136.41570963980706,150.05728060378777,109.13256771184565,122.77413867582635,136.41570963980706,150.05728060378777,163.69885156776849]
[163,{"$f":"花园升级数值表!Q164","v":13942.845058720217},69.714225293601089,83.657070352321298,97.599915411041522,111.54276046976173,125.48560552848194,83.657070352321298,97.599915411041522,111.54276046976173,125.48560552848194,139.42845058720218,97.599915411041522,111.54276046976173,125.48560552848194,139.42845058720218,153.37129564592237,111.54276046976173,125.48560552848194,139.42845058720218,153.37129564592237,167.3141407046426]
[164,{"$f":"花园升级数值表!Q165","v":14250.772791842055},71.253863959210278,85.504636751052331,99.755409542894384,114.00618233473644,128.25695512657848,85.504636751052331,99.755409542894384,114.00618233473644,128.25695512657848,142.50772791842056,99.755409542894384,114.00618233473644,128.25695512657848,142.50772791842056,156.75850071026261,114.00618233473644,128.25695512657848,142.50772791842056,156.75850071026261,171.00927350210466]
[165,{"$f":"花园升级数值表!Q166","v":14565.501108949884},72.827505544749428,87.393006653699302,101.95850776264919,116.52400887159908,131.08950998054894,87.393006653699302,101.95850776264919,116.52400887159908,131.08950998054894,145.65501108949886,101.95850776264919,116.52400887159908,131.08950998054894,145.65501108949886,160.22051219844872,116.52400887159908,131.08950998054894,145.65501108949886,160.22051219844872,174.7860133073986]
[166,{"$f":"花园升级数值表!Q167","v":14887.180200941031},74.435901004705158,89.32308120564619,104.21026140658722,119.09744160752825,133.98462180846929,89.32308120564619,104.21026140658722,119.09744160752825,133.98462180846929,148.87180200941032,104.21026140658722,119.09744160752825,133.98462180846929,148.87180200941032,163.75898221035132,119.09744160752825,133.98462180846929,148.87180200941032,163.75898221035132,178.64616241129238]
[167,{"$f":"花园升级数值表!Q168","v":15215.963575678814},76.079817878394067,91.29578145407288,106.51174502975169,121.72770860543051,136.94367218110932,91.29578145407288,106.51174502975169,121.72770860543051,136.94367218110932,152.15963575678813,106.51174502975169,121.72770860543051,136.94367218110932,152.15963575678813,167.37559933246695,121.72770860543051,136.94367218110932,152.15963575678813,167.37559933246695,182.59156290814576]
[168,{"$f":"花园升级数值表!Q169","v":15552.008131247681},77.760040656238402,93.312048787486091,108.86405691873377,124.41606504998146,139.96807318122913,93.312048787486091,108.86405691873377,124.41606504998146,139.96807318122913,155.5200813124768,108.86405691873377,124.41606504998146,139.96807318122913,155.5200813124768,171.07208944372448,124.41606504998146,139.96807318122913,155.5200813124768,171.07208944372448,186.62409757497218]
[169,{"$f":"花园升级数值表!Q170","v":15895.474230826281},79.477371154131404,95.372845384957685,111.26831961578397,127.16379384661025,143.05926807743651,95.372845384957685,111.26831961578397,127.16379384661025,143.05926807743651,158.95474230826281,111.26831961578397,127.16379384661025,143.05926807743651,158.95474230826281,174.85021653908908,127.16379384661025,143.05926807743651,158.95474230826281,174.85021653908908,190.74569076991537]
[170,{"$f":"花园升级数值表!Q171","v":16246.525779214075},81.232628896070381,97.479154675284448,113.72568045449853,129.9722062337126,146.21873201292667,97.479154675284448,113.72568045449853,129.9722062337126,146.21873201292667,162.46525779214076,113.72568045449853,129.9722062337126,146.21873201292667,162.46525779214076,178.7117835713548,129.9722062337126,146.21873201292667,162.46525779214076,178.7117835713548,194.9583093505689]
[171,{"$f":"花园升级数值表!Q172","v":16687.943884635315},83.439719423176584,100.12766330781189,116.8156071924472,133.50355107708253,150.19149496171784,100.12766330781189,116.8156071924472,133.50355107708253,150.19149496171784,166.87943884635317,116.8156071924472,133.50355107708253,150.19149496171784,166.87943884635317,183.56738273098844,133.50355107708253,150.19149496171784,166.87943884635317,183.56738273098844,200.25532661562377]
[172,{"$f":"花园升级数值表!Q173","v":17141.355319980859},85.706776599904302,102.84813191988516,119.98948723986602,137.13084255984688,154.27219787982773,102.84813191988516,119.98948723986602,137.13084255984688,154.27219787982773,171.4135531998086,119.98948723986602,137.13084255984688,154.27219787982773,171.4135531998086,188.55490851978945,137.13084255984688,154.27219787982773,171.4135531998086,188.55490851978945,205.69626383977032]
[173,{"$f":"花园升级数值表!Q174","v":17607.085944024737},88.035429720123688,105.64251566414842,123.24960160817317,140.85668755219791,158.46377349622261,105.64251566414842,123.24960160817317,140.85668755219791,158.46377349622261,176.07085944024738,123.24960160817317,140.85668755219791,158.46377349622261,176.07085944024738,193.67794538427211,140.85668755219791,158.46377349622261,176.07085944024738,193.67794538427211,211.28503132829684]
[174,{"$f":"花园升级数值表!Q175","v":18085.470469123884},90.427352345619425,108.5128228147433,126.59829328386719,144.68376375299107,162.76923422211493,108.5128228147433,126.59829328386719,144.68376375299107,162.76923422211493,180.85470469123885,126.59829328386719,144.68376375299107,162.76923422211493,180.85470469123885,198.94017516036271,144.68376375299107,162.76923422211493,180.85470469123885,198.94017516036271,217.0256456294866]
[175,{"$f":"花园升级数值表!Q176","v":18576.852701769982},92.884263508849912,111.46111621061989,130.03796891238989,148.61482161415987,167.19167431592982,111.46111621061989,130.03796891238989,148.61482161415987,167.19167431592982,185.76852701769982,130.03796891238989,148.61482161415987,167.19167431592982,185.76852701769982,204.34537971946978,148.61482161415987,167.19167431592982,185.76852701769982,204.34537971946978,222.92223242123978]
[176,{"$f":"花园升级数值表!Q177","v":19081.585789677065},95.407928948385333,114.4895147380624,133.57110052773945,152.65268631741651,171.73427210709357,114.4895147380624,133.57110052773945,152.65268631741651,171.73427210709357,190.81585789677067,133.57110052773945,152.65268631741651,171.73427210709357,190.81585789677067,209.8974436864477,152.65268631741651,171.73427210709357,190.81585789677067,209.8974436864477,228.97902947612479]
[177,{"$f":"花园升级数值表!Q178","v":19600.032475582586},98.000162377912929,117.60019485349552,137.2002273290781,156.8002598046607,176.40029228024326,117.60019485349552,137.2002273290781,156.8002598046607,176.40029228024326,196.00032475582586,137.2002273290781,156.8002598046607,176.40029228024326,196.00032475582586,215.60035723140842,156.8002598046607,176.40029228024326,196.00032475582586,215.60035723140842,235.20038970699105]
[178,{"$f":"花园升级数值表!Q179","v":20132.565357944164},100.66282678972082,120.79539214766498,140.92795750560916,161.0605228635533,181.19308822149748,120.79539214766498,140.92795750560916,161.0605228635533,181.19308822149748,201.32565357944165,140.92795750560916,161.0605228635533,181.19308822149748,201.32565357944165,221.45821893738579,161.0605228635533,181.19308822149748,201.32565357944165,221.45821893738579,241.59078429532997]
[179,{"$f":"花园升级数值表!Q180","v":20679.567158719507},103.39783579359754,124.07740295231704,144.75697011103654,165.43653726975606,186.11610442847555,124.07740295231704,144.75697011103654,165.43653726975606,186.11610442847555,206.79567158719507,144.75697011103654,165.43653726975606,186.11610442847555,206.79567158719507,227.47523874591457,165.43653726975606,186.11610442847555,206.79567158719507,227.47523874591457,248.15480590463409]
[180,{"$f":"花园升级数值表!Q181","v":21241.430998421922},106.20715499210961,127.44858599053153,148.69001698895346,169.93144798737538,191.17287898579727,127.44858599053153,148.69001698895346,169.93144798737538,191.17287898579727,212.41430998421922,148.69001698895346,169.93144798737538,191.17287898579727,212.41430998421922,233.65574098264113,169.93144798737538,191.17287898579727,212.41430998421922,233.65574098264113,254.89717198106305]
[181,{"$f":"花园升级数值表!Q182","v":21818.560678649024},109.09280339324512,130.91136407189416,152.72992475054318,174.5484854291922,196.36704610784119,130.91136407189416,152.72992475054318,174.5484854291922,196.36704610784119,218.18560678649024,152.72992475054318,174.5484854291922,196.36704610784119,218.18560678649024,240.00416746513926,174.5484854291922,196.36704610784119,218.18560678649024,240.00416746513926,261.82272814378831]
[182,{"$f":"花园升级数值表!Q183","v":22411.370972287925},112.05685486143963,134.46822583372756,156.87959680601548,179.29096777830341,201.70233875059131,134.46822583372756,156.87959680601548,179.29096777830341,201.70233875059131,224.11370972287926,156.87959680601548,179.29096777830341,201.70233875059131,224.11370972287926,246.52508069516716,179.29096777830341,201.70233875059131,224.11370972287926,246.52508069516716,268.93645166745512]
[183,{"$f":"花园升级数值表!Q184","v":23020.287921604984},115.10143960802492,138.12172752962991,161.1420154512349,184.16230337283989,207.18259129444485,138.12172752962991,161.1420154512349,184.16230337283989,207.18259129444485,230.20287921604984,161.1420154512349,184.16230337283989,207.18259129444485,230.20287921604984,253.2231671376548,184.16230337283989,207.18259129444485,230.20287921604984,253.2231671376548,276.24345505925982]
[184,{"$f":"花园升级数值表!Q185","v":23645.74914443498},118.22874572217491,141.87449486660989,165.52024401104487,189.16599315547984,212.81174229991481,141.87449486660989,165.52024401104487,189.16599315547984,212.81174229991481,236.45749144434981,165.52024401104487,189.16599315547984,212.81174229991481,236.45749144434981,260.10324058878479,189.16599315547984,212.81174229991481,236.45749144434981,260.10324058878479,283.74898973321979]
[185,{"$f":"花园升级数值表!Q186","v":24288.204148689274},121.44102074344637,145.72922489213565,170.01742904082491,194.3056331895142,218.59383733820346,145.72922489213565,170.01742904082491,194.3056331895142,218.59383733820346,242.88204148689275,170.01742904082491,194.3056331895142,218.59383733820346,242.88204148689275,267.17024563558198,194.3056331895142,218.59383733820346,242.88204148689275,267.17024563558198,291.45844978427129]
[186,{"$f":"花园升级数值表!Q187","v":24948.114655409179},124.7405732770459,149.68868793245508,174.63680258786425,199.58491724327345,224.53303189868259,149.68868793245508,174.63680258786425,199.58491724327345,224.53303189868259,249.48114655409179,174.63680258786425,199.58491724327345,224.53303189868259,249.48114655409179,274.42926120950096,199.58491724327345,224.53303189868259,249.48114655409179,274.42926120950096,299.37737586491016]
[187,{"$f":"花园升级数值表!Q188","v":25625.954930596632},128.12977465298317,153.75572958357981,179.38168451417644,205.00763944477305,230.63359437536968,153.75572958357981,179.38168451417644,205.00763944477305,230.63359437536968,256.25954930596635,179.38168451417644,205.00763944477305,230.63359437536968,256.25954930596635,281.88550423656295,205.00763944477305,230.63359437536968,256.25954930596635,281.88550423656295,307.51145916715961]
[188,{"$f":"花园升级数值表!Q189","v":26322.212126060942},131.61106063030471,157.93327275636565,184.2554848824266,210.57769700848755,236.89990913454847,157.93327275636565,184.2554848824266,210.57769700848755,236.89990913454847,263.22212126060941,184.2554848824266,210.57769700848755,236.89990913454847,263.22212126060941,289.54433338667036,210.57769700848755,236.89990913454847,263.22212126060941,289.54433338667036,315.86654551273131]
[189,{"$f":"花园升级数值表!Q190","v":27037.386629525998},135.18693314762999,162.22431977715598,189.26170640668198,216.29909303620798,243.33647966573395,162.22431977715598,189.26170640668198,216.29909303620798,243.33647966573395,270.37386629525997,189.26170640668198,216.29909303620798,243.33647966573395,270.37386629525997,297.41125292478597,216.29909303620798,243.33647966573395,270.37386629525997,297.41125292478597,324.44863955431197]
[190,{"$f":"花园升级数值表!Q191","v":27771.99242425022},138.8599621212511,166.63195454550132,194.40394696975156,222.17593939400177,249.94793181825196,166.63195454550132,194.40394696975156,222.17593939400177,249.94793181825196,277.7199242425022,194.40394696975156,222.17593939400177,249.94793181825196,277.7199242425022,305.49191666675239,222.17593939400177,249.94793181825196,277.7199242425022,305.49191666675239,333.26390909100263]
[191,{"$f":"花园升级数值表!Q192","v":28526.557458417108},142.63278729208554,171.15934475050264,199.68590220891977,228.21245966733687,256.73901712575395,171.15934475050264,199.68590220891977,228.21245966733687,256.73901712575395,285.26557458417108,199.68590220891977,228.21245966733687,256.73901712575395,285.26557458417108,313.79213204258815,228.21245966733687,256.73901712575395,285.26557458417108,313.79213204258815,342.31868950100528]
[192,{"$f":"花园升级数值表!Q193","v":29301.624024562294},146.50812012281148,175.80974414737378,205.11136817193605,234.41299219649835,263.71461622106062,175.80974414737378,205.11136817193605,234.41299219649835,263.71461622106062,293.01624024562295,205.11136817193605,234.41299219649835,263.71461622106062,293.01624024562295,322.31786427018523,234.41299219649835,263.71461622106062,293.01624024562295,322.31786427018523,351.61948829474755]
[193,{"$f":"花园升级数值表!Q194","v":30097.749149309642},150.4887457465482,180.58649489585787,210.6842440451675,240.78199319447714,270.87974234378675,180.58649489585787,210.6842440451675,240.78199319447714,270.87974234378675,300.97749149309641,210.6842440451675,240.78199319447714,270.87974234378675,300.97749149309641,331.07524064240607,240.78199319447714,270.87974234378675,300.97749149309641,331.07524064240607,361.17298979171574]
[194,{"$f":"花园升级数值表!Q195","v":30915.504993696388},{"$f":"B196*0.005","v":154.57752496848195},{"$f":"B196*0.006","v":185.49302996217833},{"$f":"B196*0.007","v":216.40853495587473},{"$f":"B196*0.008","v":247.3240399495711},{"$f":"B196*0.009","v":278.23954494326745},{"$f":"B196*0.006","v":185.49302996217833},{"$f":"B196*0.007","v":216.40853495587473},{"$f":"B196*0.008","v":247.3240399495711},{"$f":"B196*0.009","v":278.23954494326745},{"$f":"B196*0.01","v":309.15504993696391},{"$f":"(B196)*0.007","v":216.40853495587473},{"$f":"B196*0.008","v":247.3240399495711},{"$f":"B196*0.009","v":278.23954494326745},{"$f":"B196*0.01","v":309.15504993696391},{"$f":"B196*0.011","v":340.07055493066025},{"$f":"B196*0.008","v":247.3240399495711},{"$f":"B196*0.009","v":278.23954494326745},{"$f":"B196*0.01","v":309.15504993696391},{"$f":"B196*0.011","v":340.07055493066025},{"$f":"B196*0.012","v":370.98605992435665}]
[195,{"$f":"花园升级数值表!Q196","v":31755.479264375117},158.77739632187559,190.5328755862507,222.28835485062584,254.04383411500095,285.79931337937603,190.5328755862507,222.28835485062584,254.04383411500095,285.79931337937603,317.55479264375117,222.28835485062584,254.04383411500095,285.79931337937603,317.55479264375117,349.31027190812625,254.04383411500095,285.79931337937603,317.55479264375117,349.31027190812625,381.06575117250139]
[196,{"$f":"花园升级数值表!Q197","v":32618.27563598819},163.09137817994096,195.70965381592913,228.32792945191733,260.94620508790553,293.56448072389367,195.70965381592913,228.32792945191733,260.94620508790553,293.56448072389367,326.18275635988192,228.32792945191733,260.94620508790553,293.56448072389367,326.18275635988192,358.80103199587006,260.94620508790553,293.56448072389367,326.18275635988192,358.80103199587006,391.41930763185826]
[197,{"$f":"花园升级数值表!Q198","v":33504.514185017986},167.52257092508992,201.02708511010792,234.53159929512591,268.03611348014391,301.54062766516188,201.02708511010792,234.53159929512591,268.03611348014391,301.54062766516188,335.04514185017985,234.53159929512591,268.03611348014391,301.54062766516188,335.04514185017985,368.54965603519781,268.03611348014391,301.54062766516188,335.04514185017985,368.54965603519781,402.05417022021584]
[198,{"$f":"花园升级数值表!Q199","v":34414.831835424928},172.07415917712464,206.48899101254958,240.90382284797451,275.31865468339942,309.73348651882435,206.48899101254958,240.90382284797451,275.31865468339942,309.73348651882435,344.14831835424928,240.90382284797451,275.31865468339942,309.73348651882435,344.14831835424928,378.56315018967416,275.31865468339942,309.73348651882435,344.14831835424928,378.56315018967416,412.97798202509915]
[199,{"$f":"花园升级数值表!Q200","v":35349.88281639343},176.74941408196716,212.09929689836059,247.44917971475402,282.79906253114746,318.14894534754086,212.09929689836059,247.44917971475402,282.79906253114746,318.14894534754086,353.49882816393432,247.44917971475402,282.79906253114746,318.14894534754086,353.49882816393432,388.84871098032772,282.79906253114746,318.14894534754086,353.49882816393432,388.84871098032772,424.19859379672118]
[200,{"$f":"花园升级数值表!Q201","v":36310.339132514819},181.5516956625741,217.8620347950889,254.17237392760373,290.48271306011856,326.79305219263335,217.8620347950889,254.17237392760373,290.48271306011856,326.79305219263335,363.10339132514821,254.17237392760373,290.48271306011856,326.79305219263335,363.10339132514821,399.41373045766301,290.48271306011856,326.79305219263335,363.10339132514821,399.41373045766301,435.72406959017781]
[201,{"$f":"花园升级数值表!Q202","v":37296.891046745266},186.48445523372632,223.78134628047161,261.07823732721687,298.37512837396213,335.67201942070739,223.78134628047161,261.07823732721687,298.37512837396213,335.67201942070739,372.96891046745264,261.07823732721687,298.37512837396213,335.67201942070739,372.96891046745264,410.2658015141979,298.37512837396213,335.67201942070739,372.96891046745264,410.2658015141979,447.56269256094322]
[202,{"$f":"花园升级数值表!Q203","v":38310.247576485322},191.55123788242662,229.86148545891194,268.17173303539727,306.48198061188259,344.79222818836786,229.86148545891194,268.17173303539727,306.48198061188259,344.79222818836786,383.10247576485324,268.17173303539727,306.48198061188259,344.79222818836786,383.10247576485324,421.41272334133851,306.48198061188259,344.79222818836786,383.10247576485324,421.41272334133851,459.72297091782389]
[203,{"$f":"花园升级数值表!Q204","v":39351.137003138421},196.75568501569211,236.10682201883054,275.45795902196897,314.80909602510735,354.16023302824578,236.10682201883054,275.45795902196897,314.80909602510735,354.16023302824578,393.51137003138422,275.45795902196897,314.80909602510735,354.16023302824578,393.51137003138422,432.86250703452259,314.80909602510735,354.16023302824578,393.51137003138422,432.86250703452259,472.21364403766108]
[204,{"$f":"花园升级数值表!Q205","v":40420.307395513679},202.1015369775684,242.52184437308208,282.94215176859575,323.36245916410945,363.7827665596231,242.52184437308208,282.94215176859575,323.36245916410945,363.7827665596231,404.2030739551368,282.94215176859575,323.36245916410945,363.7827665596231,404.2030739551368,444.62338135065045,323.36245916410945,363.7827665596231,404.2030739551368,444.62338135065045,485.04368874616415]
[205,{"$f":"花园升级数值表!Q206","v":41518.527147449786},207.59263573724894,249.11116288469873,290.62969003214852,332.1482171795983,373.66674432704804,249.11116288469873,290.62969003214852,332.1482171795983,373.66674432704804,415.18527147449788,290.62969003214852,332.1482171795983,373.66674432704804,415.18527147449788,456.70379862194761,332.1482171795983,373.66674432704804,415.18527147449788,456.70379862194761,498.22232576939746]
[206,{"$f":"花园升级数值表!Q207","v":42646.58553004601},213.23292765023007,255.87951318027606,298.52609871032206,341.17268424036808,383.81926977041405,255.87951318027606,298.52609871032206,341.17268424036808,383.81926977041405,426.46585530046013,298.52609871032206,341.17268424036808,383.81926977041405,426.46585530046013,469.1124408305061,341.17268424036808,383.81926977041405,426.46585530046013,469.1124408305061,511.75902636055213]
[207,{"$f":"花园升级数值表!Q208","v":43805.293258897342},219.02646629448671,262.83175955338407,306.63705281228141,350.44234607117875,394.24763933007603,262.83175955338407,306.63705281228141,350.44234607117875,394.24763933007603,438.05293258897342,306.63705281228141,350.44234607117875,394.24763933007603,438.05293258897342,481.85822584787076,350.44234607117875,394.24763933007603,438.05293258897342,481.85822584787076,525.66351910676815]
[208,{"$f":"花园升级数值表!Q209","v":44995.48307674157},224.97741538370786,269.97289846044941,314.96838153719102,359.96386461393257,404.95934769067412,269.97289846044941,314.96838153719102,359.96386461393257,404.95934769067412,449.95483076741573,314.96838153719102,359.96386461393257,404.95934769067412,449.95483076741573,494.95031384415722,359.96386461393257,404.95934769067412,449.95483076741573,494.95031384415722,539.94579692089883]
[209,{"$f":"花园升级数值表!Q210","v":46218.010351936646},231.09005175968323,277.3080621116199,323.52607246355655,369.74408281549319,415.96209316742977,277.3080621116199,323.52607246355655,369.74408281549319,415.96209316742977,462.18010351936647,323.52607246355655,369.74408281549319,415.96209316742977,462.18010351936647,508.39811387130305,369.74408281549319,415.96209316742977,462.18010351936647,508.39811387130305,554.61612422323981]
[210,{"$f":"花园升级数值表!Q211","v":47473.753693198742},237.36876846599372,284.84252215919247,332.31627585239119,379.79002954558996,427.26378323878862,284.84252215919247,332.31627585239119,379.79002954558996,427.26378323878862,474.73753693198745,332.31627585239119,379.79002954558996,427.26378323878862,474.73753693198745,522.21129062518617,379.79002954558996,427.26378323878862,474.73753693198745,522.21129062518617,569.68504431838494]
[211,{"$f":"花园升级数值表!Q212","v":48763.615581042948},243.81807790521475,292.58169348625768,341.34530906730066,390.10892464834359,438.87254022938652,292.58169348625768,341.34530906730066,390.10892464834359,438.87254022938652,487.6361558104295,341.34530906730066,390.10892464834359,438.87254022938652,487.6361558104295,536.39977139147243,390.10892464834359,438.87254022938652,487.6361558104295,536.39977139147243,585.16338697251535]
[212,{"$f":"花园升级数值表!Q213","v":50088.52301637987},250.44261508189936,300.5311380982792,350.6196611146591,400.70818413103899,450.79670714741877,300.5311380982792,350.6196611146591,400.70818413103899,450.79670714741877,500.88523016379872,350.6196611146591,400.70818413103899,450.79670714741877,500.88523016379872,550.97375318017851,400.70818413103899,450.79670714741877,500.88523016379872,550.97375318017851,601.0622761965584]
[213,{"$f":"花园升级数值表!Q214","v":51449.42818673492},257.24714093367459,308.69656912040955,360.14599730714446,411.59542549387936,463.04485368061427,308.69656912040955,360.14599730714446,411.59542549387936,463.04485368061427,514.49428186734917,360.14599730714446,411.59542549387936,463.04485368061427,514.49428186734917,565.94371005408414,411.59542549387936,463.04485368061427,514.49428186734917,565.94371005408414,617.3931382408191]
[214,{"$f":"花园升级数值表!Q215","v":52847.309150568493},264.23654575284246,317.08385490341095,369.93116405397944,422.77847320454794,475.62578235511643,317.08385490341095,369.93116405397944,422.77847320454794,475.62578235511643,528.47309150568492,369.93116405397944,422.77847320454794,475.62578235511643,528.47309150568492,581.32040065625336,422.77847320454794,475.62578235511643,528.47309150568492,581.32040065625336,634.1677098068219]
[215,{"$f":"花园升级数值表!Q216","v":54283.170540189414},271.41585270094708,325.6990232411365,379.98219378132592,434.26536432151534,488.5485348617047,325.6990232411365,379.98219378132592,434.26536432151534,488.5485348617047,542.83170540189417,379.98219378132592,434.26536432151534,488.5485348617047,542.83170540189417,597.11487594208347,434.26536432151534,488.5485348617047,542.83170540189417,597.11487594208347,651.398046482273]
[216,{"$f":"花园升级数值表!Q217","v":55758.044283766358},278.79022141883178,334.54826570259814,390.30630998636451,446.06435427013088,501.82239855389719,334.54826570259814,390.30630998636451,446.06435427013088,501.82239855389719,557.58044283766355,390.30630998636451,446.06435427013088,501.82239855389719,557.58044283766355,613.33848712142992,446.06435427013088,501.82239855389719,557.58044283766355,613.33848712142992,669.09653140519629]
[217,{"$f":"花园升级数值表!Q218","v":57272.990346956307},286.36495173478153,343.63794208173783,400.91093242869414,458.18392277565044,515.45691312260669,343.63794208173783,400.91093242869414,458.18392277565044,515.45691312260669,572.72990346956306,400.91093242869414,458.18392277565044,515.45691312260669,572.72990346956306,630.0028938165193,458.18392277565044,515.45691312260669,572.72990346956306,630.0028938165193,687.27588416347567]
[218,{"$f":"花园升级数值表!Q219","v":58829.097494683097},294.14548747341547,352.97458496809861,411.80368246278169,470.63277995746478,529.46187745214786,352.97458496809861,411.80368246278169,470.63277995746478,529.46187745214786,588.29097494683094,411.80368246278169,470.63277995746478,529.46187745214786,588.29097494683094,647.12007244151403,470.63277995746478,529.46187745214786,588.29097494683094,647.12007244151403,705.94916993619722]
[219,{"$f":"花园升级数值表!Q220","v":60427.484073613618},302.13742036806809,362.56490444168173,422.99238851529532,483.41987258890896,543.84735666252254,362.56490444168173,422.99238851529532,483.41987258890896,543.84735666252254,604.27484073613618,422.99238851529532,483.41987258890896,543.84735666252254,604.27484073613618,664.70232480974971,483.41987258890896,543.84735666252254,604.27484073613618,664.70232480974971,725.12980888336347]
[220,{"$f":"花园升级数值表!Q221","v":62069.298815893686},310.34649407946841,372.41579289536213,434.48509171125579,496.55439052714951,558.62368934304311,372.41579289536213,434.48509171125579,496.55439052714951,558.62368934304311,620.69298815893683,434.48509171125579,496.55439052714951,558.62368934304311,620.69298815893683,682.76228697483054,496.55439052714951,558.62368934304311,620.69298815893683,682.76228697483054,744.83158579072426]
[221,{"$f":"花园升级数值表!Q222","v":63755.721664721532},318.77860832360767,382.5343299883292,446.29005165305074,510.04577331777227,573.80149498249375,382.5343299883292,446.29005165305074,510.04577331777227,573.80149498249375,637.55721664721534,446.29005165305074,510.04577331777227,573.80149498249375,637.55721664721534,701.31293831193682,510.04577331777227,573.80149498249375,637.55721664721534,701.31293831193682,765.06865997665841]
[222,{"$f":"花园升级数值表!Q223","v":65487.964622352003},327.43982311176001,392.92778773411203,458.41575235646405,523.90371697881608,589.39168160116799,392.92778773411203,458.41575235646405,523.90371697881608,589.39168160116799,654.87964622352001,458.41575235646405,523.90371697881608,589.39168160116799,654.87964622352001,720.36761084587204,523.90371697881608,589.39168160116799,654.87964622352001,720.36761084587204,785.85557546822406]
[223,{"$f":"花园升级数值表!Q224","v":67267.272621141281},336.33636310570643,403.6036357268477,470.87090834798897,538.1381809691303,605.40545359027146,403.6036357268477,470.87090834798897,538.1381809691303,605.40545359027146,672.67272621141285,470.87090834798897,538.1381809691303,605.40545359027146,672.67272621141285,739.93999883255401,538.1381809691303,605.40545359027146,672.67272621141285,739.93999883255401,807.2072714536954]
[224,{"$f":"花园升级数值表!Q225","v":69094.924418257695},345.4746220912885,414.56954650954617,483.66447092780385,552.75939534606152,621.85431976431926,414.56954650954617,483.66447092780385,552.75939534606152,621.85431976431926,690.94924418257699,483.66447092780385,552.75939534606152,621.85431976431926,690.94924418257699,760.04416860083461,552.75939534606152,621.85431976431926,690.94924418257699,760.04416860083461,829.13909301909234]
[225,{"$f":"花园升级数值表!Q226","v":70972.233514701758},354.86116757350879,425.83340108821056,496.80563460291233,567.77786811761405,638.75010163231582,425.83340108821056,496.80563460291233,567.77786811761405,638.75010163231582,709.72233514701759,496.80563460291233,567.77786811761405,638.75010163231582,709.72233514701759,780.69456866171925,567.77786811761405,638.75010163231582,709.72233514701759,780.69456866171925,851.66680217642113]
[226,{"$f":"花园升级数值表!Q227","v":72900.549099296186},364.50274549648094,437.40329459577714,510.30384369507334,583.20439279436948,656.10494189366557,437.40329459577714,510.30384369507334,583.20439279436948,656.10494189366557,729.00549099296188,510.30384369507334,583.20439279436948,656.10494189366557,729.00549099296188,801.90604009225797,583.20439279436948,656.10494189366557,729.00549099296188,801.90604009225797,874.80658919155428]
[227,{"$f":"花园升级数值表!Q228","v":74881.257018324075},374.40628509162036,449.28754210994447,524.16879912826857,599.05005614659262,673.93131316491667,449.28754210994447,524.16879912826857,599.05005614659262,673.93131316491667,748.81257018324072,524.16879912826857,599.05005614659262,673.93131316491667,748.81257018324072,823.69382720156477,599.05005614659262,673.93131316491667,748.81257018324072,823.69382720156477,898.57508421988894]
[228,{"$f":"花园升级数值表!Q229","v":76915.780771511942},384.57890385755974,461.49468462907168,538.41046540058358,615.32624617209558,692.24202694360747,461.49468462907168,538.41046540058358,615.32624617209558,692.24202694360747,769.15780771511947,538.41046540058358,615.32624617209558,692.24202694360747,769.15780771511947,846.07358848663125,615.32624617209558,692.24202694360747,769.15780771511947,846.07358848663125,922.98936925814337]
[229,{"$f":"花园升级数值表!Q230","v":79005.582535073889},395.02791267536946,474.03349521044333,553.03907774551726,632.04466028059107,711.050242815665,474.03349521044333,553.03907774551726,632.04466028059107,711.050242815665,790.05582535073893,553.03907774551726,632.04466028059107,711.050242815665,790.05582535073893,869.06140788581274,632.04466028059107,711.050242815665,790.05582535073893,869.06140788581274,948.06699042088667]
[230,{"$f":"花园升级数值表!Q231","v":81152.164212551841},405.76082106275919,486.91298527531103,568.06514948786287,649.21731370041471,730.36947791296654,486.91298527531103,568.06514948786287,649.21731370041471,730.36947791296654,811.52164212551838,568.06514948786287,649.21731370041471,730.36947791296654,811.52164212551838,892.67380633807022,649.21731370041471,730.36947791296654,811.52164212551838,892.67380633807022,973.82597055062206]
[231,{"$f":"花园升级数值表!Q232","v":83357.068514206825},416.78534257103411,500.14241108524095,583.4994795994478,666.85654811365464,750.21361662786137,500.14241108524095,583.4994795994478,666.85654811365464,750.21361662786137,833.57068514206821,583.4994795994478,666.85654811365464,750.21361662786137,833.57068514206821,916.92775365627506,666.85654811365464,750.21361662786137,833.57068514206821,916.92775365627506,1000.2848221704819]
[232,{"$f":"花园升级数值表!Q233","v":85621.880065737801},428.10940032868899,513.73128039442679,599.35316046016464,684.97504052590239,770.59692059164013,513.73128039442679,599.35316046016464,684.97504052590239,770.59692059164013,856.21880065737798,599.35316046016464,684.97504052590239,770.59692059164013,856.21880065737798,941.84068072311572,684.97504052590239,770.59692059164013,856.21880065737798,941.84068072311572,1027.4625607888536]
[233,{"$f":"花园升级数值表!Q234","v":87948.226547123908},439.74113273561954,527.68935928274345,615.63758582986736,703.58581237699127,791.53403892411507,527.68935928274345,615.63758582986736,703.58581237699127,791.53403892411507,879.48226547123909,615.63758582986736,703.58581237699127,791.53403892411507,879.48226547123909,967.43049201836288,703.58581237699127,791.53403892411507,879.48226547123909,967.43049201836288,1055.3787185654869]
[234,{"$f":"花园升级数值表!Q235","v":90337.779862409283},451.68889931204643,542.02667917445569,632.36445903686501,722.70223889927433,813.04001876168354,542.02667917445569,632.36445903686501,722.70223889927433,813.04001876168354,903.37779862409286,632.36445903686501,722.70223889927433,813.04001876168354,903.37779862409286,993.71557848650207,722.70223889927433,813.04001876168354,903.37779862409286,993.71557848650207,1084.0533583489114]
[235,{"$f":"花园升级数值表!Q236","v":92792.257341270917},463.9612867063546,556.7535440476255,649.54580138889639,742.3380587301674,835.13031607143819,556.7535440476255,649.54580138889639,742.3380587301674,835.13031607143819,927.9225734127092,649.54580138889639,742.3380587301674,835.13031607143819,927.9225734127092,1020.71483075398,742.3380587301674,835.13031607143819,927.9225734127092,1020.71483075398,1113.507088095251]
[236,{"$f":"花园升级数值表!Q237","v":95313.422973233246},476.56711486616626,571.88053783939949,667.19396081263278,762.50738378586595,857.82080675909913,571.88053783939949,667.19396081263278,762.50738378586595,857.82080675909913,953.13422973233253,667.19396081263278,762.50738378586595,857.82080675909913,953.13422973233253,1048.4476527055656,762.50738378586595,857.82080675909913,953.13422973233253,1048.4476527055656,1143.761075678799]
[237,{"$f":"花园升级数值表!Q238","v":97903.088675415987},489.51544337707992,587.41853205249595,685.32162072791198,783.22470940332789,881.12779807874381,587.41853205249595,685.32162072791198,783.22470940332789,881.12779807874381,979.03088675415984,685.32162072791198,783.22470940332789,881.12779807874381,979.03088675415984,1076.9339754295759,783.22470940332789,881.12779807874381,979.03088675415984,1076.9339754295759,1174.8370641049919]
[238,{"$f":"花园升级数值表!Q239","v":100563.11559472706},502.8155779736353,603.37869356836234,703.94180916308949,804.50492475781653,905.06804035254345,603.37869356836234,703.94180916308949,804.50492475781653,905.06804035254345,1005.6311559472706,703.94180916308949,804.50492475781653,905.06804035254345,1005.6311559472706,1106.1942715419975,804.50492475781653,905.06804035254345,1005.6311559472706,1106.1942715419975,1206.7573871367247]
[239,{"$f":"花园升级数值表!Q240","v":103295.41544543579},516.47707722717894,619.77249267261482,723.06790811805058,826.36332356348635,929.65873900892211,619.77249267261482,723.06790811805058,826.36332356348635,929.65873900892211,1032.9541544543579,723.06790811805058,826.36332356348635,929.65873900892211,1032.9541544543579,1136.2495698997936,826.36332356348635,929.65873900892211,1032.9541544543579,1136.2495698997936,1239.5449853452296]
[240,{"$f":"花园升级数值表!Q241","v":106101.95188308823},530.50975941544118,636.61171129852937,742.71366318161768,848.81561506470587,954.91756694779394,636.61171129852937,742.71366318161768,848.81561506470587,954.91756694779394,1061.0195188308824,742.71366318161768,848.81561506470587,954.91756694779394,1061.0195188308824,1167.1214707139704,848.81561506470587,954.91756694779394,1061.0195188308824,1167.1214707139704,1273.2234225970587]
[241,{"$f":"花园升级数值表!Q242","v":108984.74191575177},544.92370957875892,653.9084514945107,762.89319341026237,871.87793532601415,980.86267724176582,653.9084514945107,762.89319341026237,871.87793532601415,980.86267724176582,1089.8474191575178,762.89319341026237,871.87793532601415,980.86267724176582,1089.8474191575178,1198.8321610732694,871.87793532601415,980.86267724176582,1089.8474191575178,1198.8321610732694,1307.8169029890214]
[242,{"$f":"花园升级数值表!Q243","v":111945.85735360275},559.72928676801382,671.67514412161654,783.62100147521926,895.56685882882209,1007.5127161824247,671.67514412161654,783.62100147521926,895.56685882882209,1007.5127161824247,1119.4585735360276,783.62100147521926,895.56685882882209,1007.5127161824247,1119.4585735360276,1231.4044308896302,895.56685882882209,1007.5127161824247,1119.4585735360276,1231.4044308896302,1343.3502882432331]
[243,{"$f":"花园升级数值表!Q244","v":114987.42629790011},574.93713148950053,689.92455778740066,804.91198408530079,919.89941038320092,1034.8868366811009,689.92455778740066,804.91198408530079,919.89941038320092,1034.8868366811009,1149.8742629790011,804.91198408530079,919.89941038320092,1034.8868366811009,1149.8742629790011,1264.8616892769012,919.89941038320092,1034.8868366811009,1149.8742629790011,1264.8616892769012,1379.8491155748013]
[244,{"$f":"花园升级数值表!Q245","v":118111.63467041406},590.5581733520703,708.6698080224844,826.78144269289839,944.8930773633125,1063.0047120337265,708.6698080224844,826.78144269289839,944.8930773633125,1063.0047120337265,1181.1163467041406,826.78144269289839,944.8930773633125,1063.0047120337265,1181.1163467041406,1299.2279813745545,944.8930773633125,1063.0047120337265,1181.1163467041406,1299.2279813745545,1417.3396160449688]
[245,{"$f":"花园升级数值表!Q246","v":121320.72778440914},606.60363892204577,727.92436670645486,849.24509449086406,970.56582227527315,1091.8865500596821,727.92436670645486,849.24509449086406,970.56582227527315,1091.8865500596821,1213.2072778440915,849.24509449086406,970.56582227527315,1091.8865500596821,1213.2072778440915,1334.5280056285005,970.56582227527315,1091.8865500596821,1213.2072778440915,1334.5280056285005,1455.8487334129097]
[246,{"$f":"花园升级数值表!Q247","v":124617.01195831157},623.08505979155791,747.70207174986945,872.31908370818098,996.93609566649263,1121.5531076248042,747.70207174986945,872.31908370818098,996.93609566649263,1121.5531076248042,1246.1701195831158,872.31908370818098,996.93609566649263,1121.5531076248042,1246.1701195831158,1370.7871315414272,996.93609566649263,1121.5531076248042,1246.1701195831158,1370.7871315414272,1495.4041434997389]
[247,{"$f":"花园升级数值表!Q248","v":128002.85617321882},640.01428086609417,768.01713703931296,896.01999321253174,1024.0228493857505,1152.0257055589693,768.01713703931296,896.01999321253174,1024.0228493857505,1152.0257055589693,1280.0285617321883,896.01999321253174,1024.0228493857505,1152.0257055589693,1280.0285617321883,1408.0314179054069,1024.0228493857505,1152.0257055589693,1280.0285617321883,1408.0314179054069,1536.0342740786259]
[248,{"$f":"花园升级数值表!Q249","v":131480.69377544519},657.40346887722603,788.88416265267119,920.36485642811635,1051.8455502035615,1183.3262439790067,788.88416265267119,920.36485642811635,1051.8455502035615,1183.3262439790067,1314.8069377544521,920.36485642811635,1051.8455502035615,1183.3262439790067,1314.8069377544521,1446.287631529897,1051.8455502035615,1183.3262439790067,1314.8069377544521,1446.287631529897,1577.7683253053424]
[249,{"$f":"花园升级数值表!Q250","v":135053.02422532404},675.26512112662022,810.31814535194428,945.37116957726835,1080.4241938025923,1215.4772180279163,810.31814535194428,945.37116957726835,1080.4241938025923,1215.4772180279163,1350.5302422532404,945.37116957726835,1080.4241938025923,1215.4772180279163,1350.5302422532404,1485.5832664785644,1080.4241938025923,1215.4772180279163,1350.5302422532404,1485.5832664785644,1620.6362907038886]
[250,{"$f":"花园升级数值表!Q251","v":138722.41489352609},693.61207446763046,832.33448936115656,971.05690425468265,1109.7793191482087,1248.5017340417346,832.33448936115656,971.05690425468265,1109.7793191482087,1248.5017340417346,1387.2241489352609,971.05690425468265,1109.7793191482087,1248.5017340417346,1387.2241489352609,1525.9465638287868,1109.7793191482087,1248.5017340417346,1387.2241489352609,1525.9465638287868,1664.6689787223131]
[251,{"$f":"花园升级数值表!Q252","v":142491.5029061831},712.45751453091555,854.94901743709863,997.44052034328172,1139.9320232494649,1282.4235261556478,854.94901743709863,997.44052034328172,1139.9320232494649,1282.4235261556478,1424.9150290618311,997.44052034328172,1139.9320232494649,1282.4235261556478,1424.9150290618311,1567.406531968014,1139.9320232494649,1282.4235261556478,1424.9150290618311,1567.406531968014,1709.8980348741973]
[252,{"$f":"花园升级数值表!Q253","v":146362.99704014411},731.81498520072057,878.17798224086471,1024.5409792810087,1170.9039763211529,1317.2669733612968,878.17798224086471,1024.5409792810087,1170.9039763211529,1317.2669733612968,1463.6299704014411,1024.5409792810087,1170.9039763211529,1317.2669733612968,1463.6299704014411,1609.9929674415851,1170.9039763211529,1317.2669733612968,1463.6299704014411,1609.9929674415851,1756.3559644817294]
[253,{"$f":"花园升级数值表!Q254","v":150339.67966972486},751.69839834862432,902.03807801834921,1052.3777576880741,1202.7174373577989,1353.0571170275236,902.03807801834921,1052.3777576880741,1202.7174373577989,1353.0571170275236,1503.3967966972486,1052.3777576880741,1202.7174373577989,1353.0571170275236,1503.3967966972486,1653.7364763669734,1202.7174373577989,1353.0571170275236,1503.3967966972486,1653.7364763669734,1804.0761560366984]
[254,{"$f":"花园升级数值表!Q255","v":154424.40876635129},772.12204383175651,926.54645259810775,1080.9708613644591,1235.3952701308103,1389.8196788971616,926.54645259810775,1080.9708613644591,1235.3952701308103,1389.8196788971616,1544.244087663513,1080.9708613644591,1235.3952701308103,1389.8196788971616,1544.244087663513,1698.668496429864,1235.3952701308103,1389.8196788971616,1544.244087663513,1698.668496429864,1853.0929051962155]
[255,{"$f":"花园升级数值表!Q256","v":158620.1199525331},793.10059976266552,951.72071971519858,1110.3408396677316,1268.9609596202649,1427.5810795727978,951.72071971519858,1110.3408396677316,1268.9609596202649,1427.5810795727978,1586.201199525331,1110.3408396677316,1268.9609596202649,1427.5810795727978,1586.201199525331,1744.8213194778641,1268.9609596202649,1427.5810795727978,1586.201199525331,1744.8213194778641,1903.4414394303972]
[256,{"$f":"花园升级数值表!Q257","v":162929.82861164334},814.64914305821674,977.57897166986004,1140.5088002815035,1303.4386288931469,1466.3684575047901,977.57897166986004,1140.5088002815035,1303.4386288931469,1466.3684575047901,1629.2982861164335,1140.5088002815035,1303.4386288931469,1466.3684575047901,1629.2982861164335,1792.2281147280767,1303.4386288931469,1466.3684575047901,1629.2982861164335,1792.2281147280767,1955.1579433397201]
[257,{"$f":"花园升级数值表!Q258","v":167356.63205502168},836.78316027510846,1004.13979233013,1171.4964243851518,1338.8530564401735,1506.209688495195,1004.13979233013,1171.4964243851518,1338.8530564401735,1506.209688495195,1673.5663205502169,1171.4964243851518,1338.8530564401735,1506.209688495195,1673.5663205502169,1840.9229526052384,1338.8530564401735,1506.209688495195,1673.5663205502169,1840.9229526052384,2008.2795846602601]
[258,{"$f":"花园升级数值表!Q259","v":171903.71174795661},{"$f":"B260*0.005","v":859.51855873978309},{"$f":"B260*0.006","v":1031.4222704877398},{"$f":"B260*0.007","v":1203.3259822356963},{"$f":"B260*0.008","v":1375.2296939836529},{"$f":"B260*0.009","v":1547.1334057316094},{"$f":"B260*0.006","v":1031.4222704877398},{"$f":"B260*0.007","v":1203.3259822356963},{"$f":"B260*0.008","v":1375.2296939836529},{"$f":"B260*0.009","v":1547.1334057316094},{"$f":"B260*0.01","v":1719.0371174795662},{"$f":"(B260)*0.007","v":1203.3259822356963},{"$f":"B260*0.008","v":1375.2296939836529},{"$f":"B260*0.009","v":1547.1334057316094},{"$f":"B260*0.01","v":1719.0371174795662},{"$f":"B260*0.011","v":1890.9408292275225},{"$f":"B260*0.008","v":1375.2296939836529},{"$f":"B260*0.009","v":1547.1334057316094},{"$f":"B260*0.01","v":1719.0371174795662},{"$f":"B260*0.011","v":1890.9408292275225},{"$f":"B260*0.012","v":2062.8445409754795}]
[259,{"$f":"花园升级数值表!Q260","v":176574.33559614859},882.87167798074302,1059.4460135768916,1236.0203491730401,1412.5946847691887,1589.1690203653372,1059.4460135768916,1236.0203491730401,1412.5946847691887,1589.1690203653372,1765.743355961486,1236.0203491730401,1412.5946847691887,1589.1690203653372,1765.743355961486,1942.3176915576344,1412.5946847691887,1589.1690203653372,1765.743355961486,1942.3176915576344,2118.8920271537831]
[260,{"$f":"花园升级数值表!Q261","v":181371.86029429594},906.85930147147974,1088.2311617657756,1269.6030220600717,1450.9748823543675,1632.3467426486634,1088.2311617657756,1269.6030220600717,1450.9748823543675,1632.3467426486634,1813.7186029429595,1269.6030220600717,1450.9748823543675,1632.3467426486634,1813.7186029429595,1995.0904632372553,1450.9748823543675,1632.3467426486634,1813.7186029429595,1995.0904632372553,2176.4623235315512]
[261,{"$f":"花园升级数值表!Q262","v":186299.73373849186},931.49866869245932,1117.7984024309512,1304.098136169443,1490.397869907935,1676.6976036464266,1117.7984024309512,1304.098136169443,1490.397869907935,1676.6976036464266,1862.9973373849186,1304.098136169443,1490.397869907935,1676.6976036464266,1862.9973373849186,2049.2970711234102,1490.397869907935,1676.6976036464266,1862.9973373849186,2049.2970711234102,2235.5968048619025]
[262,{"$f":"花园升级数值表!Q263","v":191361.49750416668},956.80748752083343,1148.168985025,1339.5304825291669,1530.8919800333335,1722.2534775375,1148.168985025,1339.5304825291669,1530.8919800333335,1722.2534775375,1913.6149750416669,1339.5304825291669,1530.8919800333335,1722.2534775375,1913.6149750416669,2104.9764725458335,1530.8919800333335,1722.2534775375,1913.6149750416669,2104.9764725458335,2296.33797005]
[263,{"$f":"花园升级数值表!Q264","v":196560.78939135486},982.80394695677433,1179.3647363481291,1375.9255257394841,1572.4863151308389,1769.0471045221936,1179.3647363481291,1375.9255257394841,1572.4863151308389,1769.0471045221936,1965.6078939135487,1375.9255257394841,1572.4863151308389,1769.0471045221936,1965.6078939135487,2162.1686833049034,1572.4863151308389,1769.0471045221936,1965.6078939135487,2162.1686833049034,2358.7294726962582]
[264,{"$f":"花园升级数值表!Q265","v":201901.34603911793},1009.5067301955896,1211.4080762347076,1413.3094222738255,1615.2107683129434,1817.1121143520611,1211.4080762347076,1413.3094222738255,1615.2107683129434,1817.1121143520611,2019.0134603911793,1413.3094222738255,1615.2107683129434,1817.1121143520611,2019.0134603911793,2220.9148064302972,1615.2107683129434,1817.1121143520611,2019.0134603911793,2220.9148064302972,2422.8161524694151]
[265,{"$f":"花园升级数值表!Q266","v":207387.00561100076},1036.9350280550038,1244.3220336660045,1451.7090392770053,1659.0960448880062,1866.4830504990066,1244.3220336660045,1451.7090392770053,1659.0960448880062,1866.4830504990066,2073.8700561100077,1451.7090392770053,1659.0960448880062,1866.4830504990066,2073.8700561100077,2281.2570617210081,1659.0960448880062,1866.4830504990066,2073.8700561100077,2281.2570617210081,2488.6440673320089]
[266,{"$f":"花园升级数值表!Q267","v":213021.71055345164},1065.1085527672583,1278.1302633207099,1491.1519738741615,1704.1736844276131,1917.1953949810647,1278.1302633207099,1491.1519738741615,1704.1736844276131,1917.1953949810647,2130.2171055345166,1491.1519738741615,1704.1736844276131,1917.1953949810647,2130.2171055345166,2343.2388160879677,1704.1736844276131,1917.1953949810647,2130.2171055345166,2343.2388160879677,2556.2605266414198]
[267,{"$f":"花园升级数值表!Q268","v":218809.51042918887},1094.0475521459443,1312.8570625751333,1531.6665730043221,1750.4760834335109,1969.2855938626997,1312.8570625751333,1531.6665730043221,1750.4760834335109,1969.2855938626997,2188.0951042918887,1531.6665730043221,1750.4760834335109,1969.2855938626997,2188.0951042918887,2406.9046147210775,1750.4760834335109,1969.2855938626997,2188.0951042918887,2406.9046147210775,2625.7141251502667]
[268,{"$f":"花园升级数值表!Q269","v":224754.56482754994},1123.7728241377497,1348.5273889652997,1573.2819537928497,1798.0365186203996,2022.7910834479494,1348.5273889652997,1573.2819537928497,1798.0365186203996,2022.7910834479494,2247.5456482754994,1573.2819537928497,1798.0365186203996,2022.7910834479494,2247.5456482754994,2472.3002131030494,1798.0365186203996,2022.7910834479494,2247.5456482754994,2472.3002131030494,2697.0547779305994]
[269,{"$f":"花园升级数值表!Q270","v":230861.14635391446},1154.3057317695723,1385.1668781234869,1616.0280244774012,1846.8891708313158,2077.75031718523,1385.1668781234869,1616.0280244774012,1846.8891708313158,2077.75031718523,2308.6114635391446,1616.0280244774012,1846.8891708313158,2077.75031718523,2308.6114635391446,2539.4726098930591,1846.8891708313158,2077.75031718523,2308.6114635391446,2539.4726098930591,2770.3337562469737]
[270,{"$f":"花园升级数值表!Q271","v":237133.64370035031},1185.6682185017517,1422.8018622021018,1659.9355059024522,1897.0691496028026,2134.2027933031527,1422.8018622021018,1659.9355059024522,1897.0691496028026,2134.2027933031527,2371.3364370035033,1659.9355059024522,1897.0691496028026,2134.2027933031527,2371.3364370035033,2608.4700807038535,1897.0691496028026,2134.2027933031527,2371.3364370035033,2608.4700807038535,2845.6037244042036]
[271,{"$f":"花园升级数值表!Q272","v":243576.56479968873},1217.8828239984437,1461.4593887981323,1705.0359535978212,1948.6125183975098,2192.1890831971982,1461.4593887981323,1705.0359535978212,1948.6125183975098,2192.1890831971982,2435.7656479968873,1705.0359535978212,1948.6125183975098,2192.1890831971982,2435.7656479968873,2679.342212796576,1948.6125183975098,2192.1890831971982,2435.7656479968873,2679.342212796576,2922.9187775962646]
[272,{"$f":"花园升级数值表!Q273","v":250194.54006529631},1250.9727003264816,1501.167240391778,1751.3617804570742,2001.5563205223705,2251.7508605876665,1501.167240391778,1751.3617804570742,2001.5563205223705,2251.7508605876665,2501.9454006529631,1751.3617804570742,2001.5563205223705,2251.7508605876665,2501.9454006529631,2752.1399407182594,2001.5563205223705,2251.7508605876665,2501.9454006529631,2752.1399407182594,3002.334480783556]
[273,{"$f":"花园升级数值表!Q274","v":256992.3257188703},1284.9616285943516,1541.9539543132219,1798.9462800320921,2055.9386057509623,2312.9309314698326,1541.9539543132219,1798.9462800320921,2055.9386057509623,2312.9309314698326,2569.9232571887032,1798.9462800320921,2055.9386057509623,2312.9309314698326,2569.9232571887032,2826.915582907573,2055.9386057509623,2312.9309314698326,2569.9232571887032,2826.915582907573,3083.9079086264437]
[274,{"$f":"花园升级数值表!Q275","v":263974.80720865208},1319.8740360432605,1583.8488432519125,1847.8236504605645,2111.7984576692165,2375.7732648778688,1583.8488432519125,1847.8236504605645,2111.7984576692165,2375.7732648778688,2639.748072086521,1847.8236504605645,2111.7984576692165,2375.7732648778688,2639.748072086521,2903.7228792951728,2111.7984576692165,2375.7732648778688,2639.748072086521,2903.7228792951728,3167.697686503825]
[275,{"$f":"花园升级数值表!Q276","v":271147.00272051111},1355.7350136025557,1626.8820163230666,1898.0290190435778,2169.176021764089,2440.3230244846,1626.8820163230666,1898.0290190435778,2169.176021764089,2440.3230244846,2711.4700272051114,1898.0290190435778,2169.176021764089,2440.3230244846,2711.4700272051114,2982.6170299256219,2169.176021764089,2440.3230244846,2711.4700272051114,2982.6170299256219,3253.7640326461333]
[276,{"$f":"花园升级数值表!Q277","v":278514.06678442738},1392.570333922137,1671.0844007065643,1949.5984674909917,2228.112534275419,2506.6266010598461,1671.0844007065643,1949.5984674909917,2228.112534275419,2506.6266010598461,2785.140667844274,1949.5984674909917,2228.112534275419,2506.6266010598461,2785.140667844274,3063.6547346287011,2228.112534275419,2506.6266010598461,2785.140667844274,3063.6547346287011,3342.1688014131287]
[277,{"$f":"花园升级数值表!Q278","v":286081.29397896025},1430.4064698948014,1716.4877638737617,2002.5690578527219,2288.6503518316822,2574.731645810642,1716.4877638737617,2002.5690578527219,2288.6503518316822,2574.731645810642,2860.8129397896028,2002.5690578527219,2288.6503518316822,2574.731645810642,2860.8129397896028,3146.8942337685626,2288.6503518316822,2574.731645810642,2860.8129397896028,3146.8942337685626,3432.9755277475233]
[278,{"$f":"花园升级数值表!Q279","v":293854.12273636856},1469.2706136818429,1763.1247364182113,2056.9788591545798,2350.8329818909488,2644.6871046273168,1763.1247364182113,2056.9788591545798,2350.8329818909488,2644.6871046273168,2938.5412273636857,2056.9788591545798,2350.8329818909488,2644.6871046273168,2938.5412273636857,3232.3953501000542,2350.8329818909488,2644.6871046273168,2938.5412273636857,3232.3953501000542,3526.2494728364227]
[279,{"$f":"花园升级数值表!Q280","v":301838.13925111562},1509.1906962555781,1811.0288355066937,2112.8669747578092,2414.7051140089252,2716.5432532600403,1811.0288355066937,2112.8669747578092,2414.7051140089252,2716.5432532600403,3018.3813925111563,2112.8669747578092,2414.7051140089252,2716.5432532600403,3018.3813925111563,3320.2195317622718,2414.7051140089252,2716.5432532600403,3018.3813925111563,3320.2195317622718,3622.0576710133873]
[280,{"$f":"花园升级数值表!Q281","v":310039.08149456838},1550.1954074728419,1860.2344889674102,2170.2735704619786,2480.3126519565471,2790.3517334511153,1860.2344889674102,2170.2735704619786,2480.3126519565471,2790.3517334511153,3100.3908149456838,2170.2735704619786,2480.3126519565471,2790.3517334511153,3100.3908149456838,3410.4298964402519,2480.3126519565471,2790.3517334511153,3100.3908149456838,3410.4298964402519,3720.4689779348205]
[281,{"$f":"花园升级数值表!Q282","v":318462.84333877586},1592.3142166938794,1910.7770600326551,2229.239903371431,2547.7027467102071,2866.1655900489823,1910.7770600326551,2229.239903371431,2547.7027467102071,2866.1655900489823,3184.6284333877588,2229.239903371431,2547.7027467102071,2866.1655900489823,3184.6284333877588,3503.091276726534,2547.7027467102071,2866.1655900489823,3184.6284333877588,3503.091276726534,3821.5541200653101]
[282,{"$f":"花园升级数值表!Q283","v":327115.47879229038},1635.5773939614519,1962.6928727537422,2289.8083515460326,2616.9238303383231,2944.0393091306132,1962.6928727537422,2289.8083515460326,2616.9238303383231,2944.0393091306132,3271.1547879229038,2289.8083515460326,2616.9238303383231,2944.0393091306132,3271.1547879229038,3598.2702667151939,2616.9238303383231,2944.0393091306132,3271.1547879229038,3598.2702667151939,3925.3857455074844]
[283,{"$f":"花园升级数值表!Q284","v":336003.20635107672},1680.0160317553837,2016.0192381064603,2352.0224444575369,2688.0256508086136,3024.0288571596902,2016.0192381064603,2352.0224444575369,2688.0256508086136,3024.0288571596902,3360.0320635107673,2352.0224444575369,2688.0256508086136,3024.0288571596902,3360.0320635107673,3696.0352698618435,2688.0256508086136,3024.0288571596902,3360.0320635107673,3696.0352698618435,4032.0384762129206]
[284,{"$f":"花园升级数值表!Q285","v":345132.41346763558},1725.6620673381778,2070.7944808058137,2415.9268942734489,2761.0593077410845,3106.1917212087201,2070.7944808058137,2415.9268942734489,2761.0593077410845,3106.1917212087201,3451.3241346763557,2415.9268942734489,2761.0593077410845,3106.1917212087201,3451.3241346763557,3796.4565481439913,2761.0593077410845,3106.1917212087201,3451.3241346763557,3796.4565481439913,4141.5889616116274]
[285,{"$f":"花园升级数值表!Q286","v":354509.66114155104},1772.5483057077552,2127.0579668493065,2481.5676279908575,2836.0772891324082,3190.5869502739592,2127.0579668493065,2481.5676279908575,2836.0772891324082,3190.5869502739592,3545.0966114155103,2481.5676279908575,2836.0772891324082,3190.5869502739592,3545.0966114155103,3899.6062725570614,2836.0772891324082,3190.5869502739592,3545.0966114155103,3899.6062725570614,4254.1159336986129]
[286,{"$f":"花园升级数值表!Q287","v":364141.68863476702},1820.7084431738351,2184.8501318086023,2548.9918204433693,2913.1335090781363,3277.2751977129028,2184.8501318086023,2548.9918204433693,2913.1335090781363,3277.2751977129028,3641.4168863476702,2548.9918204433693,2913.1335090781363,3277.2751977129028,3641.4168863476702,4005.5585749824372,2913.1335090781363,3277.2751977129028,3641.4168863476702,4005.5585749824372,4369.7002636172047]
[287,{"$f":"花园升级数值表!Q288","v":374035.41831497377},1870.1770915748689,2244.2125098898427,2618.2479282048166,2992.28334651979,3366.3187648347634,2244.2125098898427,2618.2479282048166,2992.28334651979,3366.3187648347634,3740.3541831497378,2618.2479282048166,2992.28334651979,3366.3187648347634,3740.3541831497378,4114.3896014647116,2992.28334651979,3366.3187648347634,3740.3541831497378,4114.3896014647116,4488.4250197796855]
[288,{"$f":"花园升级数值表!Q289","v":384197.96063059161},1920.9898031529581,2305.1877637835496,2689.3857244141414,3073.5836850447331,3457.7816456753244,2305.1877637835496,2689.3857244141414,3073.5836850447331,3457.7816456753244,3841.9796063059161,2689.3857244141414,3073.5836850447331,3457.7816456753244,3841.9796063059161,4226.1775669365079,3073.5836850447331,3457.7816456753244,3841.9796063059161,4226.1775669365079,4610.3755275670992]
[289,{"$f":"花园升级数值表!Q290","v":394636.61922092462},1973.1830961046232,2367.8197153255478,2762.4563345464726,3157.0929537673969,3551.7295729883213,2367.8197153255478,2762.4563345464726,3157.0929537673969,3551.7295729883213,3946.3661922092465,2762.4563345464726,3157.0929537673969,3551.7295729883213,3946.3661922092465,4341.0028114301704,3157.0929537673969,3551.7295729883213,3946.3661922092465,4341.0028114301704,4735.6394306510956]
[290,{"$f":"花园升级数值表!Q291","v":405358.8961651572},2026.794480825786,2432.1533769909433,2837.5122731561005,3242.8711693212576,3648.2300654864143,2432.1533769909433,2837.5122731561005,3242.8711693212576,3648.2300654864143,4053.5889616515719,2837.5122731561005,3242.8711693212576,3648.2300654864143,4053.5889616515719,4458.9478578167291,3242.8711693212576,3648.2300654864143,4053.5889616515719,4458.9478578167291,4864.3067539818867]
[291,{"$f":"花园升级数值表!Q292","v":416372.49737396435},2081.8624868698216,2498.2349842437861,2914.6074816177506,3330.9799789917147,3747.3524763656787,2498.2349842437861,2914.6074816177506,3330.9799789917147,3747.3524763656787,4163.7249737396432,2914.6074816177506,3330.9799789917147,3747.3524763656787,4163.7249737396432,4580.0974711136078,3330.9799789917147,3747.3524763656787,4163.7249737396432,4580.0974711136078,4996.4699684875723]
[292,{"$f":"花园升级数值表!Q293","v":427685.3381276151},2138.4266906380753,2566.1120287656909,2993.7973668933059,3421.482705020921,3849.1680431485356,2566.1120287656909,2993.7973668933059,3421.482705020921,3849.1680431485356,4276.8533812761507,2993.7973668933059,3421.482705020921,3849.1680431485356,4276.8533812761507,4704.5387194037658,3421.482705020921,3849.1680431485356,4276.8533812761507,4704.5387194037658,5132.2240575313817]
[293,{"$f":"花园升级数值表!Q294","v":439305.54876454221},2196.5277438227113,2635.8332925872533,3075.1388413517957,3514.4443901163377,3953.7499388808797,2635.8332925872533,3075.1388413517957,3514.4443901163377,3953.7499388808797,4393.0554876454225,3075.1388413517957,3514.4443901163377,3953.7499388808797,4393.0554876454225,4832.3610364099641,3514.4443901163377,3953.7499388808797,4393.0554876454225,4832.3610364099641,5271.6665851745065]
[294,{"$f":"花园升级数值表!Q295","v":451241.48052447487},2256.2074026223745,2707.4488831468493,3158.6903636713241,3609.9318441957989,4061.1733247202737,2707.4488831468493,3158.6903636713241,3609.9318441957989,4061.1733247202737,4512.414805244749,3158.6903636713241,3609.9318441957989,4061.1733247202737,4512.414805244749,4963.6562857692234,3609.9318441957989,4061.1733247202737,4512.414805244749,4963.6562857692234,5414.8977662936986]
[295,{"$f":"花园升级数值表!Q296","v":463501.71155032486},2317.5085577516243,2781.0102693019494,3244.5119808522741,3708.0136924025992,4171.5154039529234,2781.0102693019494,3244.5119808522741,3708.0136924025992,4171.5154039529234,4635.0171155032485,3244.5119808522741,3708.0136924025992,4171.5154039529234,4635.0171155032485,5098.5188270535737,3708.0136924025992,4171.5154039529234,4635.0171155032485,5098.5188270535737,5562.0205386038988]
[296,{"$f":"花园升级数值表!Q297","v":476095.05305314733},2380.4752652657367,2856.5703183188839,3332.6653713720316,3808.7604244251788,4284.8554774783261,2856.5703183188839,3332.6653713720316,3808.7604244251788,4284.8554774783261,4760.9505305314733,3332.6653713720316,3808.7604244251788,4284.8554774783261,4760.9505305314733,5237.0455835846205,3808.7604244251788,4284.8554774783261,4760.9505305314733,5237.0455835846205,5713.1406366377678]
[297,{"$f":"花园升级数值表!Q298","v":489030.55564460094},2445.1527782230046,2934.1833338676056,3423.2138895122066,3912.2444451568076,4401.2750008014082,2934.1833338676056,3423.2138895122066,3912.2444451568076,4401.2750008014082,4890.3055564460092,3423.2138895122066,3912.2444451568076,4401.2750008014082,4890.3055564460092,5379.3361120906102,3912.2444451568076,4401.2750008014082,4890.3055564460092,5379.3361120906102,5868.3666677352112]
[298,{"$f":"花园升级数值表!Q299","v":502317.5158414648},2511.5875792073239,3013.905095048789,3516.2226108902537,4018.5401267317184,4520.8576425731826,3013.905095048789,3516.2226108902537,4018.5401267317184,4520.8576425731826,5023.1751584146477,3516.2226108902537,4018.5401267317184,4520.8576425731826,5023.1751584146477,5525.4926742561129,4018.5401267317184,4520.8576425731826,5023.1751584146477,5525.4926742561129,6027.810190097578]
[299,{"$f":"花园升级数值表!Q300","v":515965.48274687742},2579.8274137343869,3095.7928964812645,3611.7583792281421,4127.7238619750196,4643.6893447218963,3095.7928964812645,3611.7583792281421,4127.7238619750196,4643.6893447218963,5159.6548274687739,3611.7583792281421,4127.7238619750196,4643.6893447218963,5159.6548274687739,5675.6203102156514,4127.7238619750196,4643.6893447218963,5159.6548274687739,5675.6203102156514,6191.585792962529]
[300,{"$f":"花园升级数值表!Q301","v":529984.26491311006},2649.9213245655505,3179.9055894786607,3709.8898543917703,4239.8741193048809,4769.8583842179905,3179.9055894786607,3709.8898543917703,4239.8741193048809,4769.8583842179905,5299.8426491311011,3709.8898543917703,4239.8741193048809,4769.8583842179905,5299.8426491311011,5829.8269140442108,4239.8741193048809,4769.8583842179905,5299.8426491311011,5829.8269140442108,6359.8111789573213]
[301,{"$f":"花园升级数值表!Q302","v":544383.9373907994},2721.9196869539969,3266.3036243447964,3810.6875617355959,4355.0714991263949,4899.4554365171944,3266.3036243447964,3810.6875617355959,4355.0714991263949,4899.4554365171944,5443.8393739079938,3810.6875617355959,4355.0714991263949,4899.4554365171944,5443.8393739079938,5988.2233112987933,4355.0714991263949,4899.4554365171944,5443.8393739079938,5988.2233112987933,6532.6072486895928]
[302,{"$f":"花园升级数值表!Q303","v":559174.84896970727},2795.8742448485364,3355.0490938182438,3914.2239427879508,4473.3987917576578,5032.5736407273653,3355.0490938182438,3914.2239427879508,4473.3987917576578,5032.5736407273653,5591.7484896970727,3914.2239427879508,4473.3987917576578,5032.5736407273653,5591.7484896970727,6150.9233386667793,4473.3987917576578,5032.5736407273653,5591.7484896970727,6150.9233386667793,6710.0981876364876]
[303,{"$f":"花园升级数值表!Q304","v":574367.6296162142},2871.8381480810708,3446.2057776972852,4020.5734073134995,4594.9410369297138,5169.3086665459277,3446.2057776972852,4020.5734073134995,4594.9410369297138,5169.3086665459277,5743.6762961621416,4020.5734073134995,4594.9410369297138,5169.3086665459277,5743.6762961621416,6318.0439257783555,4594.9410369297138,5169.3086665459277,5743.6762961621416,6318.0439257783555,6892.4115553945703]
[304,{"$f":"花园升级数值表!Q305","v":589973.19811288652},2949.8659905644326,3539.8391886773193,4129.8123867902059,4719.7855849030921,5309.7587830159782,3539.8391886773193,4129.8123867902059,4719.7855849030921,5309.7587830159782,5899.7319811288653,4129.8123867902059,4719.7855849030921,5309.7587830159782,5899.7319811288653,6489.7051792417515,4719.7855849030921,5309.7587830159782,5899.7319811288653,6489.7051792417515,7079.6783773546385]
[305,{"$f":"花园升级数值表!Q306","v":606002.7699056135},3030.0138495280676,3636.0166194336812,4242.0193893392943,4848.0221592449079,5454.0249291505215,3636.0166194336812,4242.0193893392943,4848.0221592449079,5454.0249291505215,6060.0276990561351,4242.0193893392943,4848.0221592449079,5454.0249291505215,6060.0276990561351,6666.0304689617478,4848.0221592449079,5454.0249291505215,6060.0276990561351,6666.0304689617478,7272.0332388673623]
[306,{"$f":"花园升级数值表!Q307","v":622467.86516394897},3112.3393258197448,3734.807190983694,4357.2750561476432,4979.742921311592,5602.2107864755399,3734.807190983694,4357.2750561476432,4979.742921311592,5602.2107864755399,6224.6786516394895,4357.2750561476432,4979.742921311592,5602.2107864755399,6224.6786516394895,6847.1465168034383,4979.742921311592,5602.2107864755399,6224.6786516394895,6847.1465168034383,7469.614381967388]
[307,{"$f":"花园升级数值表!Q308","v":639380.31706045335},3196.901585302267,3836.2819023627203,4475.6622194231732,5115.0425364836274,5754.4228535440798,3836.2819023627203,4475.6622194231732,5115.0425364836274,5754.4228535440798,6393.803170604534,4475.6622194231732,5115.0425364836274,5754.4228535440798,6393.803170604534,7033.1834876649864,5115.0425364836274,5754.4228535440798,6393.803170604534,7033.1834876649864,7672.5638047254406]
[308,{"$f":"花园升级数值表!Q309","v":656752.28027498582},3283.7614013749294,3940.5136816499148,4597.2659619249007,5254.018242199887,5910.7705224748715,3940.5136816499148,4597.2659619249007,5254.018242199887,5910.7705224748715,6567.5228027498588,4597.2659619249007,5254.018242199887,5910.7705224748715,6567.5228027498588,7224.2750830248433,5254.018242199887,5910.7705224748715,6567.5228027498588,7224.2750830248433,7881.0273632998296]
[309,{"$f":"花园升级数值表!Q310","v":674596.23973005684},3372.9811986502841,4047.5774383803409,4722.1736781103982,5396.7699178404546,6071.3661575705109,4047.5774383803409,4722.1736781103982,5396.7699178404546,6071.3661575705109,6745.9623973005682,4722.1736781103982,5396.7699178404546,6071.3661575705109,6745.9623973005682,7420.5586370306246,5396.7699178404546,6071.3661575705109,6745.9623973005682,7420.5586370306246,8095.1548767606819]
[310,{"$f":"花园升级数值表!Q311","v":692925.01956352219},3464.6250978176108,4157.5501173811335,4850.4751369446558,5543.400156508178,6236.3251760716994,4157.5501173811335,4850.4751369446558,5543.400156508178,6236.3251760716994,6929.2501956352216,4850.4751369446558,5543.400156508178,6236.3251760716994,6929.2501956352216,7622.1752151987439,5543.400156508178,6236.3251760716994,6929.2501956352216,7622.1752151987439,8315.1002347622671]
[311,{"$f":"花园升级数值表!Q312","v":711751.79234506318},3558.7589617253161,4270.5107540703793,4982.2625464154426,5694.0143387605058,6405.7661311055681,4270.5107540703793,4982.2625464154426,5694.0143387605058,6405.7661311055681,7117.5179234506322,4982.2625464154426,5694.0143387605058,6405.7661311055681,7117.5179234506322,7829.2697157956945,5694.0143387605058,6405.7661311055681,7117.5179234506322,7829.2697157956945,8541.0215081407587]
[312,{"$f":"花园升级数值表!Q313","v":731090.08854307863},3655.4504427153934,4386.5405312584717,5117.6306198015509,5848.7207083446292,6579.8107968877075,4386.5405312584717,5117.6306198015509,5848.7207083446292,6579.8107968877075,7310.9008854307867,5117.6306198015509,5848.7207083446292,6579.8107968877075,7310.9008854307867,8041.9909739738641,5848.7207083446292,6579.8107968877075,7310.9008854307867,8041.9909739738641,8773.0810625169433]
[313,{"$f":"花园升级数值表!Q314","v":750953.80624879396},3754.7690312439699,4505.7228374927636,5256.6766437415581,6007.6304499903517,6758.5842562391454,4505.7228374927636,5256.6766437415581,6007.6304499903517,6758.5842562391454,7509.5380624879399,5256.6766437415581,6007.6304499903517,6758.5842562391454,7509.5380624879399,8260.4918687367335,6007.6304499903517,6758.5842562391454,7509.5380624879399,8260.4918687367335,9011.4456749855271]
[314,{"$f":"花园升级数值表!Q315","v":771357.22116457345},3856.7861058228673,4628.1433269874406,5399.5005481520138,6170.857769316588,6942.2149904811604,4628.1433269874406,5399.5005481520138,6170.857769316588,6942.2149904811604,7713.5722116457346,5399.5005481520138,6170.857769316588,6942.2149904811604,7713.5722116457346,8484.9294328103078,6170.857769316588,6942.2149904811604,7713.5722116457346,8484.9294328103078,9256.2866539748811]
[315,{"$f":"花园升级数值表!Q316","v":792314.99686361512},3961.5749843180756,4753.8899811816909,5546.2049780453062,6338.5199749089206,7130.8349717725359,4753.8899811816909,5546.2049780453062,6338.5199749089206,7130.8349717725359,7923.1499686361512,5546.2049780453062,6338.5199749089206,7130.8349717725359,7923.1499686361512,8715.4649654997665,6338.5199749089206,7130.8349717725359,7923.1499686361512,8715.4649654997665,9507.7799623633819]
[316,{"$f":"花园升级数值表!Q317","v":813842.19532839919},4069.2109766419962,4883.0531719703949,5696.8953672987946,6510.7375626271933,7324.579757955592,4883.0531719703949,5696.8953672987946,6510.7375626271933,7324.579757955592,8138.4219532839925,5696.8953672987946,6510.7375626271933,7324.579757955592,8138.4219532839925,8952.2641486123903,6510.7375626271933,7324.579757955592,8138.4219532839925,8952.2641486123903,9766.1063439407899]
[317,{"$f":"花园升级数值表!Q318","v":835954.28777547181},4179.7714388773593,5015.7257266528313,5851.6800144283025,6687.6343022037745,7523.5885899792456,5015.7257266528313,5851.6800144283025,6687.6343022037745,7523.5885899792456,8359.5428777547186,5851.6800144283025,6687.6343022037745,7523.5885899792456,8359.5428777547186,9195.4971655301888,6687.6343022037745,7523.5885899792456,8359.5428777547186,9195.4971655301888,10031.451453305663]
[318,{"$f":"花园升级数值表!Q319","v":858667.16577433131},4293.3358288716563,5152.0029946459881,6010.670160420319,6869.3373261946508,7728.0044919689808,5152.0029946459881,6010.670160420319,6869.3373261946508,7728.0044919689808,8586.6716577433126,6010.670160420319,6869.3373261946508,7728.0044919689808,8586.6716577433126,9445.3388235176444,6869.3373261946508,7728.0044919689808,8586.6716577433126,9445.3388235176444,10304.005989291976]
[319,{"$f":"花园升级数值表!Q320","v":881997.15266841964},4409.9857633420979,5291.9829160105182,6173.9800686789376,7055.977221347357,7937.9743740157764,5291.9829160105182,6173.9800686789376,7055.977221347357,7937.9743740157764,8819.9715266841959,6173.9800686789376,7055.977221347357,7937.9743740157764,8819.9715266841959,9701.9686793526162,7055.977221347357,7937.9743740157764,8819.9715266841959,9701.9686793526162,10583.965832021036]
[320,{"$f":"花园升级数值表!Q321","v":905961.01530642086},4529.8050765321041,5435.7660918385254,6341.7271071449459,7247.6881224513672,8153.6491377577868,5435.7660918385254,6341.7271071449459,7247.6881224513672,8153.6491377577868,9059.6101530642081,6341.7271071449459,7247.6881224513672,8153.6491377577868,9059.6101530642081,9965.5711683706286,7247.6881224513672,8153.6491377577868,9059.6101530642081,9965.5711683706286,10871.532183677051]
[321,{"$f":"花园升级数值表!Q322","v":930575.97609229619},4652.8798804614808,5583.4558565537773,6514.0318326460738,7444.6078087383694,8375.1837848306659,5583.4558565537773,6514.0318326460738,7444.6078087383694,8375.1837848306659,9305.7597609229615,6514.0318326460738,7444.6078087383694,8375.1837848306659,9305.7597609229615,10236.335737015257,7444.6078087383694,8375.1837848306659,9305.7597609229615,10236.335737015257,11166.911713107555]
[322,{"$f":"花园升级数值表!Q323","v":955859.72536272369},{"$f":"B324*0.005","v":4779.2986268136183},{"$f":"B324*0.006","v":5735.1583521763423},{"$f":"B324*0.007","v":6691.0180775390663},{"$f":"B324*0.008","v":7646.8778029017894},{"$f":"B324*0.009","v":8602.7375282645135},{"$f":"B324*0.006","v":5735.1583521763423},{"$f":"B324*0.007","v":6691.0180775390663},{"$f":"B324*0.008","v":7646.8778029017894},{"$f":"B324*0.009","v":8602.7375282645135},{"$f":"B324*0.01","v":9558.5972536272366},{"$f":"(B324)*0.007","v":6691.0180775390663},{"$f":"B324*0.008","v":7646.8778029017894},{"$f":"B324*0.009","v":8602.7375282645135},{"$f":"B324*0.01","v":9558.5972536272366},{"$f":"B324*0.011","v":10514.45697898996},{"$f":"B324*0.008","v":7646.8778029017894},{"$f":"B324*0.009","v":8602.7375282645135},{"$f":"B324*0.01","v":9558.5972536272366},{"$f":"B324*0.011","v":10514.45697898996},{"$f":"B324*0.012","v":11470.316704352685}]
[323,{"$f":"花园升级数值表!Q324","v":981830.43410082918},4909.1521705041459,5890.9826046049748,6872.8130387058045,7854.6434728066333,8836.4739069074622,5890.9826046049748,6872.8130387058045,7854.6434728066333,8836.4739069074622,9818.3043410082919,6872.8130387058045,7854.6434728066333,8836.4739069074622,9818.3043410082919,10800.13477510912,7854.6434728066333,8836.4739069074622,9818.3043410082919,10800.13477510912,11781.96520920995]
[324,{"$f":"花园升级数值表!Q325","v":1008506.7669953483},5042.5338349767417,6051.0406019720895,7059.5473689674382,8068.0541359627859,9076.5609029581337,6051.0406019720895,7059.5473689674382,8068.0541359627859,9076.5609029581337,10085.067669953483,7059.5473689674382,8068.0541359627859,9076.5609029581337,10085.067669953483,11093.574436948831,8068.0541359627859,9076.5609029581337,10085.067669953483,11093.574436948831,12102.081203944179]
[325,{"$f":"花园升级数值表!Q326","v":1035907.8958546114},5179.5394792730576,6215.4473751276682,7251.3552709822798,8287.2631668368922,9323.1710626915028,6215.4473751276682,7251.3552709822798,8287.2631668368922,9323.1710626915028,10359.078958546115,7251.3552709822798,8287.2631668368922,9323.1710626915028,10359.078958546115,11394.986854400724,8287.2631668368922,9323.1710626915028,10359.078958546115,11394.986854400724,12430.894750255336]
[326,{"$f":"花园升级数值表!Q327","v":1064053.5133849815},5320.2675669249074,6384.3210803098891,7448.3745936948708,8512.4281070798534,9576.4816204648323,6384.3210803098891,7448.3745936948708,8512.4281070798534,9576.4816204648323,10640.535133849815,7448.3745936948708,8512.4281070798534,9576.4816204648323,10640.535133849815,11704.588647234796,8512.4281070798534,9576.4816204648323,10640.535133849815,11704.588647234796,12768.642160619778]
[327,{"$f":"花园升级数值表!Q328","v":1092963.8473436516},5464.8192367182583,6557.7830840619099,7650.7469314055616,8743.7107787492132,9836.674626092863,6557.7830840619099,7650.7469314055616,8743.7107787492132,9836.674626092863,10929.638473436517,7650.7469314055616,8743.7107787492132,9836.674626092863,10929.638473436517,12022.602320780166,8743.7107787492132,9836.674626092863,10929.638473436517,12022.602320780166,13115.56616812382]
[328,{"$f":"花园升级数值表!Q329","v":1122659.6750759778},5613.298375379889,6735.9580504558671,7858.6177255318444,8981.2774006078234,10103.9370756838,6735.9580504558671,7858.6177255318444,8981.2774006078234,10103.9370756838,11226.596750759778,7858.6177255318444,8981.2774006078234,10103.9370756838,11226.596750759778,12349.256425835754,8981.2774006078234,10103.9370756838,11226.596750759778,12349.256425835754,13471.916100911734]
[329,{"$f":"花园升级数值表!Q330","v":1153162.3384477929},5765.8116922389645,6918.9740306867579,8072.1363691345505,9225.2987075823439,10378.461046030136,6918.9740306867579,8072.1363691345505,9225.2987075823439,10378.461046030136,11531.623384477929,8072.1363691345505,9225.2987075823439,10378.461046030136,11531.623384477929,12684.785722925721,9225.2987075823439,10378.461046030136,11531.623384477929,12684.785722925721,13837.948061373516]
[330,{"$f":"花园升级数值表!Q331","v":1184493.7591834187},5922.4687959170933,7106.962555100512,8291.4563142839306,9475.9500734673493,10660.443832650768,7106.962555100512,8291.4563142839306,9475.9500734673493,10660.443832650768,11844.937591834187,8291.4563142839306,9475.9500734673493,10660.443832650768,11844.937591834187,13029.431351017605,9475.9500734673493,10660.443832650768,11844.937591834187,13029.431351017605,14213.925110201024]
[331,{"$f":"花园升级数值表!Q332","v":1216676.4546204321},6083.382273102161,7300.0587277225932,8516.7351823430254,9733.4116369634576,10950.088091583888,7300.0587277225932,8516.7351823430254,9733.4116369634576,10950.088091583888,12166.764546204322,8516.7351823430254,9733.4116369634576,10950.088091583888,12166.764546204322,13383.441000824752,9733.4116369634576,10950.088091583888,12166.764546204322,13383.441000824752,14600.117455445186]
[332,{"$f":"花园升级数值表!Q333","v":1249733.553892469},6248.6677694623449,7498.4013233548139,8748.1348772472829,9997.8684311397519,11247.601985032221,7498.4013233548139,8748.1348772472829,9997.8684311397519,11247.601985032221,12497.33553892469,8748.1348772472829,9997.8684311397519,11247.601985032221,12497.33553892469,13747.069092817159,9997.8684311397519,11247.601985032221,12497.33553892469,13747.069092817159,14996.802646709628]
[333,{"$f":"花园升级数值表!Q334","v":1283688.8145517276},6418.444072758638,7702.1328873103657,8985.8217018620926,10269.51051641382,11553.199330965548,7702.1328873103657,8985.8217018620926,10269.51051641382,11553.199330965548,12836.888145517276,8985.8217018620926,10269.51051641382,11553.199330965548,12836.888145517276,14120.576960069004,10269.51051641382,11553.199330965548,12836.888145517276,14120.576960069004,15404.265774620731]
[334,{"$f":"花园升级数值表!Q335","v":1318566.6396430982},6592.8331982154914,7911.3998378585893,9229.9664775016881,10548.533117144785,11867.099756787884,7911.3998378585893,9229.9664775016881,10548.533117144785,11867.099756787884,13185.666396430983,9229.9664775016881,10548.533117144785,11867.099756787884,13185.666396430983,14504.23303607408,10548.533117144785,11867.099756787884,13185.666396430983,14504.23303607408,15822.799675717179]
[335,{"$f":"花园升级数值表!Q336","v":1354392.0952422014},6771.9604762110066,8126.3525714532079,9480.7446666954093,10835.136761937611,12189.528857179812,8126.3525714532079,9480.7446666954093,10835.136761937611,12189.528857179812,13543.920952422013,9480.7446666954093,10835.136761937611,12189.528857179812,13543.920952422013,14898.313047664215,10835.136761937611,12189.528857179812,13543.920952422013,14898.313047664215,16252.705142906416]
[336,{"$f":"花园升级数值表!Q337","v":1391190.9284699312},6955.9546423496568,8347.1455708195881,9738.3364992895185,11129.527427759451,12520.718356229379,8347.1455708195881,9738.3364992895185,11129.527427759451,12520.718356229379,13911.909284699314,9738.3364992895185,11129.527427759451,12520.718356229379,13911.909284699314,15303.100213169242,11129.527427759451,12520.718356229379,13911.909284699314,15303.100213169242,16694.291141639176]
[337,{"$f":"花园升级数值表!Q338","v":1428989.5859964595},7144.9479299822979,8573.9375159787578,10002.927101975216,11431.916687971676,12860.906273968134,8573.9375159787578,10002.927101975216,11431.916687971676,12860.906273968134,14289.895859964596,10002.927101975216,11431.916687971676,12860.906273968134,14289.895859964596,15718.885445961054,11431.916687971676,12860.906273968134,14289.895859964596,15718.885445961054,17147.875031957516]
[338,{"$f":"花园升级数值表!Q339","v":1467815.2330479831},7339.076165239916,8806.8913982878985,10274.706631335883,11742.521864383865,13210.337097431848,8806.8913982878985,10274.706631335883,11742.521864383865,13210.337097431848,14678.152330479832,10274.706631335883,11742.521864383865,13210.337097431848,14678.152330479832,16145.967563527814,11742.521864383865,13210.337097431848,14678.152330479832,16145.967563527814,17613.782796575797]
[339,{"$f":"花园升级数值表!Q340","v":1507695.7729298961},7538.4788646494808,9046.1746375793773,10553.870410509273,12061.566183439169,13569.261956369064,9046.1746375793773,10553.870410509273,12061.566183439169,13569.261956369064,15076.957729298962,10553.870410509273,12061.566183439169,13569.261956369064,15076.957729298962,16584.653502228855,12061.566183439169,13569.261956369064,15076.957729298962,16584.653502228855,18092.349275158755]
[340,{"$f":"花园升级数值表!Q341","v":1548659.8670804019},7743.2993354020091,9291.9592024824105,10840.619069562814,12389.278936643215,13937.938803723615,9291.9592024824105,10840.619069562814,12389.278936643215,13937.938803723615,15486.598670804018,10840.619069562814,12389.278936643215,13937.938803723615,15486.598670804018,17035.25853788442,12389.278936643215,13937.938803723615,15486.598670804018,17035.25853788442,18583.918404964821]
[341,{"$f":"花园升级数值表!Q342","v":1590736.9556689763},7953.684778344882,9544.4217340138584,11135.158689682834,12725.895645351811,14316.632601020785,9544.4217340138584,11135.158689682834,12725.895645351811,14316.632601020785,15907.369556689764,11135.158689682834,12725.895645351811,14316.632601020785,15907.369556689764,17498.10651235874,12725.895645351811,14316.632601020785,15907.369556689764,17498.10651235874,19088.843468027717]
[342,{"$f":"花园升级数值表!Q343","v":1633957.2787545016},8169.7863937725078,9803.743672527009,11437.700951281511,13071.658230036013,14705.615508790514,9803.743672527009,11437.700951281511,13071.658230036013,14705.615508790514,16339.572787545016,11437.700951281511,13071.658230036013,14705.615508790514,16339.572787545016,17973.530066299518,13071.658230036013,14705.615508790514,16339.572787545016,17973.530066299518,19607.487345054018]
[343,{"$f":"花园升级数值表!Q344","v":1678351.8980182623},8391.7594900913118,10070.111388109573,11748.463286127837,13426.815184146099,15105.16708216436,10070.111388109573,11748.463286127837,13426.815184146099,15105.16708216436,16783.518980182624,11748.463286127837,13426.815184146099,15105.16708216436,16783.518980182624,18461.870878200883,13426.815184146099,15105.16708216436,16783.518980182624,18461.870878200883,20140.222776219147]
[344,{"$f":"花园升级数值表!Q345","v":1723952.7190874184},8619.7635954370926,10343.71631452451,12067.669033611928,13791.621752699348,15515.574471786764,10343.71631452451,12067.669033611928,13791.621752699348,15515.574471786764,17239.527190874185,12067.669033611928,13791.621752699348,15515.574471786764,17239.527190874185,18963.479909961603,13791.621752699348,15515.574471786764,17239.527190874185,18963.479909961603,20687.432629049021]
[345,{"$f":"花园升级数值表!Q346","v":1770792.5144650228},8853.9625723251138,10624.755086790137,12395.547601255161,14166.340115720182,15937.132630185204,10624.755086790137,12395.547601255161,14166.340115720182,15937.132630185204,17707.925144650228,12395.547601255161,14166.340115720182,15937.132630185204,17707.925144650228,19478.717659115249,14166.340115720182,15937.132630185204,17707.925144650228,19478.717659115249,21249.510173580275]
[346,{"$f":"花园升级数值表!Q347","v":1818904.9470830373},9094.524735415187,10913.429682498225,12732.334629581263,14551.239576664299,16370.144523747334,10913.429682498225,12732.334629581263,14551.239576664299,16370.144523747334,18189.049470830374,12732.334629581263,14551.239576664299,16370.144523747334,18189.049470830374,20007.95441791341,14551.239576664299,16370.144523747334,18189.049470830374,20007.95441791341,21826.85936499645]
[347,{"$f":"花园升级数值表!Q348","v":1868324.594495283},9341.6229724764144,11209.947566971698,13078.272161466981,14946.596755962264,16814.921350457545,11209.947566971698,13078.272161466981,14946.596755962264,16814.921350457545,18683.245944952829,13078.272161466981,14946.596755962264,16814.921350457545,18683.245944952829,20551.570539448112,14946.596755962264,16814.921350457545,18683.245944952829,20551.570539448112,22419.895133943395]
[348,{"$f":"花园升级数值表!Q349","v":1919086.9737277196},9595.4348686385983,11514.521842366317,13433.608816094038,15352.695789821757,17271.782763549476,11514.521842366317,13433.608816094038,15352.695789821757,17271.782763549476,19190.869737277197,13433.608816094038,15352.695789821757,17271.782763549476,19190.869737277197,21109.956711004914,15352.695789821757,17271.782763549476,19190.869737277197,21109.956711004914,23029.043684732635]
[349,{"$f":"花园升级数值表!Q350","v":1971228.5668039017},9856.1428340195089,11827.371400823411,13798.599967627311,15769.828534431213,17741.057101235114,11827.371400823411,13798.599967627311,15769.828534431213,17741.057101235114,19712.285668039018,13798.599967627311,15769.828534431213,17741.057101235114,19712.285668039018,21683.514234842918,15769.828534431213,17741.057101235114,19712.285668039018,21683.514234842918,23654.742801646822]
[350,{"$f":"花园升级数值表!Q351","v":2024786.8469639651},10123.934234819826,12148.721081783791,14173.507928747757,16198.294775711722,18223.081622675683,12148.721081783791,14173.507928747757,16198.294775711722,18223.081622675683,20247.868469639652,14173.507928747757,16198.294775711722,18223.081622675683,20247.868469639652,22272.655316603614,16198.294775711722,18223.081622675683,20247.868469639652,22272.655316603614,24297.442163567583]
[351,{"$f":"花园升级数值表!Q352","v":2079800.3055959751},10399.001527979875,12478.801833575852,14558.602139171826,16638.402444767802,18718.202750363776,12478.801833575852,14558.602139171826,16638.402444767802,18718.202750363776,20798.003055959751,14558.602139171826,16638.402444767802,18718.202750363776,20798.003055959751,22877.803361555725,16638.402444767802,18718.202750363776,20798.003055959751,22877.803361555725,24957.603667151703]
[352,{"$f":"花园升级数值表!Q353","v":2136308.4798990167},10681.542399495083,12817.8508793941,14954.159359293117,17090.467839192133,19226.77631909115,12817.8508793941,14954.159359293117,17090.467839192133,19226.77631909115,21363.084798990167,14954.159359293117,17090.467839192133,19226.77631909115,21363.084798990167,23499.393278889183,17090.467839192133,19226.77631909115,21363.084798990167,23499.393278889183,25635.7017587882]
[353,{"$f":"花园升级数值表!Q354","v":2194351.981297873},10971.759906489366,13166.111887787238,15360.463869085112,17554.815850382984,19749.167831680854,13166.111887787238,15360.463869085112,17554.815850382984,19749.167831680854,21943.519812978731,15360.463869085112,17554.815850382984,19749.167831680854,21943.519812978731,24137.871794276602,17554.815850382984,19749.167831680854,21943.519812978731,24137.871794276602,26332.223775574475]
[354,{"$f":"花园升级数值表!Q355","v":2253972.5246297354},11269.862623148678,13523.835147778413,15777.807672408147,18031.780197037882,20285.752721667617,13523.835147778413,15777.807672408147,18031.780197037882,20285.752721667617,22539.725246297356,15777.807672408147,18031.780197037882,20285.752721667617,22539.725246297356,24793.697770927087,18031.780197037882,20285.752721667617,22539.725246297356,24793.697770927087,27047.670295556825]
[355,{"$f":"花园升级数值表!Q356","v":2315212.9581239256},11576.064790619628,13891.277748743554,16206.49070686748,18521.703664991404,20836.916623115329,13891.277748743554,16206.49070686748,18521.703664991404,20836.916623115329,23152.129581239256,16206.49070686748,18521.703664991404,20836.916623115329,23152.129581239256,25467.342539363181,18521.703664991404,20836.916623115329,23152.129581239256,25467.342539363181,27782.555497487108]
[356,{"$f":"花园升级数值表!Q357","v":2378117.2941961521},11890.586470980761,14268.703765176913,16646.821059373066,19024.938353569218,21403.055647765366,14268.703765176913,16646.821059373066,19024.938353569218,21403.055647765366,23781.172941961522,16646.821059373066,19024.938353569218,21403.055647765366,23781.172941961522,26159.290236157671,19024.938353569218,21403.055647765366,23781.172941961522,26159.290236157671,28537.407530353827]
[357,{"$f":"花园升级数值表!Q358","v":2442730.7410794618},12213.65370539731,14656.384446476772,17099.115187556232,19541.845928635696,21984.576669715156,14656.384446476772,17099.115187556232,19541.845928635696,21984.576669715156,24427.307410794619,17099.115187556232,19541.845928635696,21984.576669715156,24427.307410794619,26870.038151874076,19541.845928635696,21984.576669715156,24427.307410794619,26870.038151874076,29312.768892953543]
[358,{"$f":"花园升级数值表!Q359","v":2509099.7353145904},12545.498676572952,15054.598411887542,17563.698147202133,20072.797882516723,22581.897617831313,15054.598411887542,17563.698147202133,20072.797882516723,22581.897617831313,25090.997353145904,17563.698147202133,20072.797882516723,22581.897617831313,25090.997353145904,27600.097088460494,20072.797882516723,22581.897617831313,25090.997353145904,27600.097088460494,30109.196823775084]
[359,{"$f":"花园升级数值表!Q360","v":2577271.9751230874},12886.359875615437,15463.631850738524,18040.903825861613,20618.1758009847,23195.447776107783,15463.631850738524,18040.903825861613,20618.1758009847,23195.447776107783,25772.719751230874,18040.903825861613,20618.1758009847,23195.447776107783,25772.719751230874,28349.991726353961,20618.1758009847,23195.447776107783,25772.719751230874,28349.991726353961,30927.263701477048]
[360,{"$f":"花园升级数值表!Q361","v":2647296.4546871814},13236.482273435908,15883.778728123089,18531.075182810269,21178.37163749745,23825.668092184631,15883.778728123089,18531.075182810269,21178.37163749745,23825.668092184631,26472.964546871815,18531.075182810269,21178.37163749745,23825.668092184631,26472.964546871815,29120.261001558993,21178.37163749745,23825.668092184631,26472.964546871815,29120.261001558993,31767.557456246177]
[361,{"$f":"花园升级数值表!Q362","v":2719223.4993610322},13596.117496805162,16315.340996166193,19034.564495527226,21753.787994888258,24473.011494249287,16315.340996166193,19034.564495527226,21753.787994888258,24473.011494249287,27192.234993610324,19034.564495527226,21753.787994888258,24473.011494249287,27192.234993610324,29911.458492971353,21753.787994888258,24473.011494249287,27192.234993610324,29911.458492971353,32630.681992332386]
[362,{"$f":"花园升级数值表!Q363","v":2793104.8018386704},13965.524009193352,16758.628811032024,19551.733612870692,22344.838414709364,25137.943216548032,16758.628811032024,19551.733612870692,22344.838414709364,25137.943216548032,27931.048018386704,19551.733612870692,22344.838414709364,25137.943216548032,27931.048018386704,30724.152820225372,22344.838414709364,25137.943216548032,27931.048018386704,30724.152820225372,33517.257622064048]
[363,{"$f":"花园升级数值表!Q364","v":2868993.4593046275},14344.967296523138,17213.960755827764,20082.954215132391,22951.947674437022,25820.941133741646,17213.960755827764,20082.954215132391,22951.947674437022,25820.941133741646,28689.934593046277,20082.954215132391,22951.947674437022,25820.941133741646,28689.934593046277,31558.928052350901,22951.947674437022,25820.941133741646,28689.934593046277,31558.928052350901,34427.921511655528]
[364,{"$f":"花园升级数值表!Q365","v":2946944.0115939332},14734.720057969666,17681.664069563598,20628.608081157534,23575.552092751466,26522.496104345399,17681.664069563598,20628.608081157534,23575.552092751466,26522.496104345399,29469.440115939331,20628.608081157534,23575.552092751466,26522.496104345399,29469.440115939331,32416.384127533263,23575.552092751466,26522.496104345399,29469.440115939331,32416.384127533263,35363.328139127196]
[365,{"$f":"花园升级数值表!Q366","v":3027012.4803889408},15135.062401944704,18162.074882333643,21189.087362722585,24216.099843111526,27243.112323500463,18162.074882333643,21189.087362722585,24216.099843111526,27243.112323500463,30270.124803889408,21189.087362722585,24216.099843111526,27243.112323500463,30270.124803889408,33297.137284278346,24216.099843111526,27243.112323500463,30270.124803889408,33297.137284278346,36324.149764667287]
[366,{"$f":"花园升级数值表!Q367","v":3109256.4094811073},15546.282047405537,18655.538456886643,21764.794866367753,24874.051275848858,27983.307685329964,18655.538456886643,21764.794866367753,24874.051275848858,27983.307685329964,31092.564094811074,21764.794866367753,24874.051275848858,27983.307685329964,31092.564094811074,34201.820504292176,24874.051275848858,27983.307685329964,31092.564094811074,34201.820504292176,37311.076913773286]
[367,{"$f":"花园升级数值表!Q368","v":3193734.9061267101},15968.674530633551,19162.409436760263,22356.144342886972,25549.87924901368,28743.614155140389,19162.409436760263,22356.144342886972,25549.87924901368,28743.614155140389,31937.349061267101,22356.144342886972,25549.87924901368,28743.614155140389,31937.349061267101,35131.08396739381,25549.87924901368,28743.614155140389,31937.349061267101,35131.08396739381,38324.818873520526]
[368,{"$f":"花园升级数值表!Q369","v":3280508.6835261728},16402.543417630863,19683.052101157038,22963.56078468321,26244.069468209382,29524.578151735554,19683.052101157038,22963.56078468321,26244.069468209382,29524.578151735554,32805.086835261725,22963.56078468321,26244.069468209382,29524.578151735554,32805.086835261725,36085.595518787901,26244.069468209382,29524.578151735554,32805.086835261725,36085.595518787901,39366.104202314076]
[369,{"$f":"花园升级数值表!Q370","v":3369640.1044575796},16848.200522287898,20217.840626745477,23587.480731203057,26957.120835660637,30326.760940118213,20217.840626745477,23587.480731203057,26957.120835660637,30326.760940118213,33696.401044575796,23587.480731203057,26957.120835660637,30326.760940118213,33696.401044575796,37066.041149033372,26957.120835660637,30326.760940118213,33696.401044575796,37066.041149033372,40435.681253490955]
[370,{"$f":"花园升级数值表!Q371","v":3461193.2260956913},17305.966130478457,20767.15935657415,24228.352582669839,27689.545808765532,31150.739034861221,20767.15935657415,24228.352582669839,27689.545808765532,31150.739034861221,34611.932260956914,24228.352582669839,27689.545808765532,31150.739034861221,34611.932260956914,38073.125487052603,27689.545808765532,31150.739034861221,34611.932260956914,38073.125487052603,41534.318713148299]
[371,{"$f":"花园升级数值表!Q372","v":3555233.8460487113},17776.169230243559,21331.403076292267,24886.636922340978,28441.87076838969,31997.104614438398,21331.403076292267,24886.636922340978,28441.87076838969,31997.104614438398,35552.338460487117,24886.636922340978,28441.87076838969,31997.104614438398,35552.338460487117,39107.572306535825,28441.87076838969,31997.104614438398,35552.338460487117,39107.572306535825,42662.806152584533]
[372,{"$f":"花园升级数值表!Q373","v":3651829.5496458532},18259.147748229265,21910.977297875121,25562.806847520973,29214.636397166825,32866.465946812677,21910.977297875121,25562.806847520973,29214.636397166825,32866.465946812677,36518.29549645853,25562.806847520973,29214.636397166825,32866.465946812677,36518.29549645853,40170.125046104382,29214.636397166825,32866.465946812677,36518.29549645853,40170.125046104382,43821.954595750241]
[373,{"$f":"花园升级数值表!Q374","v":3751049.7585097323},18755.24879254866,22506.298551058393,26257.348309568126,30008.398068077859,33759.447826587588,22506.298551058393,26257.348309568126,30008.398068077859,33759.447826587588,37510.497585097321,26257.348309568126,30008.398068077859,33759.447826587588,37510.497585097321,41261.547343607053,30008.398068077859,33759.447826587588,37510.497585097321,41261.547343607053,45012.597102116786]
[374,{"$f":"花园升级数值表!Q375","v":3852965.7804484391},19264.828902242196,23117.794682690634,26970.760463139075,30823.726243587513,34676.692024035947,23117.794682690634,26970.760463139075,30823.726243587513,34676.692024035947,38529.657804484392,26970.760463139075,30823.726243587513,34676.692024035947,38529.657804484392,42382.62358493283,30823.726243587513,34676.692024035947,38529.657804484392,42382.62358493283,46235.589365381267]
[375,{"$f":"花园升级数值表!Q376","v":3957650.8607032234},19788.254303516118,23745.905164219341,27703.556024922564,31661.206885625787,35618.857746329006,23745.905164219341,27703.556024922564,31661.206885625787,35618.857746329006,39576.508607032236,27703.556024922564,31661.206885625787,35618.857746329006,39576.508607032236,43534.159467735451,31661.206885625787,35618.857746329006,39576.508607032236,43534.159467735451,47491.810328438682]
[376,{"$f":"花园升级数值表!Q377","v":4065180.2345885262},20325.901172942631,24391.081407531157,28456.261642119684,32521.44187670821,36586.622111296732,24391.081407531157,28456.261642119684,32521.44187670821,36586.622111296732,40651.802345885262,28456.261642119684,32521.44187670821,36586.622111296732,40651.802345885262,44716.982580473785,32521.44187670821,36586.622111296732,40651.802345885262,44716.982580473785,48782.162815062315]
[377,{"$f":"花园升级数值表!Q378","v":4175631.1815623008},20878.155907811506,25053.787089373804,29229.418270936105,33405.04945249841,37580.680634060707,25053.787089373804,29229.418270936105,33405.04945249841,37580.680634060707,41756.311815623012,29229.418270936105,33405.04945249841,37580.680634060707,41756.311815623012,45931.942997185302,33405.04945249841,37580.680634060707,41756.311815623012,45931.942997185302,50107.574178747607]
[378,{"$f":"花园升级数值表!Q379","v":4289083.080765347},21445.415403826737,25734.498484592081,30023.581565357428,34312.664646122779,38601.747726888119,25734.498484592081,30023.581565357428,34312.664646122779,38601.747726888119,42890.830807653474,30023.581565357428,34312.664646122779,38601.747726888119,42890.830807653474,47179.913888418814,34312.664646122779,38601.747726888119,42890.830807653474,47179.913888418814,51468.996969184162]
[379,{"$f":"花园升级数值表!Q380","v":4405617.4680697424},22028.087340348713,26433.704808418453,30839.322276488198,35244.939744557938,39650.557212627682,26433.704808418453,30839.322276488198,35244.939744557938,39650.557212627682,44056.174680697426,30839.322276488198,35244.939744557938,39650.557212627682,44056.174680697426,48461.792148767163,35244.939744557938,39650.557212627682,44056.174680697426,48461.792148767163,52867.409616836907]
[380,{"$f":"花园升级数值表!Q381","v":4525318.0946771968},22626.590473385986,27151.90856806318,31677.226662740377,36202.544757417578,40727.862852094768,27151.90856806318,31677.226662740377,36202.544757417578,40727.862852094768,45253.180946771972,31677.226662740377,36202.544757417578,40727.862852094768,45253.180946771972,49778.499041449162,36202.544757417578,40727.862852094768,45253.180946771972,49778.499041449162,54303.817136126359]
[381,{"$f":"花园升级数值表!Q382","v":4648270.9873095751},23241.354936547876,27889.625923857449,32537.896911167027,37186.167898476604,41834.43888578617,27889.625923857449,32537.896911167027,37186.167898476604,41834.43888578617,46482.709873095751,32537.896911167027,37186.167898476604,41834.43888578617,46482.709873095751,51130.980860405325,37186.167898476604,41834.43888578617,46482.709873095751,51130.980860405325,55779.251847714899]
[382,{"$f":"花园升级数值表!Q383","v":4774564.5100347772},23872.822550173885,28647.387060208664,33421.951570243444,38196.516080278219,42971.080590312995,28647.387060208664,33421.951570243444,38196.516080278219,42971.080590312995,47745.64510034777,33421.951570243444,38196.516080278219,42971.080590312995,47745.64510034777,52520.209610382546,38196.516080278219,42971.080590312995,47745.64510034777,52520.209610382546,57294.774120417329]
[383,{"$f":"花园升级数值表!Q384","v":4904289.4277724205},24521.447138862102,29425.736566634525,34330.02599440694,39234.315422179367,44138.604849951778,29425.736566634525,34330.02599440694,39234.315422179367,44138.604849951778,49042.894277724205,34330.02599440694,39234.315422179367,44138.604849951778,49042.894277724205,53947.183705496624,39234.315422179367,44138.604849951778,49042.894277724205,53947.183705496624,58851.47313326905]
[384,{"$f":"花园升级数值表!Q385","v":5037538.9715249976},25187.694857624989,30225.233829149987,35262.772800674982,40300.311772199981,45337.850743724972,30225.233829149987,35262.772800674982,40300.311772199981,45337.850743724972,50375.389715249978,35262.772800674982,40300.311772199981,45337.850743724972,50375.389715249978,55412.928686774969,40300.311772199981,45337.850743724972,50375.389715249978,55412.928686774969,60450.467658299975]
[385,{"$f":"花园升级数值表!Q386","v":5174408.9053813312},25872.044526906655,31046.453432287988,36220.862337669321,41395.271243050651,46569.68014843198,31046.453432287988,36220.862337669321,41395.271243050651,46569.68014843198,51744.08905381331,36220.862337669321,41395.271243050651,46569.68014843198,51744.08905381331,56918.497959194639,41395.271243050651,46569.68014843198,51744.08905381331,56918.497959194639,62092.906864575976]
[386,{"$f":"花园升级数值表!Q387","v":5314997.5953405416},{"$f":"B388*0.005","v":26574.987976702709},{"$f":"B388*0.006","v":31889.98557204325},{"$f":"B388*0.007","v":37204.983167383791},{"$f":"B388*0.008","v":42519.980762724335},{"$f":"B388*0.009","v":47834.978358064873},{"$f":"B388*0.006","v":31889.98557204325},{"$f":"B388*0.007","v":37204.983167383791},{"$f":"B388*0.008","v":42519.980762724335},{"$f":"B388*0.009","v":47834.978358064873},{"$f":"B388*0.01","v":53149.975953405417},{"$f":"(B388)*0.007","v":37204.983167383791},{"$f":"B388*0.008","v":42519.980762724335},{"$f":"B388*0.009","v":47834.978358064873},{"$f":"B388*0.01","v":53149.975953405417},{"$f":"B388*0.011","v":58464.973548745955},{"$f":"B388*0.008","v":42519.980762724335},{"$f":"B388*0.009","v":47834.978358064873},{"$f":"B388*0.01","v":53149.975953405417},{"$f":"B388*0.011","v":58464.973548745955},{"$f":"B388*0.012","v":63779.971144086499}]
[387,{"$f":"花园升级数值表!Q388","v":5459406.0800059428},27297.030400029715,32756.436480035656,38215.842560041601,43675.248640047546,49134.654720053484,32756.436480035656,38215.842560041601,43675.248640047546,49134.654720053484,54594.060800059429,38215.842560041601,43675.248640047546,49134.654720053484,54594.060800059429,60053.466880065367,43675.248640047546,49134.654720053484,54594.060800059429,60053.466880065367,65512.872960071312]
[388,{"$f":"花园升级数值表!Q389","v":5607738.1431997027},28038.690715998513,33646.428859198219,39254.167002397917,44861.905145597622,50469.643288797321,33646.428859198219,39254.167002397917,44861.905145597622,50469.643288797321,56077.381431997026,39254.167002397917,44861.905145597622,50469.643288797321,56077.381431997026,61685.119575196724,44861.905145597622,50469.643288797321,56077.381431997026,61685.119575196724,67292.857718396437]
[389,{"$f":"花园升级数值表!Q390","v":5760100.3885504371},28800.501942752187,34560.602331302623,40320.702719853063,46080.803108403496,51840.903496953928,34560.602331302623,40320.702719853063,46080.803108403496,51840.903496953928,57601.003885504375,40320.702719853063,46080.803108403496,51840.903496953928,57601.003885504375,63361.104274054807,46080.803108403496,51840.903496953928,57601.003885504375,63361.104274054807,69121.204662605247]
[390,{"$f":"花园升级数值表!Q391","v":5916602.3161073541},29583.011580536771,35499.613896644129,41416.216212751482,47332.818528858836,53249.420844966182,35499.613896644129,41416.216212751482,47332.818528858836,53249.420844966182,59166.023161073543,41416.216212751482,47332.818528858836,53249.420844966182,59166.023161073543,65082.625477180889,47332.818528858836,53249.420844966182,59166.023161073543,65082.625477180889,70999.227793288257]
[391,{"$f":"花园升级数值表!Q392","v":6077356.4010359896},30386.78200517995,36464.138406215941,42541.494807251926,48618.851208287917,54696.207609323901,36464.138406215941,42541.494807251926,48618.851208287917,54696.207609323901,60773.5640103599,42541.494807251926,48618.851208287917,54696.207609323901,60773.5640103599,66850.920411395884,48618.851208287917,54696.207609323901,60773.5640103599,66850.920411395884,72928.276812431883]
[392,{"$f":"花园升级数值表!Q393","v":6242478.1744521391},31212.390872260698,37454.869046712833,43697.347221164971,49939.82539561711,56182.303570069249,37454.869046712833,43697.347221164971,49939.82539561711,56182.303570069249,62424.781744521395,43697.347221164971,49939.82539561711,56182.303570069249,62424.781744521395,68667.259918973519,49939.82539561711,56182.303570069249,62424.781744521395,68667.259918973519,74909.738093425665]
[393,{"$f":"花园升级数值表!Q394","v":6412086.3064520042},32060.431532260023,38472.517838712025,44884.604145164034,51296.690451616036,57708.77675806803,38472.517838712025,44884.604145164034,51296.690451616036,57708.77675806803,64120.863064520046,44884.604145164034,51296.690451616036,57708.77675806803,64120.863064520046,70532.949370972041,51296.690451616036,57708.77675806803,64120.863064520046,70532.949370972041,76945.03567742405]
[394,{"$f":"花园升级数值表!Q395","v":6586302.6913983049},32931.513456991524,39517.816148389829,46104.118839788134,52690.421531186439,59276.724222584737,39517.816148389829,46104.118839788134,52690.421531186439,59276.724222584737,65863.026913983049,46104.118839788134,52690.421531186439,59276.724222584737,65863.026913983049,72449.329605381354,52690.421531186439,59276.724222584737,65863.026913983049,72449.329605381354,79035.632296779659]
[395,{"$f":"花园升级数值表!Q396","v":6765252.5355235934},33826.262677617968,40591.51521314156,47356.767748665152,54122.020284188751,60887.272819712336,40591.51521314156,47356.767748665152,54122.020284188751,60887.272819712336,67652.525355235935,47356.767748665152,54122.020284188751,60887.272819712336,67652.525355235935,74417.77789075952,54122.020284188751,60887.272819712336,67652.525355235935,74417.77789075952,81183.03042628312]
[396,{"$f":"花园升级数值表!Q397","v":6949064.4469137695},34745.322234568848,41694.386681482618,48643.451128396388,55592.515575310157,62541.58002222392,41694.386681482618,48643.451128396388,55592.515575310157,62541.58002222392,69490.644469137696,48643.451128396388,55592.515575310157,62541.58002222392,69490.644469137696,76439.708916051459,55592.515575310157,62541.58002222392,69490.644469137696,76439.708916051459,83388.773362965236]
[397,{"$f":"花园升级数值表!Q398","v":7137870.5279364157},35689.352639682082,42827.223167618497,49965.093695554911,57102.964223491326,64240.834751427734,42827.223167618497,49965.093695554911,57102.964223491326,64240.834751427734,71378.705279364163,49965.093695554911,57102.964223491326,64240.834751427734,71378.705279364163,78516.575807300571,57102.964223491326,64240.834751427734,71378.705279364163,78516.575807300571,85654.446335236993]
[398,{"$f":"花园升级数值表!Q399","v":7331806.4701804463},36659.032350902235,43990.838821082682,51322.645291263128,58654.451761443568,65986.258231624015,43990.838821082682,51322.645291263128,58654.451761443568,65986.258231624015,73318.064701804469,51322.645291263128,58654.451761443568,65986.258231624015,73318.064701804469,80649.871171984909,58654.451761443568,65986.258231624015,73318.064701804469,80649.871171984909,87981.677642165363]
[399,{"$f":"花园升级数值表!Q400","v":7531011.651975248},37655.058259876241,45186.069911851489,52717.081563826738,60248.093215801986,67779.104867777234,45186.069911851489,52717.081563826738,60248.093215801986,67779.104867777234,75310.116519752482,52717.081563826738,60248.093215801986,67779.104867777234,75310.116519752482,82841.128171727716,60248.093215801986,67779.104867777234,75310.116519752482,82841.128171727716,90372.139823702979]
[400,{"$f":"花园升级数值表!Q401","v":7735629.2385594193},38678.146192797096,46413.775431356516,54149.404669915937,61885.033908475358,69620.663147034764,46413.775431356516,54149.404669915937,61885.033908475358,69620.663147034764,77356.292385594192,54149.404669915937,61885.033908475358,69620.663147034764,77356.292385594192,85091.921624153605,61885.033908475358,69620.663147034764,77356.292385594192,85091.921624153605,92827.550862713033]
[401,{"$f":"花园升级数值表!Q402","v":7945806.2849710742},39729.03142485537,47674.837709826446,55620.643994797523,63566.450279768593,71512.25656473967,47674.837709826446,55620.643994797523,63566.450279768593,71512.25656473967,79458.062849710739,55620.643994797523,63566.450279768593,71512.25656473967,79458.062849710739,87403.869134681809,63566.450279768593,71512.25656473967,79458.062849710739,87403.869134681809,95349.675419652893]
[402,{"$f":"花园升级数值表!Q403","v":8161693.8417337369},40808.469208668685,48970.163050402422,57131.856892136158,65293.550733869895,73455.244575603632,48970.163050402422,57131.856892136158,65293.550733869895,73455.244575603632,81616.938417337369,57131.856892136158,65293.550733869895,73455.244575603632,81616.938417337369,89778.632259071106,65293.550733869895,73455.244575603632,81616.938417337369,89778.632259071106,97940.326100804843]
[403,{"$f":"花园升级数值表!Q404","v":8383447.0634136451},41917.235317068225,50300.68238048187,58684.129443895516,67067.576507309161,75451.023570722798,50300.68238048187,58684.129443895516,67067.576507309161,75451.023570722798,83834.470634136451,58684.129443895516,67067.576507309161,75451.023570722798,83834.470634136451,92217.917697550089,67067.576507309161,75451.023570722798,83834.470634136451,92217.917697550089,100601.36476096374]
[404,{"$f":"花园升级数值表!Q405","v":8611225.3201265894},43056.126600632946,51667.351920759538,60278.57724088613,68889.802561012722,77501.027881139293,51667.351920759538,60278.57724088613,68889.802561012722,77501.027881139293,86112.253201265892,60278.57724088613,68889.802561012722,77501.027881139293,86112.253201265892,94723.478521392477,68889.802561012722,77501.027881139293,86112.253201265892,94723.478521392477,103334.70384151908]
[405,{"$f":"花园升级数值表!Q406","v":8845192.3120744303},44225.961560372154,53071.153872446586,61916.346184521011,70761.538496595444,79606.730808669861,53071.153872446586,61916.346184521011,70761.538496595444,79606.730808669861,88451.923120744308,61916.346184521011,70761.538496595444,79606.730808669861,88451.923120744308,97297.115432818726,70761.538496595444,79606.730808669861,88451.923120744308,97297.115432818726,106142.30774489317]
[406,{"$f":"花园升级数值表!Q407","v":9085516.1871934887},45427.580935967446,54513.097123160936,63598.61331035442,72684.12949754791,81769.645684741394,54513.097123160936,63598.61331035442,72684.12949754791,81769.645684741394,90855.161871934892,63598.61331035442,72684.12949754791,81769.645684741394,90855.161871934892,99940.678059128375,72684.12949754791,81769.645684741394,90855.161871934892,99940.678059128375,109026.19424632187]
[407,{"$f":"花园升级数值表!Q408","v":9332369.6619995367},46661.848309997687,55994.217971997219,65326.587633996758,74658.957295996297,83991.326957995829,55994.217971997219,65326.587633996758,74658.957295996297,83991.326957995829,93323.696619995375,65326.587633996758,74658.957295996297,83991.326957995829,93323.696619995375,102656.06628199489,74658.957295996297,83991.326957995829,93323.696619995375,102656.06628199489,111988.43594399444]
[408,{"$f":"花园升级数值表!Q409","v":9585930.1457160618},47929.650728580309,57515.580874296371,67101.511020012433,76687.441165728495,86273.371311444556,57515.580874296371,67101.511020012433,76687.441165728495,86273.371311444556,95859.301457160618,67101.511020012433,76687.441165728495,86273.371311444556,95859.301457160618,105445.23160287668,76687.441165728495,86273.371311444556,95859.301457160618,105445.23160287668,115031.16174859274]
[409,{"$f":"花园升级数值表!Q410","v":9846379.8677751701},49231.899338875854,59078.279206651023,68924.659074426192,78771.038942201369,88617.418809976531,59078.279206651023,68924.659074426192,78771.038942201369,88617.418809976531,98463.798677751707,68924.659074426192,78771.038942201369,88617.418809976531,98463.798677751707,108310.17854552687,78771.038942201369,88617.418809976531,98463.798677751707,108310.17854552687,118156.55841330205]
[410,{"$f":"花园升级数值表!Q411","v":10113906.008782618},50569.530043913088,60683.43605269571,70797.342061478324,80911.248070260946,91025.154079043554,60683.43605269571,70797.342061478324,80911.248070260946,91025.154079043554,101139.06008782618,70797.342061478324,80911.248070260946,91025.154079043554,101139.06008782618,111252.96609660878,80911.248070260946,91025.154079043554,101139.06008782618,111252.96609660878,121366.87210539142]
[411,{"$f":"花园升级数值表!Q412","v":10388700.835041245},51943.504175206232,62332.205010247475,72720.905845288726,83109.606680329962,93498.307515371198,62332.205010247475,72720.905845288726,83109.606680329962,93498.307515371198,103887.00835041246,72720.905845288726,83109.606680329962,93498.307515371198,103887.00835041246,114275.7091854537,83109.606680329962,93498.307515371198,103887.00835041246,114275.7091854537,124664.41002049495]
[412,{"$f":"花园升级数值表!Q413","v":10670961.836729314},53354.809183646576,64025.771020375883,74696.732857105206,85367.694693834521,96038.656530563821,64025.771020375883,74696.732857105206,85367.694693834521,96038.656530563821,106709.61836729315,74696.732857105206,85367.694693834521,96038.656530563821,106709.61836729315,117380.58020402245,85367.694693834521,96038.656530563821,106709.61836729315,117380.58020402245,128051.54204075177]
[413,{"$f":"花园升级数值表!Q414","v":10960891.869833244},54804.459349166224,65765.351218999465,76726.243088832707,87687.134958665949,98648.026828499191,65765.351218999465,76726.243088832707,87687.134958665949,98648.026828499191,109608.91869833245,76726.243088832707,87687.134958665949,98648.026828499191,109608.91869833245,120569.81056816567,87687.134958665949,98648.026828499191,109608.91869833245,120569.81056816567,131530.70243799893]
[414,{"$f":"花园升级数值表!Q415","v":11258699.301936612},56293.496509683057,67552.195811619677,78810.895113556282,90069.594415492887,101328.29371742949,67552.195811619677,78810.895113556282,90069.594415492887,101328.29371742949,112586.99301936611,78810.895113556282,90069.594415492887,101328.29371742949,112586.99301936611,123845.69232130272,90069.594415492887,101328.29371742949,112586.99301936611,123845.69232130272,135104.39162323935]
[415,{"$f":"花园升级数值表!Q416","v":11564598.161970235},57822.990809851181,69387.588971821417,80952.187133791653,92516.785295761889,104081.38345773211,69387.588971821417,80952.187133791653,92516.785295761889,104081.38345773211,115645.98161970236,80952.187133791653,92516.785295761889,104081.38345773211,115645.98161970236,127210.57978167258,92516.785295761889,104081.38345773211,115645.98161970236,127210.57978167258,138775.17794364283]
[416,{"$f":"花园升级数值表!Q417","v":11878808.294030959},59394.041470154792,71272.849764185754,83151.658058216708,95030.466352247677,106909.27464627862,71272.849764185754,83151.658058216708,95030.466352247677,106909.27464627862,118788.08294030958,83151.658058216708,95030.466352247677,106909.27464627862,118788.08294030958,130666.89123434054,95030.466352247677,106909.27464627862,118788.08294030958,130666.89123434054,142545.69952837151]
[417,{"$f":"花园升级数值表!Q418","v":12201555.515379786},61007.77757689893,73209.333092278714,85410.888607658504,97612.444123038294,109813.99963841807,73209.333092278714,85410.888607658504,97612.444123038294,109813.99963841807,122015.55515379786,85410.888607658504,97612.444123038294,109813.99963841807,122015.55515379786,134217.11066917764,97612.444123038294,109813.99963841807,122015.55515379786,134217.11066917764,146418.66618455743]
[418,{"$f":"花园升级数值表!Q419","v":12533071.778732646},62665.35889366323,75198.430672395873,87731.50245112853,100264.57422986117,112797.6460085938,75198.430672395873,87731.50245112853,100264.57422986117,112797.6460085938,125330.71778732646,87731.50245112853,100264.57422986117,112797.6460085938,125330.71778732646,137863.7895660591,100264.57422986117,112797.6460085938,125330.71778732646,137863.7895660591,150396.86134479175]
[419,{"$f":"花园升级数值表!Q420","v":12873595.338960815},64367.976694804078,77241.572033764896,90115.167372725715,102988.76271168652,115862.35805064732,77241.572033764896,90115.167372725715,102988.76271168652,115862.35805064732,128735.95338960816,90115.167372725715,102988.76271168652,115862.35805064732,128735.95338960816,141609.54872856895,102988.76271168652,115862.35805064732,128735.95338960816,141609.54872856895,154483.14406752979]
[420,{"$f":"花园升级数值表!Q421","v":13223370.924320372},66116.854621601859,79340.225545922236,92563.596470242599,105786.96739456298,119010.33831888334,79340.225545922236,92563.596470242599,105786.96739456298,119010.33831888334,132233.70924320372,92563.596470242599,105786.96739456298,119010.33831888334,132233.70924320372,145457.08016752408,105786.96739456298,119010.33831888334,132233.70924320372,145457.08016752408,158680.45109184447]
[421,{"$f":"花园升级数值表!Q422","v":13582649.912334163},67913.249561670818,81495.899474004982,95078.549386339146,108661.19929867331,122243.84921100746,81495.899474004982,95078.549386339146,108661.19929867331,122243.84921100746,135826.49912334164,95078.549386339146,108661.19929867331,122243.84921100746,135826.49912334164,149409.14903567577,108661.19929867331,122243.84921100746,135826.49912334164,149409.14903567577,162991.79894800996]
[422,{"$f":"花园升级数值表!Q423","v":13951690.510452276},69758.452552261384,83710.143062713658,97661.833573165932,111613.52408361821,125565.21459407048,83710.143062713658,97661.833573165932,111613.52408361821,125565.21459407048,139516.90510452277,97661.833573165932,111613.52408361821,125565.21459407048,139516.90510452277,153468.59561497503,111613.52408361821,125565.21459407048,139516.90510452277,153468.59561497503,167420.28612542732]
[423,{"$f":"花园升级数值表!Q424","v":14330757.941621257},71653.789708106284,85984.547649727538,100315.30559134881,114646.06353297006,128976.8214745913,85984.547649727538,100315.30559134881,114646.06353297006,128976.8214745913,143307.57941621257,100315.30559134881,114646.06353297006,128976.8214745913,143307.57941621257,157638.33735783381,114646.06353297006,128976.8214745913,143307.57941621257,157638.33735783381,171969.09529945508]
[424,{"$f":"花园升级数值表!Q425","v":14720124.634895116},73600.623174475579,88320.747809370703,103040.87244426581,117760.99707916094,132481.12171405603,88320.747809370703,103040.87244426581,117760.99707916094,132481.12171405603,147201.24634895116,103040.87244426581,117760.99707916094,132481.12171405603,147201.24634895116,161921.37098384628,117760.99707916094,132481.12171405603,147201.24634895116,161921.37098384628,176641.49561874141]
[425,{"$f":"花园升级数值表!Q426","v":15120070.421225199},75600.352106125996,90720.422527351198,105840.4929485764,120960.5633698016,136080.63379102678,90720.422527351198,105840.4929485764,120960.5633698016,136080.63379102678,151200.70421225199,105840.4929485764,120960.5633698016,136080.63379102678,151200.70421225199,166320.77463347718,120960.5633698016,136080.63379102678,151200.70421225199,166320.77463347718,181440.8450547024]
[426,{"$f":"花园升级数值表!Q427","v":15530882.734569894},77654.413672849478,93185.296407419373,108716.17914198925,124247.06187655915,139777.94461112903,93185.296407419373,108716.17914198925,124247.06187655915,139777.94461112903,155308.82734569896,108716.17914198925,124247.06187655915,139777.94461112903,155308.82734569896,170839.71008026882,124247.06187655915,139777.94461112903,155308.82734569896,170839.71008026882,186370.59281483875]
[427,{"$f":"花园升级数值表!Q428","v":15952856.818468155},79764.284092340778,95717.140910808928,111669.99772927709,127622.85454774524,143575.71136621339,95717.140910808928,111669.99772927709,127622.85454774524,143575.71136621339,159528.56818468156,111669.99772927709,127622.85454774524,143575.71136621339,159528.56818468156,175481.42500314969,127622.85454774524,143575.71136621339,159528.56818468156,175481.42500314969,191434.28182161786]
[428,{"$f":"花园升级数值表!Q429","v":16386295.938225934},81931.479691129673,98317.775629355601,114704.07156758154,131090.36750580749,147476.66344403339,98317.775629355601,114704.07156758154,131090.36750580749,147476.66344403339,163862.95938225935,114704.07156758154,131090.36750580749,147476.66344403339,163862.95938225935,180249.25532048527,131090.36750580749,147476.66344403339,163862.95938225935,180249.25532048527,196635.5512587112]
[429,{"$f":"花园升级数值表!Q430","v":16831511.598867536},84157.55799433768,100989.06959320522,117820.58119207276,134652.09279094028,151483.60438980782,100989.06959320522,117820.58119207276,134652.09279094028,151483.60438980782,168315.11598867536,117820.58119207276,134652.09279094028,151483.60438980782,168315.11598867536,185146.62758754287,134652.09279094028,151483.60438980782,168315.11598867536,185146.62758754287,201978.13918641044]
[430,{"$f":"花园升级数值表!Q431","v":17288823.769008767},86444.118845043835,103732.9426140526,121021.76638306137,138310.59015207013,155599.4139210789,103732.9426140526,121021.76638306137,138310.59015207013,155599.4139210789,172888.23769008767,121021.76638306137,138310.59015207013,155599.4139210789,172888.23769008767,190177.06145909641,138310.59015207013,155599.4139210789,172888.23769008767,190177.06145909641,207465.88522810521]
[431,{"$f":"花园升级数值表!Q432","v":17758561.110812735},88792.805554063671,106551.3666648764,124309.92777568915,142068.48888650187,159827.04999731461,106551.3666648764,124309.92777568915,142068.48888650187,159827.04999731461,177585.61110812734,124309.92777568915,142068.48888650187,159827.04999731461,177585.61110812734,195344.17221894008,142068.48888650187,159827.04999731461,177585.61110812734,195344.17221894008,213102.73332975281]
[432,{"$f":"花园升级数值表!Q433","v":18241061.216193505},91205.306080967523,109446.36729716104,127687.42851335453,145928.48972954805,164169.55094574153,109446.36729716104,127687.42851335453,145928.48972954805,164169.55094574153,182410.61216193505,127687.42851335453,145928.48972954805,164169.55094574153,182410.61216193505,200651.67337812853,145928.48972954805,164169.55094574153,182410.61216193505,200651.67337812853,218892.73459432207]
[433,{"$f":"花园升级数值表!Q434","v":18736670.849437494},93683.354247187468,112420.02509662496,131156.69594606245,149893.36679549995,168630.03764493743,112420.02509662496,131156.69594606245,149893.36679549995,168630.03764493743,187366.70849437494,131156.69594606245,149893.36679549995,168630.03764493743,187366.70849437494,206103.37934381241,149893.36679549995,168630.03764493743,187366.70849437494,206103.37934381241,224840.05019324992]
[434,{"$f":"花园升级数值表!Q435","v":19245746.19641671},96228.730982083551,115474.47717850027,134720.22337491697,153965.96957133367,173211.71576775037,115474.47717850027,134720.22337491697,153965.96957133367,173211.71576775037,192457.4619641671,134720.22337491697,153965.96957133367,173211.71576775037,192457.4619641671,211703.2081605838,153965.96957133367,173211.71576775037,192457.4619641671,211703.2081605838,230948.95435700053]
[435,{"$f":"花园升级数值表!Q436","v":19768653.120573349},98843.265602866755,118611.9187234401,138380.57184401344,158149.22496458679,177917.87808516013,118611.9187234401,138380.57184401344,158149.22496458679,177917.87808516013,197686.53120573351,138380.57184401344,158149.22496458679,177917.87808516013,197686.53120573351,217455.18432630683,158149.22496458679,177917.87808516013,197686.53120573351,217455.18432630683,237223.83744688021]
[436,{"$f":"花园升级数值表!Q437","v":20305767.425859317},101528.83712929659,121834.60455515591,142140.37198101523,162446.13940687454,182751.90683273383,121834.60455515591,142140.37198101523,162446.13940687454,182751.90683273383,203057.67425859318,142140.37198101523,162446.13940687454,182751.90683273383,203057.67425859318,223363.44168445247,162446.13940687454,182751.90683273383,203057.67425859318,223363.44168445247,243669.20911031181]
[437,{"$f":"花园升级数值表!Q438","v":20857475.126819912},104287.37563409956,125144.85076091948,146002.3258877394,166859.80101455931,187717.2761413792,125144.85076091948,146002.3258877394,166859.80101455931,187717.2761413792,208574.75126819912,146002.3258877394,166859.80101455931,187717.2761413792,208574.75126819912,229432.22639501901,166859.80101455931,187717.2761413792,208574.75126819912,229432.22639501901,250289.70152183896]
[438,{"$f":"花园升级数值表!Q439","v":21424172.726015616},107120.86363007808,128545.0363560937,149969.20908210933,171393.38180812492,192817.55453414054,128545.0363560937,149969.20908210933,171393.38180812492,192817.55453414054,214241.72726015616,149969.20908210933,171393.38180812492,192817.55453414054,214241.72726015616,235665.89998617177,171393.38180812492,192817.55453414054,214241.72726015616,235665.89998617177,257090.07271218739]
[439,{"$f":"花园升级数值表!Q440","v":22006267.498981461},110031.3374949073,132037.60499388876,154043.87249287023,176050.1399918517,198056.40749083314,132037.60499388876,154043.87249287023,176050.1399918517,198056.40749083314,220062.67498981461,154043.87249287023,176050.1399918517,198056.40749083314,220062.67498981461,242068.94248879605,176050.1399918517,198056.40749083314,220062.67498981461,242068.94248879605,264075.20998777752]
[440,{"$f":"花园升级数值表!Q441","v":22604177.786928773},113020.88893464387,135625.06672157263,158229.2445085014,180833.42229543018,203437.60008235893,135625.06672157263,158229.2445085014,180833.42229543018,203437.60008235893,226041.77786928773,158229.2445085014,180833.42229543018,203437.60008235893,226041.77786928773,248645.95565621648,180833.42229543018,203437.60008235893,226041.77786928773,248645.95565621648,271250.13344314526]
[441,{"$f":"花园升级数值表!Q442","v":23218333.297399625},116091.66648699813,139309.99978439775,162528.33308179738,185746.66637919701,208964.99967659661,139309.99978439775,162528.33308179738,185746.66637919701,208964.99967659661,232183.33297399626,162528.33308179738,185746.66637919701,208964.99967659661,232183.33297399626,255401.66627139586,185746.66637919701,208964.99967659661,232183.33297399626,255401.66627139586,278619.99956879549]
[442,{"$f":"花园升级数值表!Q443","v":23849175.413089965},119245.87706544982,143095.05247853979,166944.22789162977,190793.40330471972,214642.57871780967,143095.05247853979,166944.22789162977,190793.40330471972,214642.57871780967,238491.75413089964,166944.22789162977,190793.40330471972,214642.57871780967,238491.75413089964,262340.92954398959,190793.40330471972,214642.57871780967,238491.75413089964,262340.92954398959,286190.10495707957]
[443,{"$f":"花园升级数值表!Q444","v":24497157.509063616},122485.78754531809,146982.94505438171,171480.10256344531,195977.26007250894,220474.41758157252,146982.94505438171,171480.10256344531,195977.26007250894,220474.41758157252,244971.57509063618,171480.10256344531,195977.26007250894,220474.41758157252,244971.57509063618,269468.73259969975,195977.26007250894,220474.41758157252,244971.57509063618,269468.73259969975,293965.89010876341]
[444,{"$f":"花园升级数值表!Q445","v":25162745.278584879},125813.72639292439,150976.47167150927,176139.21695009415,201301.96222867904,226464.7075072639,150976.47167150927,176139.21695009415,201301.96222867904,226464.7075072639,251627.45278584879,176139.21695009415,201301.96222867904,226464.7075072639,251627.45278584879,276790.19806443364,201301.96222867904,226464.7075072639,251627.45278584879,276790.19806443364,301952.94334301853]
[445,{"$f":"花园升级数值表!Q446","v":25846417.067804027},129232.08533902014,155078.50240682418,180924.9194746282,206771.33654243223,232617.75361023622,155078.50240682418,180924.9194746282,206771.33654243223,232617.75361023622,258464.17067804027,180924.9194746282,206771.33654243223,232617.75361023622,258464.17067804027,284310.58774584427,206771.33654243223,232617.75361023622,258464.17067804027,284310.58774584427,310157.00481364835]
[446,{"$f":"花园升级数值表!Q447","v":26548664.219536256},132743.32109768127,159291.98531721754,185840.6495367538,212389.31375629007,238937.97797582627,159291.98531721754,185840.6495367538,212389.31375629007,238937.97797582627,265486.64219536254,185840.6495367538,212389.31375629007,238937.97797582627,265486.64219536254,292035.30641489878,212389.31375629007,238937.97797582627,265486.64219536254,292035.30641489878,318583.97063443507]
[447,{"$f":"花园升级数值表!Q448","v":27269991.426381059},136349.95713190531,163619.94855828636,190889.93998466741,218159.93141104848,245429.92283742951,163619.94855828636,190889.93998466741,218159.93141104848,245429.92283742951,272699.91426381061,190889.93998466741,218159.93141104848,245429.92283742951,272699.91426381061,299969.9056901916,218159.93141104848,245429.92283742951,272699.91426381061,299969.9056901916,327239.89711657271]
[448,{"$f":"花园升级数值表!Q449","v":28010917.09343582},140054.5854671791,168065.50256061493,196076.41965405075,224087.33674748655,252098.25384092235,168065.50256061493,196076.41965405075,224087.33674748655,252098.25384092235,280109.1709343582,196076.41965405075,224087.33674748655,252098.25384092235,280109.1709343582,308120.08802779403,224087.33674748655,252098.25384092235,280109.1709343582,308120.08802779403,336131.00512122986]
[449,{"$f":"花园升级数值表!Q450","v":28771973.710864469},143859.86855432234,172631.84226518683,201403.81597605129,230175.78968691576,258947.76339778022,172631.84226518683,201403.81597605129,230175.78968691576,258947.76339778022,287719.73710864468,201403.81597605129,230175.78968691576,258947.76339778022,287719.73710864468,316491.71081950917,230175.78968691576,258947.76339778022,287719.73710864468,316491.71081950917,345263.68453037366]
[450,{"$f":"花园升级数值表!Q451","v":29553708.236588653},{"$f":"B452*0.005","v":147768.54118294327},{"$f":"B452*0.006","v":177322.24941953193},{"$f":"B452*0.007","v":206875.95765612059},{"$f":"B452*0.008","v":236429.66589270922},{"$f":"B452*0.009","v":265983.37412929785},{"$f":"B452*0.006","v":177322.24941953193},{"$f":"B452*0.007","v":206875.95765612059},{"$f":"B452*0.008","v":236429.66589270922},{"$f":"B452*0.009","v":265983.37412929785},{"$f":"B452*0.01","v":295537.08236588654},{"$f":"(B452)*0.007","v":206875.95765612059},{"$f":"B452*0.008","v":236429.66589270922},{"$f":"B452*0.009","v":265983.37412929785},{"$f":"B452*0.01","v":295537.08236588654},{"$f":"B452*0.011","v":325090.79060247517},{"$f":"B452*0.008","v":236429.66589270922},{"$f":"B452*0.009","v":265983.37412929785},{"$f":"B452*0.01","v":295537.08236588654},{"$f":"B452*0.011","v":325090.79060247517},{"$f":"B452*0.012","v":354644.49883906386}]
[451,{"$f":"花园升级数值表!Q452","v":30356682.489376765},151783.41244688383,182140.0949362606,212496.77742563735,242853.45991501413,273210.14240439085,182140.0949362606,212496.77742563735,242853.45991501413,273210.14240439085,303566.82489376765,212496.77742563735,242853.45991501413,273210.14240439085,303566.82489376765,333923.5073831444,242853.45991501413,273210.14240439085,303566.82489376765,333923.5073831444,364280.18987252121]
[452,{"$f":"花园升级数值表!Q453","v":31181473.552613139},155907.3677630657,187088.84131567884,218270.31486829199,249451.78842090513,280633.26197351824,187088.84131567884,218270.31486829199,249451.78842090513,280633.26197351824,311814.73552613141,218270.31486829199,249451.78842090513,280633.26197351824,311814.73552613141,342996.20907874452,249451.78842090513,280633.26197351824,311814.73552613141,342996.20907874452,374177.68263135769]
[453,{"$f":"花园升级数值表!Q454","v":32028674.189037617},160143.3709451881,192172.04513422571,224200.71932326333,256229.39351230094,288258.06770133856,192172.04513422571,224200.71932326333,256229.39351230094,288258.06770133856,320286.7418903762,224200.71932326333,256229.39351230094,288258.06770133856,320286.7418903762,352315.41607941379,256229.39351230094,288258.06770133856,320286.7418903762,352315.41607941379,384344.09026845143]
[454,{"$f":"花园升级数值表!Q455","v":32898893.26675377},164494.46633376885,197393.35960052261,230292.2528672764,263191.14613403019,296090.03940078389,197393.35960052261,230292.2528672764,263191.14613403019,296090.03940078389,328988.93266753771,230292.2528672764,263191.14613403019,296090.03940078389,328988.93266753771,361887.82593429147,263191.14613403019,296090.03940078389,328988.93266753771,361887.82593429147,394786.71920104523]
[455,{"$f":"花园升级数值表!Q456","v":33792756.196811467},168963.78098405735,202756.53718086882,236549.29337768027,270342.04957449174,304134.80577130319,202756.53718086882,236549.29337768027,270342.04957449174,304134.80577130319,337927.56196811469,236549.29337768027,270342.04957449174,304134.80577130319,337927.56196811469,371720.31816492614,270342.04957449174,304134.80577130319,337927.56196811469,371720.31816492614,405513.07436173764]
[456,{"$f":"花园升级数值表!Q457","v":34710905.382678814},173554.52691339407,208265.43229607289,242976.3376787517,277687.24306143052,312398.14844410931,208265.43229607289,242976.3376787517,277687.24306143052,312398.14844410931,347109.05382678815,242976.3376787517,277687.24306143052,312398.14844410931,347109.05382678815,381819.95920946694,277687.24306143052,312398.14844410931,347109.05382678815,381819.95920946694,416530.86459214578]
[457,{"$f":"花园升级数值表!Q458","v":35654000.681926206},178270.00340963103,213924.00409155723,249578.00477348344,285232.00545540964,320886.00613733585,213924.00409155723,249578.00477348344,285232.00545540964,320886.00613733585,356540.00681926205,249578.00477348344,285232.00545540964,320886.00613733585,356540.00681926205,392194.00750118826,285232.00545540964,320886.00613733585,356540.00681926205,392194.00750118826,427848.00818311446]
[458,{"$f":"花园升级数值表!Q459","v":36622719.880454138},183113.59940227069,219736.31928272484,256359.03916317897,292981.75904363312,329604.47892408719,219736.31928272484,256359.03916317897,292981.75904363312,329604.47892408719,366227.19880454137,256359.03916317897,292981.75904363312,329604.47892408719,366227.19880454137,402849.9186849955,292981.75904363312,329604.47892408719,366227.19880454137,402849.9186849955,439472.63856544968]
[459,{"$f":"花园升级数值表!Q460","v":37617759.179606065},188088.79589803034,225706.55507763638,263324.31425724248,300942.07343684853,338559.83261645457,225706.55507763638,263324.31425724248,300942.07343684853,338559.83261645457,376177.59179606067,263324.31425724248,300942.07343684853,338559.83261645457,376177.59179606067,413795.35097566672,300942.07343684853,338559.83261645457,376177.59179606067,413795.35097566672,451413.11015527276]
[460,{"$f":"花园升级数值表!Q461","v":38639833.696515962},193199.16848257981,231839.00217909578,270478.83587561175,309118.66957212769,347758.50326864363,231839.00217909578,270478.83587561175,309118.66957212769,347758.50326864363,386398.33696515963,270478.83587561175,309118.66957212769,347758.50326864363,386398.33696515963,425038.17066167557,309118.66957212769,347758.50326864363,386398.33696515963,425038.17066167557,463678.00435819157]
[461,{"$f":"花园升级数值表!Q462","v":39689677.978050306},198448.38989025154,238138.06786830185,277827.74584635213,317517.42382440245,357207.10180245276,238138.06786830185,277827.74584635213,317517.42382440245,357207.10180245276,396896.77978050307,277827.74584635213,317517.42382440245,357207.10180245276,396896.77978050307,436586.45775855333,317517.42382440245,357207.10180245276,396896.77978050307,436586.45775855333,476276.1357366037]
[462,{"$f":"花园升级数值表!Q463","v":40768046.528713927},203840.23264356965,244608.27917228357,285376.32570099749,326144.37222971144,366912.41875842534,244608.27917228357,285376.32570099749,326144.37222971144,366912.41875842534,407680.46528713929,285376.32570099749,326144.37222971144,366912.41875842534,407680.46528713929,448448.51181585318,326144.37222971144,366912.41875842534,407680.46528713929,448448.51181585318,489216.55834456714]
[463,{"$f":"花园升级数值表!Q464","v":41875714.352899097},209378.57176449549,251254.2861173946,293130.00047029369,335005.7148231928,376881.42917609186,251254.2861173946,293130.00047029369,335005.7148231928,376881.42917609186,418757.14352899097,293130.00047029369,335005.7148231928,376881.42917609186,418757.14352899097,460632.85788189003,335005.7148231928,376881.42917609186,418757.14352899097,460632.85788189003,502508.5722347892]
[464,{"$f":"花园升级数值表!Q465","v":43013477.511867367},215067.38755933684,258080.8650712042,301094.34258307156,344107.82009493891,387121.29760680627,258080.8650712042,301094.34258307156,344107.82009493891,387121.29760680627,430134.77511867369,301094.34258307156,344107.82009493891,387121.29760680627,430134.77511867369,473148.25263054098,344107.82009493891,387121.29760680627,430134.77511867369,473148.25263054098,516161.7301424084]
[465,{"$f":"花园升级数值表!Q466","v":44182153.695864782},220910.76847932392,265092.92217518872,309275.0758710535,353457.22956691828,397639.383262783,265092.92217518872,309275.0758710535,353457.22956691828,397639.383262783,441821.53695864783,309275.0758710535,353457.22956691828,397639.383262783,441821.53695864783,486003.69065451255,353457.22956691828,397639.383262783,441821.53695864783,486003.69065451255,530185.84435037745]
[466,{"$f":"花园升级数值表!Q467","v":45382582.811781429},226912.91405890716,272295.49687068857,317678.07968247001,363060.66249425145,408443.24530603283,272295.49687068857,317678.07968247001,363060.66249425145,408443.24530603283,453825.82811781432,317678.07968247001,363060.66249425145,408443.24530603283,453825.82811781432,499208.4109295957,363060.66249425145,408443.24530603283,453825.82811781432,499208.4109295957,544590.99374137714]
[467,{"$f":"花园升级数值表!Q468","v":46615627.586777516},233078.13793388757,279693.7655206651,326309.39310744259,372925.02069422015,419540.64828099759,279693.7655206651,326309.39310744259,372925.02069422015,419540.64828099759,466156.27586777514,326309.39310744259,372925.02069422015,419540.64828099759,466156.27586777514,512771.90345455264,372925.02069422015,419540.64828099759,466156.27586777514,512771.90345455264,559387.53104133019]
[468,{"$f":"花园升级数值表!Q469","v":47882174.188310266},239410.87094155134,287293.04512986162,335175.21931817185,383057.39350648213,430939.56769479235,287293.04512986162,335175.21931817185,383057.39350648213,430939.56769479235,478821.74188310269,335175.21931817185,383057.39350648213,430939.56769479235,478821.74188310269,526703.91607141285,383057.39350648213,430939.56769479235,478821.74188310269,526703.91607141285,574586.09025972325]
[469,{"$f":"花园升级数值表!Q470","v":49183132.861006662},245915.66430503331,295098.79716603999,344281.93002704665,393465.0628880533,442648.1957490599,295098.79716603999,344281.93002704665,393465.0628880533,442648.1957490599,491831.32861006662,344281.93002704665,393465.0628880533,442648.1957490599,491831.32861006662,541014.46147107321,393465.0628880533,442648.1957490599,491831.32861006662,541014.46147107321,590197.59433207999]
[470,{"$f":"花园升级数值表!Q471","v":50519438.580840193},252597.19290420096,303116.63148504117,353636.07006588136,404155.50864672154,454674.94722756167,303116.63148504117,353636.07006588136,404155.50864672154,454674.94722756167,505194.38580840192,353636.07006588136,404155.50864672154,454674.94722756167,505194.38580840192,555713.8243892421,404155.50864672154,454674.94722756167,505194.38580840192,555713.8243892421,606233.26297008235]
[471,{"$f":"花园升级数值表!Q472","v":51892051.727081589},259460.25863540795,311352.31036248954,363244.36208957114,415136.41381665273,467028.46554373426,311352.31036248954,363244.36208957114,415136.41381665273,467028.46554373426,518920.51727081591,363244.36208957114,415136.41381665273,467028.46554373426,518920.51727081591,570812.56899789744,415136.41381665273,467028.46554373426,518920.51727081591,570812.56899789744,622704.62072497909]
[472,{"$f":"花园升级数值表!Q473","v":53301958.772506408},266509.79386253207,319811.75263503846,373113.71140754485,426415.6701800513,479717.62895255763,319811.75263503846,373113.71140754485,426415.6701800513,479717.62895255763,533019.58772506414,373113.71140754485,426415.6701800513,479717.62895255763,533019.58772506414,586321.54649757047,426415.6701800513,479717.62895255763,533019.58772506414,586321.54649757047,639623.50527007692]
[473,{"$f":"花园升级数值表!Q474","v":54750172.992355391},273750.86496177694,328501.03795413236,383251.21094648773,438001.38393884315,492751.55693119846,328501.03795413236,383251.21094648773,438001.38393884315,492751.55693119846,547501.72992355388,383251.21094648773,438001.38393884315,492751.55693119846,547501.72992355388,602251.9029159093,438001.38393884315,492751.55693119846,547501.72992355388,602251.9029159093,657002.07590826473]
[474,{"$f":"花园升级数值表!Q475","v":56237735.19255767},281188.67596278834,337426.41115534602,393664.1463479037,449901.88154046139,506139.61673301901,337426.41115534602,393664.1463479037,449901.88154046139,506139.61673301901,562377.35192557669,393664.1463479037,449901.88154046139,506139.61673301901,562377.35192557669,618615.08711813437,449901.88154046139,506139.61673301901,562377.35192557669,618615.08711813437,674852.82231069205]
[475,{"$f":"花园升级数值表!Q476","v":57765714.457739465},288828.57228869735,346594.28674643679,404360.00120417628,462125.71566191572,519891.43011965515,346594.28674643679,404360.00120417628,462125.71566191572,519891.43011965515,577657.14457739471,404360.00120417628,462125.71566191572,519891.43011965515,577657.14457739471,635422.85903513408,462125.71566191572,519891.43011965515,577657.14457739471,635422.85903513408,693188.57349287358]
[476,{"$f":"花园升级数值表!Q477","v":59335208.919556238},296676.04459778121,356011.25351733743,415346.46243689366,474681.67135644989,534016.88027600606,356011.25351733743,415346.46243689366,474681.67135644989,534016.88027600606,593352.08919556241,415346.46243689366,474681.67135644989,534016.88027600606,593352.08919556241,652687.29811511852,474681.67135644989,534016.88027600606,593352.08919556241,652687.29811511852,712022.50703467487]
[477,{"$f":"花园升级数值表!Q478","v":60947346.545900568},304736.73272950284,365684.0792754034,426631.42582130397,487578.77236720454,548526.11891310511,365684.0792754034,426631.42582130397,487578.77236720454,548526.11891310511,609473.46545900567,426631.42582130397,487578.77236720454,548526.11891310511,609473.46545900567,670420.81200490624,487578.77236720454,548526.11891310511,609473.46545900567,670420.81200490624,731368.15855080681]
[478,{"$f":"花园升级数值表!Q479","v":62603285.951552697},313016.42975776352,375619.71570931619,438223.00166086887,500826.28761242155,563429.57356397423,375619.71570931619,438223.00166086887,500826.28761242155,563429.57356397423,626032.85951552703,438223.00166086887,500826.28761242155,563429.57356397423,626032.85951552703,688636.14546707959,500826.28761242155,563429.57356397423,626032.85951552703,688636.14546707959,751239.43141863239]
[479,{"$f":"花园升级数值表!Q480","v":64304217.230856389},321521.08615428198,385825.30338513834,450129.52061599476,514433.73784685112,578737.95507770742,385825.30338513834,450129.52061599476,514433.73784685112,578737.95507770742,643042.17230856395,450129.52061599476,514433.73784685112,578737.95507770742,643042.17230856395,707346.38953942026,514433.73784685112,578737.95507770742,643042.17230856395,707346.38953942026,771650.60677027667]
[480,{"$f":"花园升级数值表!Q481","v":66051362.813018769},330256.81406509387,396308.1768781126,462359.53969113139,528410.90250415017,594462.2653171689,396308.1768781126,462359.53969113139,528410.90250415017,594462.2653171689,660513.62813018775,462359.53969113139,528410.90250415017,594462.2653171689,660513.62813018775,726564.99094320647,528410.90250415017,594462.2653171689,660513.62813018775,726564.99094320647,792616.3537562252]
[481,{"$f":"花园升级数值表!Q482","v":67845978.340648457},339229.89170324232,407075.87004389073,474921.84838453919,542767.82672518771,610613.80506583606,407075.87004389073,474921.84838453919,542767.82672518771,610613.80506583606,678459.78340648464,474921.84838453919,542767.82672518771,610613.80506583606,678459.78340648464,746305.76174713299,542767.82672518771,610613.80506583606,678459.78340648464,746305.76174713299,814151.74008778145]
[482,{"$f":"花园升级数值表!Q483","v":69689353.572163865},348446.76786081935,418136.1214329832,487825.47500514705,557514.82857731089,627204.18214947474,418136.1214329832,487825.47500514705,557514.82857731089,627204.18214947474,696893.53572163871,487825.47500514705,557514.82857731089,627204.18214947474,696893.53572163871,766582.88929380244,557514.82857731089,627204.18214947474,696893.53572163871,766582.88929380244,836272.2428659664]
[483,{"$f":"花园升级数值表!Q484","v":71582813.308719531},357914.06654359767,429496.87985231722,501079.6931610367,572662.50646975625,644245.31977847568,429496.87985231722,501079.6931610367,572662.50646975625,644245.31977847568,715828.13308719534,501079.6931610367,572662.50646975625,644245.31977847568,715828.13308719534,787410.94639591477,572662.50646975625,644245.31977847568,715828.13308719534,787410.94639591477,858993.75970463443]
[484,{"$f":"花园升级数值表!Q485","v":73527718.34631744},367638.59173158719,441166.31007790467,514694.02842422208,588221.74677053955,661749.46511685697,441166.31007790467,514694.02842422208,588221.74677053955,661749.46511685697,735277.18346317438,514694.02842422208,588221.74677053955,661749.46511685697,735277.18346317438,808804.9018094918,588221.74677053955,661749.46511685697,735277.18346317438,808804.9018094918,882332.62015580933]
[485,{"$f":"花园升级数值表!Q486","v":75525466.453786924},377627.33226893464,453152.79872272158,528678.26517650846,604203.7316302954,679729.19808408222,453152.79872272158,528678.26517650846,604203.7316302954,679729.19808408222,755254.66453786928,528678.26517650846,604203.7316302954,679729.19808408222,755254.66453786928,830780.1309916561,604203.7316302954,679729.19808408222,755254.66453786928,830780.1309916561,906305.59744544316]
[486,{"$f":"花园升级数值表!Q487","v":77577493.377336279},387887.46688668139,465464.96026401769,543042.45364135399,620619.94701869029,698197.44039602648,465464.96026401769,543042.45364135399,620619.94701869029,698197.44039602648,775774.93377336278,543042.45364135399,620619.94701869029,698197.44039602648,775774.93377336278,853352.42715069896,620619.94701869029,698197.44039602648,775774.93377336278,853352.42715069896,930929.92052803538]
[487,{"$f":"花园升级数值表!Q488","v":79685273.872398525},398426.36936199263,478111.64323439117,557796.91710678965,637482.19097918819,717167.46485158673,478111.64323439117,557796.91710678965,637482.19097918819,717167.46485158673,796852.73872398527,557796.91710678965,637482.19097918819,717167.46485158673,796852.73872398527,876538.01259638369,637482.19097918819,717167.46485158673,796852.73872398527,876538.01259638369,956223.28646878235]
[488,{"$f":"花园升级数值表!Q489","v":81850322.763511568},409251.61381755787,491101.93658106943,572952.25934458093,654802.58210809261,736652.90487160406,491101.93658106943,572952.25934458093,654802.58210809261,736652.90487160406,818503.22763511573,572952.25934458093,654802.58210809261,736652.90487160406,818503.22763511573,900353.55039862718,654802.58210809261,736652.90487160406,818503.22763511573,900353.55039862718,982203.87316213886]
[489,{"$f":"花园升级数值表!Q490","v":84074196.032996148},420370.98016498075,504445.17619797692,588519.37223097309,672593.56826396915,756667.76429696532,504445.17619797692,588519.37223097309,672593.56826396915,756667.76429696532,840741.9603299615,588519.37223097309,672593.56826396915,756667.76429696532,840741.9603299615,924816.15636295755,672593.56826396915,756667.76429696532,840741.9603299615,924816.15636295755,1008890.3523959538]
[490,{"$f":"花园升级数值表!Q491","v":86358491.93921265},431792.45969606325,518150.95163527591,604509.44357448851,690867.93551370117,777226.42745291383,518150.95163527591,604509.44357448851,690867.93551370117,777226.42745291383,863584.9193921265,604509.44357448851,690867.93551370117,777226.42745291383,863584.9193921265,949943.41133133904,690867.93551370117,777226.42745291383,863584.9193921265,949943.41133133904,1036301.9032705518]
[491,{"$f":"花园升级数值表!Q492","v":88704852.165201038},443524.26082600519,532229.11299120623,620933.96515640733,709638.81732160831,798343.66948680929,532229.11299120623,620933.96515640733,709638.81732160831,798343.66948680929,887048.52165201039,620933.96515640733,709638.81732160831,798343.66948680929,887048.52165201039,975753.37381721137,709638.81732160831,798343.66948680929,887048.52165201039,975753.37381721137,1064458.2259824125]
[492,{"$f":"花园升级数值表!Q493","v":91114962.998529568},455574.81499264785,546689.7779911774,637804.74098970694,728919.70398823661,820034.66698676604,546689.7779911774,637804.74098970694,728919.70398823661,820034.66698676604,911149.6299852957,637804.74098970694,728919.70398823661,820034.66698676604,911149.6299852957,1002264.5929838252,728919.70398823661,820034.66698676604,911149.6299852957,1002264.5929838252,1093379.5559823548]
[493,{"$f":"花园升级数值表!Q494","v":93590556.543199629},467952.78271599812,561543.33925919782,655133.8958023974,748724.45234559709,842315.00888879655,561543.33925919782,655133.8958023974,748724.45234559709,842315.00888879655,935905.56543199625,655133.8958023974,748724.45234559709,842315.00888879655,935905.56543199625,1029496.1219751958,748724.45234559709,842315.00888879655,935905.56543199625,1029496.1219751958,1123086.6785183956]
[494,{"$f":"花园升级数值表!Q495","v":96133411.964478359},480667.05982239178,576800.47178687016,672933.88375134848,769067.29571582691,865200.70768030512,576800.47178687016,672933.88375134848,769067.29571582691,865200.70768030512,961334.11964478355,672933.88375134848,769067.29571582691,865200.70768030512,961334.11964478355,1057467.5316092619,769067.29571582691,865200.70768030512,961334.11964478355,1057467.5316092619,1153600.9435737403]
[495,{"$f":"花园升级数值表!Q496","v":98745356.767553225},493726.78383776615,592472.14060531941,691217.49737287255,789962.8541404258,888708.21090797894,592472.14060531941,691217.49737287255,789962.8541404258,888708.21090797894,987453.56767553231,691217.49737287255,789962.8541404258,888708.21090797894,987453.56767553231,1086198.9244430854,789962.8541404258,888708.21090797894,987453.56767553231,1086198.9244430854,1184944.2812106388]
[496,{"$f":"花园升级数值表!Q497","v":101428268.11092761},507141.34055463807,608569.60866556573,709997.87677649327,811426.14488742093,912854.41299834847,608569.60866556573,709997.87677649327,811426.14488742093,912854.41299834847,1014282.6811092761,709997.87677649327,811426.14488742093,912854.41299834847,1014282.6811092761,1115710.9492202036,811426.14488742093,912854.41299834847,1014282.6811092761,1115710.9492202036,1217139.2173311315]
[497,{"$f":"花园升级数值表!Q498","v":104184074.15550146},520920.37077750731,625104.44493300875,729288.51908851019,833472.59324401163,937656.66739951307,625104.44493300875,729288.51908851019,833472.59324401163,937656.66739951307,1041840.7415550146,729288.51908851019,833472.59324401163,937656.66739951307,1041840.7415550146,1146024.8157105159,833472.59324401163,937656.66739951307,1041840.7415550146,1146024.8157105159,1250208.8898660175]
[498,{"$f":"花园升级数值表!Q499","v":107014755.4503065},535073.77725153253,642088.53270183899,749103.28815214557,856118.04360245203,963132.79905275849,642088.53270183899,749103.28815214557,856118.04360245203,963132.79905275849,1070147.5545030651,749103.28815214557,856118.04360245203,963132.79905275849,1070147.5545030651,1177162.3099533715,856118.04360245203,963132.79905275849,1070147.5545030651,1177162.3099533715,1284177.065403678]
[499,{"$f":"花园升级数值表!Q500","v":109922346.35589132},549611.7317794566,659534.07813534793,769456.42449123925,879378.77084713057,989301.11720302177,659534.07813534793,769456.42449123925,879378.77084713057,989301.11720302177,1099223.4635589132,769456.42449123925,879378.77084713057,989301.11720302177,1099223.4635589132,1209145.8099148045,879378.77084713057,989301.11720302177,1099223.4635589132,1209145.8099148045,1319068.1562706959]
[500,{"$f":"花园升级数值表!Q501","v":112908936.50638086},564544.68253190431,677453.61903828511,790362.55554466601,903271.49205104692,1016180.4285574276,677453.61903828511,790362.55554466601,903271.49205104692,1016180.4285574276,1129089.3650638086,790362.55554466601,903271.49205104692,1016180.4285574276,1129089.3650638086,1241998.3015701894,903271.49205104692,1016180.4285574276,1129089.3650638086,1241998.3015701894,1354907.2380765702]
[501,{"$f":"花园升级数值表!Q502","v":115976672.3112592},579883.361556296,695860.0338675552,811836.70617881441,927813.37849007361,1043790.0508013327,695860.0338675552,811836.70617881441,927813.37849007361,1043790.0508013327,1159766.723112592,811836.70617881441,927813.37849007361,1043790.0508013327,1159766.723112592,1275743.395423851,927813.37849007361,1043790.0508013327,1159766.723112592,1275743.395423851,1391720.0677351104]
[502,{"$f":"花园升级数值表!Q503","v":119127758.4979561},595638.79248978046,714766.55098773655,833894.30948569265,953022.06798364874,1072149.8264816047,714766.55098773655,833894.30948569265,953022.06798364874,1072149.8264816047,1191277.5849795609,833894.30948569265,953022.06798364874,1072149.8264816047,1191277.5849795609,1310405.3434775169,953022.06798364874,1072149.8264816047,1191277.5849795609,1310405.3434775169,1429533.1019754731]
[503,{"$f":"花园升级数值表!Q504","v":122364459.69634561},611822.29848172807,734186.75817807368,856551.21787441929,978915.67757076491,1101280.1372671104,734186.75817807368,856551.21787441929,978915.67757076491,1101280.1372671104,1223644.5969634561,856551.21787441929,978915.67757076491,1101280.1372671104,1223644.5969634561,1346009.0566598016,978915.67757076491,1101280.1372671104,1223644.5969634561,1346009.0566598016,1468373.5163561474]
[504,{"$f":"花园升级数值表!Q505","v":125689102.0662953},628445.51033147646,754134.61239777179,879823.71446406713,1005512.8165303624,1131201.9185966577,754134.61239777179,879823.71446406713,1005512.8165303624,1131201.9185966577,1256891.0206629529,879823.71446406713,1005512.8165303624,1131201.9185966577,1256891.0206629529,1382580.1227292481,1005512.8165303624,1131201.9185966577,1256891.0206629529,1382580.1227292481,1508269.2247955436]
[505,{"$f":"花园升级数值表!Q506","v":129104074.96943648},645520.37484718242,774624.44981661893,903728.52478605544,1032832.5997554918,1161936.6747249283,774624.44981661893,903728.52478605544,1032832.5997554918,1161936.6747249283,1291040.7496943648,903728.52478605544,1032832.5997554918,1161936.6747249283,1291040.7496943648,1420144.8246638011,1032832.5997554918,1161936.6747249283,1291040.7496943648,1420144.8246638011,1549248.8996332379]
[506,{"$f":"花园升级数值表!Q507","v":132611832.68635607},663059.1634317803,795670.99611813645,928282.82880449248,1060894.6614908485,1193506.4941772046,795670.99611813645,928282.82880449248,1060894.6614908485,1193506.4941772046,1326118.3268635606,928282.82880449248,1060894.6614908485,1193506.4941772046,1326118.3268635606,1458730.1595499166,1060894.6614908485,1193506.4941772046,1326118.3268635606,1458730.1595499166,1591341.9922362729]
[507,{"$f":"花园升级数值表!Q508","v":136214896.18044448},681074.48090222245,817289.37708266685,953504.27326311136,1089719.1694435559,1225934.0656240003,817289.37708266685,953504.27326311136,1089719.1694435559,1225934.0656240003,1362148.9618044449,953504.27326311136,1089719.1694435559,1225934.0656240003,1362148.9618044449,1498363.8579848891,1089719.1694435559,1225934.0656240003,1362148.9618044449,1498363.8579848891,1634578.7541653337]
[508,{"$f":"花园升级数值表!Q509","v":139915854.90966704},699579.27454833523,839495.12945800228,979410.98436766933,1119326.8392773364,1259242.6941870034,839495.12945800228,979410.98436766933,1119326.8392773364,1259242.6941870034,1399158.5490966705,979410.98436766933,1119326.8392773364,1259242.6941870034,1399158.5490966705,1539074.4040063375,1119326.8392773364,1259242.6941870034,1399158.5490966705,1539074.4040063375,1678990.2589160046]
[509,{"$f":"花园升级数值表!Q510","v":143717368.68756276},718586.8434378138,862304.21212537657,1006021.5808129393,1149738.9495005021,1293456.3181880647,862304.21212537657,1006021.5808129393,1149738.9495005021,1293456.3181880647,1437173.6868756276,1006021.5808129393,1149738.9495005021,1293456.3181880647,1437173.6868756276,1580891.0555631903,1149738.9495005021,1293456.3181880647,1437173.6868756276,1580891.0555631903,1724608.4242507531]
[510,{"$f":"花园升级数值表!Q511","v":147622169.59480378},738110.84797401889,885733.01756882272,1033355.1871636264,1180977.3567584304,1328599.526353234,885733.01756882272,1033355.1871636264,1180977.3567584304,1328599.526353234,1476221.6959480378,1033355.1871636264,1180977.3567584304,1328599.526353234,1476221.6959480378,1623843.8655428414,1180977.3567584304,1328599.526353234,1476221.6959480378,1623843.8655428414,1771466.0351376454]
[511,{"$f":"花园升级数值表!Q512","v":151633063.9426946},758165.31971347309,909798.38365616766,1061431.4475988622,1213064.5115415568,1364697.5754842514,909798.38365616766,1061431.4475988622,1213064.5115415568,1364697.5754842514,1516330.6394269462,1061431.4475988622,1213064.5115415568,1364697.5754842514,1516330.6394269462,1667963.7033696405,1213064.5115415568,1364697.5754842514,1516330.6394269462,1667963.7033696405,1819596.7673123353]
[512,{"$f":"花园升级数值表!Q513","v":155752934.29001758},778764.67145008792,934517.6057401055,1090270.540030123,1246023.4743201407,1401776.4086101581,934517.6057401055,1090270.540030123,1246023.4743201407,1401776.4086101581,1557529.3429001758,1090270.540030123,1246023.4743201407,1401776.4086101581,1557529.3429001758,1713282.2771901933,1246023.4743201407,1401776.4086101581,1557529.3429001758,1713282.2771901933,1869035.211480211]
[513,{"$f":"花园升级数值表!Q514","v":159984741.51467732},799923.70757338661,959908.44908806391,1119893.1906027412,1279877.9321174186,1439862.6736320958,959908.44908806391,1119893.1906027412,1279877.9321174186,1439862.6736320958,1599847.4151467732,1119893.1906027412,1279877.9321174186,1439862.6736320958,1599847.4151467732,1759832.1566614504,1279877.9321174186,1439862.6736320958,1599847.4151467732,1759832.1566614504,1919816.8981761278]
[514,{"$f":"花园升级数值表!Q515","v":164331526.94163108},{"$f":"B516*0.005","v":821657.63470815541},{"$f":"B516*0.006","v":985989.16164978652},{"$f":"B516*0.007","v":1150320.6885914176},{"$f":"B516*0.008","v":1314652.2155330486},{"$f":"B516*0.009","v":1478983.7424746796},{"$f":"B516*0.006","v":985989.16164978652},{"$f":"B516*0.007","v":1150320.6885914176},{"$f":"B516*0.008","v":1314652.2155330486},{"$f":"B516*0.009","v":1478983.7424746796},{"$f":"B516*0.01","v":1643315.2694163108},{"$f":"(B516)*0.007","v":1150320.6885914176},{"$f":"B516*0.008","v":1314652.2155330486},{"$f":"B516*0.009","v":1478983.7424746796},{"$f":"B516*0.01","v":1643315.2694163108},{"$f":"B516*0.011","v":1807646.7963579418},{"$f":"B516*0.008","v":1314652.2155330486},{"$f":"B516*0.009","v":1478983.7424746796},{"$f":"B516*0.01","v":1643315.2694163108},{"$f":"B516*0.011","v":1807646.7963579418},{"$f":"B516*0.012","v":1971978.323299573}]
[515,{"$f":"花园升级数值表!Q516","v":168796414.52863523},843982.07264317619,1012778.4871718114,1181574.9017004466,1350371.3162290819,1519167.730757717,1012778.4871718114,1181574.9017004466,1350371.3162290819,1519167.730757717,1687964.1452863524,1181574.9017004466,1350371.3162290819,1519167.730757717,1687964.1452863524,1856760.5598149875,1350371.3162290819,1519167.730757717,1687964.1452863524,1856760.5598149875,2025556.9743436228]
[516,{"$f":"花园升级数值表!Q517","v":173382613.11137825},866913.06555689126,1040295.6786682695,1213678.2917796478,1387060.904891026,1560443.5180024041,1040295.6786682695,1213678.2917796478,1387060.904891026,1560443.5180024041,1733826.1311137825,1213678.2917796478,1387060.904891026,1560443.5180024041,1733826.1311137825,1907208.7442251607,1387060.904891026,1560443.5180024041,1733826.1311137825,1907208.7442251607,2080591.3573365391]
[517,{"$f":"花园升级数值表!Q518","v":178093418.70961437},890467.0935480718,1068560.5122576861,1246653.9309673007,1424747.349676915,1602840.7683865291,1068560.5122576861,1246653.9309673007,1424747.349676915,1602840.7683865291,1780934.1870961436,1246653.9309673007,1424747.349676915,1602840.7683865291,1780934.1870961436,1959027.6058057579,1424747.349676915,1602840.7683865291,1780934.1870961436,1959027.6058057579,2137121.0245153722]
[518,{"$f":"花园升级数值表!Q519","v":182932216.89595467},914661.08447977342,1097593.3013757281,1280525.5182716828,1463457.7351676375,1646389.9520635919,1097593.3013757281,1280525.5182716828,1463457.7351676375,1646389.9520635919,1829322.1689595468,1280525.5182716828,1463457.7351676375,1646389.9520635919,1829322.1689595468,2012254.3858555013,1463457.7351676375,1646389.9520635919,1829322.1689595468,2012254.3858555013,2195186.6027514562]
[519,{"$f":"花园升级数值表!Q520","v":187902485.22901767},939512.42614508839,1127414.9113741061,1315317.3966031238,1503219.8818321414,1691122.3670611589,1127414.9113741061,1315317.3966031238,1503219.8818321414,1691122.3670611589,1879024.8522901768,1315317.3966031238,1503219.8818321414,1691122.3670611589,1879024.8522901768,2066927.3375191942,1503219.8818321414,1691122.3670611589,1879024.8522901768,2066927.3375191942,2254829.8227482121]
[520,{"$f":"花园升级数值表!Q521","v":193007795.75269005},965038.97876345029,1158046.7745161403,1351054.5702688303,1544062.3660215205,1737070.1617742104,1158046.7745161403,1351054.5702688303,1544062.3660215205,1737070.1617742104,1930077.9575269006,1351054.5702688303,1544062.3660215205,1737070.1617742104,1930077.9575269006,2123085.7532795905,1544062.3660215205,1737070.1617742104,1930077.9575269006,2123085.7532795905,2316093.5490322807]
[521,{"$f":"花园升级数值表!Q522","v":198251817.56329063},991259.08781645319,1189510.9053797438,1387762.7229430345,1586014.540506325,1784266.3580696154,1189510.9053797438,1387762.7229430345,1586014.540506325,1784266.3580696154,1982518.1756329064,1387762.7229430345,1586014.540506325,1784266.3580696154,1982518.1756329064,2180769.9931961969,1586014.540506325,1784266.3580696154,1982518.1756329064,2180769.9931961969,2379021.8107594876]
[522,{"$f":"花园升级数值表!Q523","v":203638319.44648516},1018191.5972324258,1221829.9166789111,1425468.2361253961,1629106.5555718814,1832744.8750183664,1221829.9166789111,1425468.2361253961,1629106.5555718814,1832744.8750183664,2036383.1944648516,1425468.2361253961,1629106.5555718814,1832744.8750183664,2036383.1944648516,2240021.5139113367,1629106.5555718814,1832744.8750183664,2036383.1944648516,2240021.5139113367,2443659.8333578221]
[523,{"$f":"花园升级数值表!Q524","v":209171172.58584619},1045855.8629292309,1255027.0355150772,1464198.2081009233,1673369.3806867695,1882540.5532726154,1255027.0355150772,1464198.2081009233,1673369.3806867695,1882540.5532726154,2091711.7258584618,1464198.2081009233,1673369.3806867695,1882540.5532726154,2091711.7258584618,2300882.898444308,1673369.3806867695,1882540.5532726154,2091711.7258584618,2300882.898444308,2510054.0710301544]
[524,{"$f":"花园升级数值表!Q525","v":214854353.3450036},1074271.7667250182,1289126.1200700216,1503980.4734150253,1718834.826760029,1933689.1801050324,1289126.1200700216,1503980.4734150253,1718834.826760029,1933689.1801050324,2148543.5334500363,1503980.4734150253,1718834.826760029,1933689.1801050324,2148543.5334500363,2363397.8867950393,1718834.826760029,1933689.1801050324,2148543.5334500363,2363397.8867950393,2578252.2401400432]
[525,{"$f":"花园升级数值表!Q526","v":220691946.12538725},1103459.7306269363,1324151.6767523235,1544843.6228777107,1765535.5690030979,1986227.5151284852,1324151.6767523235,1544843.6228777107,1765535.5690030979,1986227.5151284852,2206919.4612538726,1544843.6228777107,1765535.5690030979,1986227.5151284852,2206919.4612538726,2427611.4073792598,1765535.5690030979,1986227.5151284852,2206919.4612538726,2427611.4073792598,2648303.353504647]
[526,{"$f":"花园升级数值表!Q527","v":226688146.30161411},1133440.7315080706,1360128.8778096847,1586817.0241112988,1813505.170412913,2040193.3167145269,1360128.8778096847,1586817.0241112988,1813505.170412913,2040193.3167145269,2266881.4630161412,1586817.0241112988,1813505.170412913,2040193.3167145269,2266881.4630161412,2493569.6093177549,1813505.170412913,2040193.3167145269,2266881.4630161412,2493569.6093177549,2720257.7556193694]
[527,{"$f":"花园升级数值表!Q528","v":232847263.23662889},1164236.3161831445,1397083.5794197733,1629930.8426564022,1862778.1058930312,2095625.3691296598,1397083.5794197733,1629930.8426564022,1862778.1058930312,2095625.3691296598,2328472.6323662889,1629930.8426564022,1862778.1058930312,2095625.3691296598,2328472.6323662889,2561319.8956029178,1862778.1058930312,2095625.3691296598,2328472.6323662889,2561319.8956029178,2794167.1588395466]
[528,{"$f":"花园升级数值表!Q529","v":239173723.378768},1195868.61689384,1435042.340272608,1674216.0636513759,1913389.7870301441,2152563.5104089119,1435042.340272608,1674216.0636513759,1913389.7870301441,2152563.5104089119,2391737.23378768,1674216.0636513759,1913389.7870301441,2152563.5104089119,2391737.23378768,2630910.9571664478,1913389.7870301441,2152563.5104089119,2391737.23378768,2630910.9571664478,2870084.680545216]
[529,{"$f":"花园升级数值表!Q530","v":245672073.44296929},1228360.3672148464,1474032.4406578159,1719704.5141007851,1965376.5875437544,2211048.6609867234,1474032.4406578159,1719704.5141007851,1965376.5875437544,2211048.6609867234,2456720.7344296928,1719704.5141007851,1965376.5875437544,2211048.6609867234,2456720.7344296928,2702392.8078726619,1965376.5875437544,2211048.6609867234,2456720.7344296928,2702392.8078726619,2948064.8813156318]
[530,{"$f":"花园升级数值表!Q531","v":252346983.67841464},1261734.9183920731,1514081.9020704878,1766428.8857489026,2018775.8694273173,2271122.8531057318,1514081.9020704878,1766428.8857489026,2018775.8694273173,2271122.8531057318,2523469.8367841463,1766428.8857489026,2018775.8694273173,2271122.8531057318,2523469.8367841463,2775816.8204625607,2018775.8694273173,2271122.8531057318,2523469.8367841463,2775816.8204625607,3028163.8041409757]
[531,{"$f":"花园升级数值表!Q532","v":259203251.2249572},1296016.2561247861,1555219.5073497433,1814422.7585747004,2073626.0097996576,2332829.2610246148,1555219.5073497433,1814422.7585747004,2073626.0097996576,2332829.2610246148,2592032.5122495722,1814422.7585747004,2073626.0097996576,2332829.2610246148,2592032.5122495722,2851235.7634745291,2073626.0097996576,2332829.2610246148,2592032.5122495722,2851235.7634745291,3110439.0146994865]
[532,{"$f":"花园升级数值表!Q533","v":266245803.56073931},1331229.0178036967,1597474.8213644358,1863720.6249251752,2129966.4284859146,2396212.2320466535,1597474.8213644358,1863720.6249251752,2129966.4284859146,2396212.2320466535,2662458.0356073934,1863720.6249251752,2129966.4284859146,2396212.2320466535,2662458.0356073934,2928703.8391681323,2129966.4284859146,2396212.2320466535,2662458.0356073934,2928703.8391681323,3194949.6427288717]
[533,{"$f":"花园升级数值表!Q534","v":273479702.04348451},1367398.5102174226,1640878.2122609071,1914357.9143043917,2187837.6163478759,2461317.3183913603,1640878.2122609071,1914357.9143043917,2187837.6163478759,2461317.3183913603,2734797.0204348452,1914357.9143043917,2187837.6163478759,2461317.3183913603,2734797.0204348452,3008276.7224783292,2187837.6163478759,2461317.3183913603,2734797.0204348452,3008276.7224783292,3281756.4245218141]
[534,{"$f":"花园升级数值表!Q535","v":280910145.54800582},1404550.7277400291,1685460.8732880349,1966371.0188360407,2247281.1643840466,2528191.3099320522,1685460.8732880349,1966371.0188360407,2247281.1643840466,2528191.3099320522,2809101.4554800582,1966371.0188360407,2247281.1643840466,2528191.3099320522,2809101.4554800582,3090011.6010280638,2247281.1643840466,2528191.3099320522,2809101.4554800582,3090011.6010280638,3370921.7465760699]
[535,{"$f":"花园升级数值表!Q536","v":288542474.20254517},1442712.3710127259,1731254.845215271,2019797.3194178161,2308339.7936203615,2596882.2678229064,1731254.845215271,2019797.3194178161,2308339.7936203615,2596882.2678229064,2885424.7420254517,2019797.3194178161,2308339.7936203615,2596882.2678229064,2885424.7420254517,3173967.2162279966,2308339.7936203615,2596882.2678229064,2885424.7420254517,3173967.2162279966,3462509.690430542]
[536,{"$f":"花园升级数值表!Q537","v":296382173.22662836},1481910.8661331418,1778293.0393597702,2074675.2125863985,2371057.3858130272,2667439.5590396551,1778293.0393597702,2074675.2125863985,2371057.3858130272,2667439.5590396551,2963821.7322662836,2074675.2125863985,2371057.3858130272,2667439.5590396551,2963821.7322662836,3260203.9054929116,2371057.3858130272,2667439.5590396551,2963821.7322662836,3260203.9054929116,3556586.0787195405]
[537,{"$f":"花园升级数值表!Q538","v":304434876.87319583},1522174.3843659791,1826609.261239175,2131044.1381123709,2435479.0149855665,2739913.8918587621,1826609.261239175,2131044.1381123709,2435479.0149855665,2739913.8918587621,3044348.7687319582,2131044.1381123709,2435479.0149855665,2739913.8918587621,3044348.7687319582,3348783.6456051539,2435479.0149855665,2739913.8918587621,3044348.7687319582,3348783.6456051539,3653218.52247835]
[538,{"$f":"花园升级数值表!Q539","v":312706372.47784054},1563531.8623892027,1876238.2348670433,2188944.607344884,2501650.9798227246,2814357.3523005648,1876238.2348670433,2188944.607344884,2501650.9798227246,2814357.3523005648,3127063.7247784054,2188944.607344884,2501650.9798227246,2814357.3523005648,3127063.7247784054,3439770.0972562456,2501650.9798227246,2814357.3523005648,3127063.7247784054,3439770.0972562456,3752476.4697340867]
[539,{"$f":"花园升级数值表!Q540","v":321202604.61806345},1606013.0230903174,1927215.6277083808,2248418.2323264442,2569620.8369445074,2890823.4415625706,1927215.6277083808,2248418.2323264442,2569620.8369445074,2890823.4415625706,3212026.0461806348,2248418.2323264442,2569620.8369445074,2890823.4415625706,3212026.0461806348,3533228.650798698,2569620.8369445074,2890823.4415625706,3212026.0461806348,3533228.650798698,3854431.2554167616]
[540,{"$f":"花园升级数值表!Q541","v":329929679.38553613},1649648.3969276808,1979578.0763132169,2309507.7556987531,2639437.4350842889,2969367.1144698248,1979578.0763132169,2309507.7556987531,2639437.4350842889,2969367.1144698248,3299296.7938553616,2309507.7556987531,2639437.4350842889,2969367.1144698248,3299296.7938553616,3629226.4732408971,2639437.4350842889,2969367.1144698248,3299296.7938553616,3629226.4732408971,3959156.1526264339]
[541,{"$f":"花园升级数值表!Q542","v":338893868.77444118},1694469.3438722061,2033363.2126466471,2372257.0814210884,2711150.9501955295,3050044.8189699706,2033363.2126466471,2372257.0814210884,2711150.9501955295,3050044.8189699706,3388938.6877444121,2372257.0814210884,2711150.9501955295,3050044.8189699706,3388938.6877444121,3727832.5565188527,2711150.9501955295,3050044.8189699706,3388938.6877444121,3727832.5565188527,4066726.4252932942]
[542,{"$f":"花园升级数值表!Q543","v":348101615.18904287},1740508.0759452144,2088609.6911342572,2436711.3063233001,2784812.921512343,3132914.5367013854,2088609.6911342572,2436711.3063233001,2784812.921512343,3132914.5367013854,3481016.1518904287,2436711.3063233001,2784812.921512343,3132914.5367013854,3481016.1518904287,3829117.7670794711,2784812.921512343,3132914.5367013854,3481016.1518904287,3829117.7670794711,4177219.3822685145]
[543,{"$f":"花园升级数值表!Q544","v":357559536.07372898},1787797.6803686449,2145357.216442374,2502916.752516103,2860476.2885898319,3218035.8246635604,2145357.216442374,2502916.752516103,2860476.2885898319,3218035.8246635604,3575595.3607372898,2502916.752516103,2860476.2885898319,3218035.8246635604,3575595.3607372898,3933154.8968110187,2860476.2885898319,3218035.8246635604,3575595.3607372898,3933154.8968110187,4290714.4328847481]
[544,{"$f":"花园升级数值表!Q545","v":367274428.66885233},1836372.1433442617,2203646.5720131141,2570921.0006819665,2938195.4293508185,3305469.8580196709,2203646.5720131141,2570921.0006819665,2938195.4293508185,3305469.8580196709,3672744.2866885234,2570921.0006819665,2938195.4293508185,3305469.8580196709,3672744.2866885234,4040018.7153573753,2938195.4293508185,3305469.8580196709,3672744.2866885234,4040018.7153573753,4407293.1440262282]
[545,{"$f":"花园升级数值表!Q546","v":377253274.8957848},1886266.3744789241,2263519.649374709,2640772.9242704934,3018026.1991662784,3395279.4740620628,2263519.649374709,2640772.9242704934,3018026.1991662784,3395279.4740620628,3772532.7489578482,2640772.9242704934,3018026.1991662784,3395279.4740620628,3772532.7489578482,4149786.0238536326,3018026.1991662784,3395279.4740620628,3772532.7489578482,4149786.0238536326,4527039.298749418]
[546,{"$f":"花园升级数值表!Q547","v":387503246.37470335},1937516.2318735167,2325019.4782482199,2712522.7246229234,3100025.9709976269,3487529.2173723299,2325019.4782482199,2712522.7246229234,3100025.9709976269,3487529.2173723299,3875032.4637470334,2712522.7246229234,3100025.9709976269,3487529.2173723299,3875032.4637470334,4262535.7101217369,3100025.9709976269,3487529.2173723299,3875032.4637470334,4262535.7101217369,4650038.9564964399]
[547,{"$f":"花园升级数值表!Q548","v":398031709.57870406},1990158.5478935204,2388190.2574722245,2786221.9670509286,3184253.6766296327,3582285.3862083363,2388190.2574722245,2786221.9670509286,3184253.6766296327,3582285.3862083363,3980317.0957870409,2786221.9670509286,3184253.6766296327,3582285.3862083363,3980317.0957870409,4378348.805365744,3184253.6766296327,3582285.3862083363,3980317.0957870409,4378348.805365744,4776380.5149444491]
[548,{"$f":"花园升级数值表!Q549","v":408846231.12795734},2044231.1556397867,2453077.3867677441,2861923.6178957014,3270769.8490236588,3679616.0801516157,2453077.3867677441,2861923.6178957014,3270769.8490236588,3679616.0801516157,4088462.3112795735,2861923.6178957014,3270769.8490236588,3679616.0801516157,4088462.3112795735,4497308.5424075304,3270769.8490236588,3679616.0801516157,4088462.3112795735,4497308.5424075304,4906154.7735354882]
[549,{"$f":"花园升级数值表!Q550","v":419954583.22770393},2099772.9161385195,2519727.4993662238,2939682.0825939276,3359636.6658216314,3779591.2490493353,2519727.4993662238,2939682.0825939276,3359636.6658216314,3779591.2490493353,4199545.8322770391,2939682.0825939276,3359636.6658216314,3779591.2490493353,4199545.8322770391,4619500.4155047433,3359636.6658216314,3779591.2490493353,4199545.8322770391,4619500.4155047433,5039454.9987324476]
[550,{"$f":"花园升级数值表!Q551","v":431364749.25400043},2156823.7462700023,2588188.4955240027,3019553.2447780031,3450917.9940320035,3882282.7432860034,2588188.4955240027,3019553.2447780031,3450917.9940320035,3882282.7432860034,4313647.4925400047,3019553.2447780031,3450917.9940320035,3882282.7432860034,4313647.4925400047,4745012.2417940041,3450917.9940320035,3882282.7432860034,4313647.4925400047,4745012.2417940041,5176376.9910480054]
[551,{"$f":"花园升级数值表!Q552","v":443084929.49123156},2215424.647456158,2658509.5769473896,3101594.5064386209,3544679.4359298525,3987764.3654210838,2658509.5769473896,3101594.5064386209,3544679.4359298525,3987764.3654210838,4430849.2949123159,3101594.5064386209,3544679.4359298525,3987764.3654210838,4430849.2949123159,4873934.2244035471,3544679.4359298525,3987764.3654210838,4430849.2949123159,4873934.2244035471,5317019.1538947793]
[552,{"$f":"花园升级数值表!Q553","v":455123547.02550864},2275617.7351275431,2730741.2821530518,3185864.8291785605,3640988.3762040692,4096111.9232295775,2730741.2821530518,3185864.8291785605,3640988.3762040692,4096111.9232295775,4551235.4702550862,3185864.8291785605,3640988.3762040692,4096111.9232295775,4551235.4702550862,5006359.0172805944,3640988.3762040692,4096111.9232295775,4551235.4702550862,5006359.0172805944,5461482.5643061036]
[553,{"$f":"花园升级数值表!Q554","v":467489253.79819143},2337446.2689909572,2804935.5227891486,3272424.77658734,3739914.0303855315,4207403.2841837229,2804935.5227891486,3272424.77658734,3739914.0303855315,4207403.2841837229,4674892.5379819144,3272424.77658734,3739914.0303855315,4207403.2841837229,4674892.5379819144,5142381.7917801058,3739914.0303855315,4207403.2841837229,4674892.5379819144,5142381.7917801058,5609871.0455782972]
[554,{"$f":"花园升级数值表!Q555","v":480190936.82388818},2400954.6841194411,2881145.6209433293,3361336.5577672175,3841527.4945911057,4321718.4314149935,2881145.6209433293,3361336.5577672175,3841527.4945911057,4321718.4314149935,4801909.3682388822,3361336.5577672175,3841527.4945911057,4321718.4314149935,4801909.3682388822,5282100.3050627699,3841527.4945911057,4321718.4314149935,4801909.3682388822,5282100.3050627699,5762291.2418866586]
[555,{"$f":"花园升级数值表!Q556","v":493237724.57739335},2466188.6228869669,2959426.3474643603,3452664.0720417537,3945901.7966191471,4439139.5211965395,2959426.3474643603,3452664.0720417537,3945901.7966191471,4439139.5211965395,4932377.2457739338,3452664.0720417537,3945901.7966191471,4439139.5211965395,4932377.2457739338,5425614.9703513263,3945901.7966191471,4439139.5211965395,4932377.2457739338,5425614.9703513263,5918852.6949287206]
[556,{"$f":"花园升级数值表!Q557","v":506638993.55416119},2533194.967770806,3039833.961324967,3546472.9548791284,4053111.9484332898,4559750.9419874502,3039833.961324967,3546472.9548791284,4053111.9484332898,4559750.9419874502,5066389.9355416121,3546472.9548791284,4053111.9484332898,4559750.9419874502,5066389.9355416121,5573028.929095773,4053111.9484332898,4559750.9419874502,5066389.9355416121,5573028.929095773,6079667.922649934]
[557,{"$f":"花园升级数值表!Q558","v":520404375.0090276},2602021.8750451379,3122426.2500541657,3642830.6250631935,4163235.0000722208,4683639.3750812477,3122426.2500541657,3642830.6250631935,4163235.0000722208,4683639.3750812477,5204043.7500902759,3642830.6250631935,4163235.0000722208,4683639.3750812477,5204043.7500902759,5724448.1250993032,4163235.0000722208,4683639.3750812477,5204043.7500902759,5724448.1250993032,6244852.5001083314]
[558,{"$f":"花园升级数值表!Q559","v":534543761.87802273},2672718.8093901137,3207262.5712681366,3741806.3331461591,4276350.0950241815,4810893.8569022045,3207262.5712681366,3741806.3331461591,4276350.0950241815,4810893.8569022045,5345437.6187802274,3741806.3331461591,4276350.0950241815,4810893.8569022045,5345437.6187802274,5879981.3806582494,4276350.0950241815,4810893.8569022045,5345437.6187802274,5879981.3806582494,6414525.1425362732]
[559,{"$f":"花园升级数值表!Q560","v":549067315.88824844},2745336.5794412424,3294403.8953294908,3843471.2112177392,4392538.527105988,4941605.8429942355,3294403.8953294908,3843471.2112177392,4392538.527105988,4941605.8429942355,5490673.1588824848,3843471.2112177392,4392538.527105988,4941605.8429942355,5490673.1588824848,6039740.4747707322,4392538.527105988,4941605.8429942355,5490673.1588824848,6039740.4747707322,6588807.7906589815]
[560,{"$f":"花园升级数值表!Q561","v":563985474.86093211},2819927.3743046606,3383912.8491655928,3947898.324026525,4511883.7988874568,5075869.2737483885,3383912.8491655928,3947898.324026525,4511883.7988874568,5075869.2737483885,5639854.7486093212,3947898.324026525,4511883.7988874568,5075869.2737483885,5639854.7486093212,6203840.2234702529,4511883.7988874568,5075869.2737483885,5639854.7486093212,6203840.2234702529,6767825.6983311856]
[561,{"$f":"花园升级数值表!Q562","v":579308960.21290374},2896544.8010645187,3475853.7612774223,4055162.7214903263,4634471.6817032304,5213780.6419161335,3475853.7612774223,4055162.7214903263,4634471.6817032304,5213780.6419161335,5793089.6021290375,4055162.7214903263,4634471.6817032304,5213780.6419161335,5793089.6021290375,6372398.5623419406,4634471.6817032304,5213780.6419161335,5793089.6021290375,6372398.5623419406,6951707.5225548446]
[562,{"$f":"花园升级数值表!Q563","v":595048784.661888},2975243.9233094403,3570292.7079713279,4165341.4926332161,4760390.2772951042,5355439.0619569914,3570292.7079713279,4165341.4926332161,4760390.2772951042,5355439.0619569914,5950487.8466188805,4165341.4926332161,4760390.2772951042,5355439.0619569914,5950487.8466188805,6545536.6312807677,4760390.2772951042,5355439.0619569914,5950487.8466188805,6545536.6312807677,7140585.4159426559]
[563,{"$f":"花园升级数值表!Q564","v":611216260.14115167},3056081.3007057584,3667297.5608469099,4278513.8209880618,4889730.0811292138,5500946.3412703648,3667297.5608469099,4278513.8209880618,4889730.0811292138,5500946.3412703648,6112162.6014115168,4278513.8209880618,4889730.0811292138,5500946.3412703648,6112162.6014115168,6723378.8615526678,4889730.0811292138,5500946.3412703648,6112162.6014115168,6723378.8615526678,7334595.1216938198]
[564,{"$f":"花园升级数值表!Q565","v":627823005.92918658},3139115.0296459328,3766938.0355751198,4394761.0415043058,5022584.0474334927,5650407.0533626787,3766938.0355751198,4394761.0415043058,5022584.0474334927,5650407.0533626787,6278230.0592918657,4394761.0415043058,5022584.0474334927,5650407.0533626787,6278230.0592918657,6906053.0652210517,5022584.0474334927,5650407.0533626787,6278230.0592918657,6906053.0652210517,7533876.0711502396]
[565,{"$f":"花园升级数值表!Q566","v":644880957.00028253},3224404.7850014125,3869285.7420016951,4514166.6990019782,5159047.6560022607,5803928.6130025424,3869285.7420016951,4514166.6990019782,5159047.6560022607,5803928.6130025424,6448809.570002825,4514166.6990019782,5159047.6560022607,5803928.6130025424,6448809.570002825,7093690.5270031076,5159047.6560022607,5803928.6130025424,6448809.570002825,7093690.5270031076,7738571.4840033902]
[566,{"$f":"花园升级数值表!Q567","v":662402372.60197997},3312011.8630098999,3974414.2356118797,4636816.6082138596,5299218.98081584,5961621.3534178194,3974414.2356118797,4636816.6082138596,5299218.98081584,5961621.3534178194,6624023.7260197997,4636816.6082138596,5299218.98081584,5961621.3534178194,6624023.7260197997,7286426.0986217791,5299218.98081584,5961621.3534178194,6624023.7260197997,7286426.0986217791,7948828.4712237595]
[567,{"$f":"花园升级数值表!Q568","v":680399845.06557584},3401999.2253278792,4082399.0703934552,4762798.9154590312,5443198.7605246073,6123598.6055901824,4082399.0703934552,4762798.9154590312,5443198.7605246073,6123598.6055901824,6803998.4506557584,4762798.9154590312,5443198.7605246073,6123598.6055901824,6803998.4506557584,7484398.2957213335,5443198.7605246073,6123598.6055901824,6803998.4506557584,7484398.2957213335,8164798.1407869104]
[568,{"$f":"花园升级数值表!Q569","v":698886308.8560077},3494431.5442800387,4193317.8531360463,4892204.1619920544,5591090.4708480621,6289976.7797040688,4193317.8531360463,4892204.1619920544,5591090.4708480621,6289976.7797040688,6988863.0885600774,4892204.1619920544,5591090.4708480621,6289976.7797040688,6988863.0885600774,7687749.3974160841,5591090.4708480621,6289976.7797040688,6988863.0885600774,7687749.3974160841,8386635.7062720926]
[569,{"$f":"花园升级数值表!Q570","v":717875049.86762524},3589375.2493381263,4307250.2992057512,5025125.3490733765,5743000.3989410019,6460875.4488086263,4307250.2992057512,5025125.3490733765,5743000.3989410019,6460875.4488086263,7178750.4986762526,5025125.3490733765,5743000.3989410019,6460875.4488086263,7178750.4986762526,7896625.548543877,5743000.3989410019,6460875.4488086263,7178750.4986762526,7896625.548543877,8614500.5984115023]
[570,{"$f":"花园升级数值表!Q571","v":737379714.9725287},3686898.5748626436,4424278.2898351727,5161658.0048077013,5899037.71978023,6636417.4347527577,4424278.2898351727,5161658.0048077013,5899037.71978023,6636417.4347527577,7373797.1497252872,5161658.0048077013,5899037.71978023,6636417.4347527577,7373797.1497252872,8111176.8646978149,5899037.71978023,6636417.4347527577,7373797.1497252872,8111176.8646978149,8848556.5796703454]
[571,{"$f":"花园升级数值表!Q572","v":757414321.82833183},3787071.609141659,4544485.9309699908,5301900.2527983226,6059314.5746266544,6816728.8964549862,4544485.9309699908,5301900.2527983226,6059314.5746266544,6816728.8964549862,7574143.218283318,5301900.2527983226,6059314.5746266544,6816728.8964549862,7574143.218283318,8331557.5401116498,6059314.5746266544,6816728.8964549862,7574143.218283318,8331557.5401116498,9088971.8619399816]
[572,{"$f":"花园升级数值表!Q573","v":777993268.95240796},3889966.3447620398,4667959.6137144482,5445952.8826668561,6223946.1516192639,7001939.4205716709,4667959.6137144482,5445952.8826668561,6223946.1516192639,7001939.4205716709,7779932.6895240797,5445952.8826668561,6223946.1516192639,7001939.4205716709,7779932.6895240797,8557925.9584764875,6223946.1516192639,7001939.4205716709,7779932.6895240797,8557925.9584764875,9335919.2274288964]
[573,{"$f":"花园升级数值表!Q574","v":799131346.06984472},3995656.7303492236,4794788.0764190685,5593919.4224889129,6393050.7685587583,7192182.1146286018,4794788.0764190685,5593919.4224889129,6393050.7685587583,7192182.1146286018,7991313.4606984472,5593919.4224889129,6393050.7685587583,7192182.1146286018,7991313.4606984472,8790444.8067682907,6393050.7685587583,7192182.1146286018,7991313.4606984472,8790444.8067682907,9589576.152838137]
[574,{"$f":"花园升级数值表!Q575","v":820843744.74256206},4104218.7237128103,4925062.4684553724,5745906.2131979344,6566749.9579404965,7387593.7026830576,4925062.4684553724,5745906.2131979344,6566749.9579404965,7387593.7026830576,8208437.4474256206,5745906.2131979344,6566749.9579404965,7387593.7026830576,8208437.4474256206,9029281.1921681818,6566749.9579404965,7387593.7026830576,8208437.4474256206,9029281.1921681818,9850124.9369107448]
[575,{"$f":"花园升级数值表!Q576","v":843146069.28721702},4215730.3464360852,5058876.4157233024,5902022.4850105196,6745168.5542977359,7588314.6235849522,5058876.4157233024,5902022.4850105196,6745168.5542977359,7588314.6235849522,8431460.6928721704,5902022.4850105196,6745168.5542977359,7588314.6235849522,8431460.6928721704,9274606.7621593866,6745168.5542977359,7588314.6235849522,8431460.6928721704,9274606.7621593866,10117752.831446605]
[576,{"$f":"花园升级数值表!Q577","v":866054347.98975098},4330271.7399487551,5196326.0879385062,6062380.4359282572,6928434.7839180082,7794489.1319077583,5196326.0879385062,6062380.4359282572,6928434.7839180082,7794489.1319077583,8660543.4798975103,6062380.4359282572,6928434.7839180082,7794489.1319077583,8660543.4798975103,9526597.8278872594,6928434.7839180082,7794489.1319077583,8660543.4798975103,9526597.8278872594,10392652.175877012]
[577,{"$f":"花园升级数值表!Q578","v":889585044.62463224},4447925.2231231611,5337510.2677477933,6227095.3123724256,7116680.3569970578,8006265.4016216891,5337510.2677477933,6227095.3123724256,7116680.3569970578,8006265.4016216891,8895850.4462463222,6227095.3123724256,7116680.3569970578,8006265.4016216891,8895850.4462463222,9785435.4908709545,7116680.3569970578,8006265.4016216891,8895850.4462463222,9785435.4908709545,10675020.535495587]
[578,{"$f":"花园升级数值表!Q579","v":913755070.28708375},{"$f":"B580*0.005","v":4568775.3514354192},{"$f":"B580*0.006","v":5482530.4217225024},{"$f":"B580*0.007","v":6396285.4920095867},{"$f":"B580*0.008","v":7310040.5622966699},{"$f":"B580*0.009","v":8223795.6325837532},{"$f":"B580*0.006","v":5482530.4217225024},{"$f":"B580*0.007","v":6396285.4920095867},{"$f":"B580*0.008","v":7310040.5622966699},{"$f":"B580*0.009","v":8223795.6325837532},{"$f":"B580*0.01","v":9137550.7028708383},{"$f":"(B580)*0.007","v":6396285.4920095867},{"$f":"B580*0.008","v":7310040.5622966699},{"$f":"B580*0.009","v":8223795.6325837532},{"$f":"B580*0.01","v":9137550.7028708383},{"$f":"B580*0.011","v":10051305.773157921},{"$f":"B580*0.008","v":7310040.5622966699},{"$f":"B580*0.009","v":8223795.6325837532},{"$f":"B580*0.01","v":9137550.7028708383},{"$f":"B580*0.011","v":10051305.773157921},{"$f":"B580*0.012","v":10965060.843445005}]
[579,{"$f":"花园升级数值表!Q580","v":938581795.54678369},4692908.9777339185,5631490.7732807025,6570072.5688274857,7508654.3643742697,8447236.1599210519,5631490.7732807025,6570072.5688274857,7508654.3643742697,8447236.1599210519,9385817.9554678369,6570072.5688274857,7508654.3643742697,8447236.1599210519,9385817.9554678369,10324399.75101462,7508654.3643742697,8447236.1599210519,9385817.9554678369,10324399.75101462,11262981.546561405]
[580,{"$f":"花园升级数值表!Q581","v":964083062.93178928},4820415.3146589464,5784498.3775907354,6748581.4405225255,7712664.5034543145,8676747.5663861036,5784498.3775907354,6748581.4405225255,7712664.5034543145,8676747.5663861036,9640830.6293178927,6748581.4405225255,7712664.5034543145,8676747.5663861036,9640830.6293178927,10604913.692249682,7712664.5034543145,8676747.5663861036,9640830.6293178927,10604913.692249682,11568996.755181471]
[581,{"$f":"花园升级数值表!Q582","v":990277199.75164592},4951385.9987582294,5941663.1985098757,6931940.3982615219,7922217.5980131673,8912494.7977648135,5941663.1985098757,6931940.3982615219,7922217.5980131673,8912494.7977648135,9902771.9975164589,6931940.3982615219,7922217.5980131673,8912494.7977648135,9902771.9975164589,10893049.197268104,7922217.5980131673,8912494.7977648135,9902771.9975164589,10893049.197268104,11883326.397019751]
[582,{"$f":"花园升级数值表!Q583","v":1017183031.2688982},5085915.1563444911,6103098.1876133895,7120281.2188822879,8137464.2501511863,9154647.2814200837,6103098.1876133895,7120281.2188822879,8137464.2501511863,9154647.2814200837,10171830.312688982,7120281.2188822879,8137464.2501511863,9154647.2814200837,10171830.312688982,11189013.343957881,8137464.2501511863,9154647.2814200837,10171830.312688982,11189013.343957881,12206196.375226779]
[583,{"$f":"花园升级数值表!Q584","v":1044819894.2284738},5224099.4711423693,6268919.3653708426,7313739.2595993169,8358559.1538277902,9403379.0480562635,6268919.3653708426,7313739.2595993169,8358559.1538277902,9403379.0480562635,10448198.942284739,7313739.2595993169,8358559.1538277902,9403379.0480562635,10448198.942284739,11493018.83651321,8358559.1538277902,9403379.0480562635,10448198.942284739,11493018.83651321,12537838.730741685]
[584,{"$f":"花园升级数值表!Q585","v":1073207650.7546623},5366038.2537733112,6439245.9045279734,7512453.5552826365,8585661.2060372978,9658868.8567919601,6439245.9045279734,7512453.5552826365,8585661.2060372978,9658868.8567919601,10732076.507546622,7512453.5552826365,8585661.2060372978,9658868.8567919601,10732076.507546622,11805284.158301285,8585661.2060372978,9658868.8567919601,10732076.507546622,11805284.158301285,12878491.809055947]
[585,{"$f":"花园升级数值表!Q586","v":1102366702.6256659},5511833.51312833,6614200.2157539958,7716566.9183796616,8818933.6210053265,9921300.3236309923,6614200.2157539958,7716566.9183796616,8818933.6210053265,9921300.3236309923,11023667.02625666,7716566.9183796616,8818933.6210053265,9921300.3236309923,11023667.02625666,12126033.728882324,8818933.6210053265,9921300.3236309923,11023667.02625666,12126033.728882324,13228400.431507992]
[586,{"$f":"花园升级数值表!Q587","v":1132318005.9360051},5661590.0296800258,6793908.0356160309,7926226.0415520361,9058544.0474880412,10190862.053424045,6793908.0356160309,7926226.0415520361,9058544.0474880412,10190862.053424045,11323180.059360052,7926226.0415520361,9058544.0474880412,10190862.053424045,11323180.059360052,12455498.065296056,9058544.0474880412,10190862.053424045,11323180.059360052,12455498.065296056,13587816.071232062]
[587,{"$f":"花园升级数值表!Q588","v":1163083086.1572864},5815415.4307864318,6978498.5169437183,8141581.6031010048,9304664.6892582923,10467747.775415577,6978498.5169437183,8141581.6031010048,9304664.6892582923,10467747.775415577,11630830.861572864,8141581.6031010048,9304664.6892582923,10467747.775415577,11630830.861572864,12793913.94773015,9304664.6892582923,10467747.775415577,11630830.861572864,12793913.94773015,13956997.033887437]
[588,{"$f":"花园升级数值表!Q589","v":1194684053.6081793},5973420.2680408964,7168104.3216490764,8362788.3752572555,9557472.4288654346,10752156.482473614,7168104.3216490764,8362788.3752572555,9557472.4288654346,10752156.482473614,11946840.536081793,8362788.3752572555,9557472.4288654346,10752156.482473614,11946840.536081793,13141524.589689972,9557472.4288654346,10752156.482473614,11946840.536081793,13141524.589689972,14336208.643298153]
[589,{"$f":"花园升级数值表!Q590","v":1227143619.3447134},6135718.0967235677,7362861.7160682809,8590005.335412994,9817148.9547577072,11044292.57410242,7362861.7160682809,8590005.335412994,9817148.9547577072,11044292.57410242,12271436.193447135,8590005.335412994,9817148.9547577072,11044292.57410242,12271436.193447135,13498579.812791847,9817148.9547577072,11044292.57410242,12271436.193447135,13498579.812791847,14725723.432136562]
[590,{"$f":"花园升级数值表!Q591","v":1260485111.4823093},6302425.5574115468,7562910.668893856,8823395.7803761661,10083880.891858475,11344366.003340783,7562910.668893856,8823395.7803761661,10083880.891858475,11344366.003340783,12604851.114823094,8823395.7803761661,10083880.891858475,11344366.003340783,12604851.114823094,13865336.226305403,10083880.891858475,11344366.003340783,12604851.114823094,13865336.226305403,15125821.337787712]
[591,{"$f":"花园升级数值表!Q592","v":1294732491.9612839},6473662.4598064199,7768394.9517677035,9063127.4437289871,10357859.935690271,11652592.427651554,7768394.9517677035,9063127.4437289871,10357859.935690271,11652592.427651554,12947324.91961284,9063127.4437289871,10357859.935690271,11652592.427651554,12947324.91961284,14242057.411574122,10357859.935690271,11652592.427651554,12947324.91961284,14242057.411574122,15536789.903535407]
[592,{"$f":"花园升级数值表!Q593","v":1329910373.7678714},6649551.868839357,7979462.2426072285,9309372.6163750999,10639282.990142971,11969193.363910841,7979462.2426072285,9309372.6163750999,10639282.990142971,11969193.363910841,13299103.737678714,9309372.6163750999,10639282.990142971,11969193.363910841,13299103.737678714,14629014.111446584,10639282.990142971,11969193.363910841,13299103.737678714,14629014.111446584,15958924.485214457]
[593,{"$f":"花园升级数值表!Q594","v":1366044038.6231446},6830220.1931157233,8196264.2317388682,9562308.2703620121,10928352.308985157,12294396.3476083,8196264.2317388682,9562308.2703620121,10928352.308985157,12294396.3476083,13660440.386231447,9562308.2703620121,10928352.308985157,12294396.3476083,13660440.386231447,15026484.42485459,10928352.308985157,12294396.3476083,13660440.386231447,15026484.42485459,16392528.463477736]
[594,{"$f":"花园升级数值表!Q595","v":1403159455.152535},7015797.2757626753,8418956.7309152093,9822116.1860677451,11225275.641220279,12628435.096372813,8418956.7309152093,9822116.1860677451,11225275.641220279,12628435.096372813,14031594.551525351,9822116.1860677451,11225275.641220279,12628435.096372813,14031594.551525351,15434754.006677885,11225275.641220279,12628435.096372813,14031594.551525351,15434754.006677885,16837913.461830419]
[595,{"$f":"花园升级数值表!Q596","v":1441283297.5490296},7206416.4877451481,8647699.785294177,10088983.082843207,11530266.380392237,12971549.677941265,8647699.785294177,10088983.082843207,11530266.380392237,12971549.677941265,14412832.975490296,10088983.082843207,11530266.380392237,12971549.677941265,14412832.975490296,15854116.273039324,11530266.380392237,12971549.677941265,14412832.975490296,15854116.273039324,17295399.570588354]
[596,{"$f":"花园升级数值表!Q597","v":1480442964.7434359},7402214.8237171797,8882657.788460616,10363100.753204051,11843543.717947487,13323986.682690922,8882657.788460616,10363100.753204051,11843543.717947487,13323986.682690922,14804429.647434359,10363100.753204051,11843543.717947487,13323986.682690922,14804429.647434359,16284872.612177793,11843543.717947487,13323986.682690922,14804429.647434359,16284872.612177793,17765315.576921232]
[597,{"$f":"花园升级数值表!Q598","v":1520666600.0955157},7603333.0004775785,9123999.6005730946,10644666.200668611,12165332.800764127,13685999.400859641,9123999.6005730946,10644666.200668611,12165332.800764127,13685999.400859641,15206666.000955157,10644666.200668611,12165332.800764127,13685999.400859641,15206666.000955157,16727332.601050671,12165332.800764127,13685999.400859641,15206666.000955157,16727332.601050671,18247999.201146189]
[598,{"$f":"花园升级数值表!Q599","v":1561983111.6201103},7809915.5581005514,9371898.6697206628,10933881.781340772,12495864.892960882,14057848.004580991,9371898.6697206628,10933881.781340772,12495864.892960882,14057848.004580991,15619831.116201103,10933881.781340772,12495864.892960882,14057848.004580991,15619831.116201103,17181814.227821212,12495864.892960882,14057848.004580991,15619831.116201103,17181814.227821212,18743797.339441326]
[599,{"$f":"花园升级数值表!Q600","v":1604422192.7628298},8022110.9638141487,9626533.156576978,11230955.349339809,12835377.542102639,14439799.734865466,9626533.156576978,11230955.349339809,12835377.542102639,14439799.734865466,16044221.927628297,11230955.349339809,12835377.542102639,14439799.734865466,16044221.927628297,17648644.120391127,12835377.542102639,14439799.734865466,16044221.927628297,17648644.120391127,19253066.313153956]
[600,{"$f":"花园升级数值表!Q601","v":1648014343.740195},{"$f":"B602*0.005","v":8240071.7187009752},{"$f":"B602*0.006","v":9888086.0624411702},{"$f":"B602*0.007","v":11536100.406181365},{"$f":"B602*0.008","v":13184114.74992156},{"$f":"B602*0.009","v":14832129.093661753},{"$f":"B602*0.006","v":9888086.0624411702},{"$f":"B602*0.007","v":11536100.406181365},{"$f":"B602*0.008","v":13184114.74992156},{"$f":"B602*0.009","v":14832129.093661753},{"$f":"B602*0.01","v":16480143.43740195},11536100.406181365,13184114.74992156,14832129.093661753,16480143.43740195,18128157.781142145,13184114.74992156,14832129.093661753,16480143.43740195,18128157.781142145,19776172.12488234]

{"sheet":"技能数值表","index":3,"n_rows":601,"n_cols":6,"rows_kept":601,"cut":false,"hidden":false,"merged":[]}
["花园等级","每分钟可分配总数值","人潮涌动","大亨光临","花之祝福","繁花似锦"]
[1,{"$f":"花园升级数值表!R2","v":135},{"$f":"B2*0.15","v":20.25},{"$f":"B2*0.15","v":20.25},{"$f":"B2*0.15","v":20.25},{"$f":"B2*0.15","v":20.25}]
[2,{"$f":"花园升级数值表!R3","v":137.98147499999993},{"$f":"B3*0.15","v":20.697221249999988},{"$f":"B3*0.15","v":20.697221249999988},{"$f":"B3*0.15","v":20.697221249999988},{"$f":"B3*0.15","v":20.697221249999988}]
[3,{"$f":"花园升级数值表!R4","v":141.0287958753749},21.154319381306234,21.154319381306234,21.154319381306234,21.154319381306234]
[4,{"$f":"花园升级数值表!R5","v":144.14341683228255},21.621512524842384,21.621512524842384,21.621512524842384,21.621512524842384]
[5,{"$f":"花园升级数值表!R6","v":147.32682419302347},22.099023628953521,22.099023628953521,22.099023628953521,22.099023628953521]
[6,{"$f":"花园升级数值表!R7","v":150.58053710532639},22.587080565798956,22.587080565798956,22.587080565798956,22.587080565798956]
[7,{"$f":"花园升级数值表!R8","v":153.90610826729744},23.085916240094615,23.085916240094615,23.085916240094615,23.085916240094615]
[8,{"$f":"花园升级数值表!R9","v":157.30512466838073},23.595768700257107,23.595768700257107,23.595768700257107,23.595768700257107]
[9,{"$f":"花园升级数值表!R10","v":160.77920834668188},24.116881252002283,24.116881252002283,24.116881252002283,24.116881252002283]
[10,{"$f":"花园升级数值表!R11","v":164.33001716301831},24.649502574452747,24.649502574452747,24.649502574452747,24.649502574452747]
[11,{"$f":"花园升级数值表!R12","v":167.95924559206355},25.193886838809533,25.193886838809533,25.193886838809533,25.193886838809533]
[12,{"$f":"花园升级数值表!R13","v":171.66862553096422},25.750293829644633,25.750293829644633,25.750293829644633,25.750293829644633]
[13,{"$f":"花园升级数值表!R14","v":175.45992712581545},26.318989068872316,26.318989068872316,26.318989068872316,26.318989068872316]
[14,{"$f":"花园升级数值表!R15","v":179.33495961638906},26.900243942458356,26.900243942458356,26.900243942458356,26.900243942458356]
[15,{"$f":"花园升级数值表!R16","v":183.29557219951704},27.494335829927554,27.494335829927554,27.494335829927554,27.494335829927554]
[16,{"$f":"花园升级数值表!R17","v":187.34365491154327},28.101548236731489,28.101548236731489,28.101548236731489,28.101548236731489]
[17,{"$f":"花园升级数值表!R18","v":191.48113953026476},28.722170929539711,28.722170929539711,28.722170929539711,28.722170929539711]
[18,{"$f":"花园升级数值表!R19","v":195.71000049679063},29.356500074518593,29.356500074518593,29.356500074518593,29.356500074518593]
[19,{"$f":"花园升级数值表!R20","v":200.03225585776218},30.004838378664324,30.004838378664324,30.004838378664324,30.004838378664324]
[20,{"$f":"花园升级数值表!R21","v":204.44996822838075},30.66749523425711,30.66749523425711,30.66749523425711,30.66749523425711]
[21,{"$f":"花园升级数值表!R22","v":208.96524577670459},31.344786866505686,31.344786866505686,31.344786866505686,31.344786866505686]
[22,{"$f":"花园升级数值表!R23","v":213.58024322968302},32.03703648445245,32.03703648445245,32.03703648445245,32.03703648445245]
[23,{"$f":"花园升级数值表!R24","v":218.29716290141053},32.744574435211575,32.744574435211575,32.744574435211575,32.744574435211575]
[24,{"$f":"花园升级数值表!R25","v":223.11825574408809},33.467738361613215,33.467738361613215,33.467738361613215,33.467738361613215]
[25,{"$f":"花园升级数值表!R26","v":228.04582242219638},34.206873363329457,34.206873363329457,34.206873363329457,34.206873363329457]
[26,{"$f":"花园升级数值表!R27","v":233.08221441039052},34.962332161558578,34.962332161558578,34.962332161558578,34.962332161558578]
[27,{"$f":"花园升级数值表!R28","v":238.22983511564397},35.734475267346596,35.734475267346596,35.734475267346596,35.734475267346596]
[28,{"$f":"花园升级数值表!R29","v":243.49114102417292},36.523671153625934,36.523671153625934,36.523671153625934,36.523671153625934]
[29,{"$f":"花园升级数值表!R30","v":248.86864287369181},37.330296431053767,37.330296431053767,37.330296431053767,37.330296431053767]
[30,{"$f":"花园升级数值表!R31","v":254.36490685155701},38.154736027733549,38.154736027733549,38.154736027733549,38.154736027733549]
[31,{"$f":"花园升级数值表!R32","v":259.98255581937377},38.997383372906064,38.997383372906064,38.997383372906064,38.997383372906064]
[32,{"$f":"花园升级数值表!R33","v":265.72427056464448},39.858640584696673,39.858640584696673,39.858640584696673,39.858640584696673]
[33,{"$f":"花园升级数值表!R34","v":271.59279108006461},40.738918662009688,40.738918662009688,40.738918662009688,40.738918662009688]
[34,{"$f":"花园升级数值表!R35","v":277.5909178710678},41.638637680660167,41.638637680660167,41.638637680660167,41.638637680660167]
[35,{"$f":"花园升级数值表!R36","v":283.72151329225022},42.558226993837529,42.558226993837529,42.558226993837529,42.558226993837529]
[36,{"$f":"花园升级数值表!R37","v":289.98750291330953},43.498125436996425,43.498125436996425,43.498125436996425,43.498125436996425]
[37,{"$f":"花园升级数值表!R38","v":296.39187691515002},44.4587815372725,44.4587815372725,44.4587815372725,44.4587815372725]
[38,{"$f":"花园升级数值表!R39","v":302.93769151682096},45.440653727523141,45.440653727523141,45.440653727523141,45.440653727523141]
[39,{"$f":"花园升级数值表!R40","v":309.62807043396998},46.444210565095496,46.444210565095496,46.444210565095496,46.444210565095496]
[40,{"$f":"花园升级数值表!R41","v":316.46620636950416},47.469930955425625,47.469930955425625,47.469930955425625,47.469930955425625]
[41,{"$f":"花园升级数值表!R42","v":323.45536253717461},48.51830438057619,48.51830438057619,48.51830438057619,48.51830438057619]
[42,{"$f":"花园升级数值表!R43","v":330.59887421880791},49.589831132821182,49.589831132821182,49.589831132821182,49.589831132821182]
[43,{"$f":"花园升级数值表!R44","v":337.90015035593029},50.685022553389544,50.685022553389544,50.685022553389544,50.685022553389544]
[44,{"$f":"花园升级数值表!R45","v":345.36267517654085},51.804401276481123,51.804401276481123,51.804401276481123,51.804401276481123]
[45,{"$f":"花园升级数值表!R46","v":352.99000985781487},52.948501478672227,52.948501478672227,52.948501478672227,52.948501478672227]
[46,{"$f":"花园升级数值表!R47","v":360.7857942255244},54.117869133828655,54.117869133828655,54.117869133828655,54.117869133828655]
[47,{"$f":"花园升级数值表!R48","v":368.75374849099518},55.313062273649273,55.313062273649273,55.313062273649273,55.313062273649273]
[48,{"$f":"花园升级数值表!R49","v":376.89767502641877},56.534651253962814,56.534651253962814,56.534651253962814,56.534651253962814]
[49,{"$f":"花园升级数值表!R50","v":385.22146017937712},57.783219026906565,57.783219026906565,57.783219026906565,57.783219026906565]
[50,{"$f":"花园升级数值表!R51","v":393.72907612743865},59.059361419115795,59.059361419115795,59.059361419115795,59.059361419115795]
[51,{"$f":"花园升级数值表!R52","v":402.42458277371298},60.363687416056948,60.363687416056948,60.363687416056948,60.363687416056948]
[52,{"$f":"花园升级数值表!R53","v":411.31212968427047},61.696819452640568,61.696819452640568,61.696819452640568,61.696819452640568]
[53,{"$f":"花园升级数值表!R54","v":420.3959580683474},63.05939371025211,63.05939371025211,63.05939371025211,63.05939371025211]
[54,{"$f":"花园升级数值表!R55","v":429.68040280228672},64.452060420343003,64.452060420343003,64.452060420343003,64.452060420343003]
[55,{"$f":"花园升级数值表!R56","v":439.16989449817544},65.87548417472631,65.87548417472631,65.87548417472631,65.87548417472631]
[56,{"$f":"花园升级数值表!R57","v":448.86896161816736},67.330344242725104,67.330344242725104,67.330344242725104,67.330344242725104]
[57,{"$f":"花园升级数值表!R58","v":458.7822326355045},68.817334895325672,68.817334895325672,68.817334895325672,68.817334895325672]
[58,{"$f":"花园升级数值表!R59","v":468.91443824325972},70.337165736488956,70.337165736488956,70.337165736488956,70.337165736488956]
[59,{"$f":"花园升级数值表!R60","v":479.2704136118619},71.890562041779276,71.890562041779276,71.890562041779276,71.890562041779276]
[60,{"$f":"花园升级数值表!R61","v":489.85510069647978},73.478265104471959,73.478265104471959,73.478265104471959,73.478265104471959]
[61,{"$f":"花园升级数值表!R62","v":500.67355059536141},75.101032589304211,75.101032589304211,75.101032589304211,75.101032589304211]
[62,{"$f":"花园升级数值表!R63","v":511.73092596025981},76.759638894038972,76.759638894038972,76.759638894038972,76.759638894038972]
[63,{"$f":"花园升级数值表!R64","v":523.03250346009213},78.454875519013811,78.454875519013811,78.454875519013811,78.454875519013811]
[64,{"$f":"花园升级数值表!R65","v":534.58367629900818},80.187551444851223,80.187551444851223,80.187551444851223,80.187551444851223]
[65,{"$f":"花园升级数值表!R66","v":546.38995679007189},81.958493518510778,81.958493518510778,81.958493518510778,81.958493518510778]
[66,{"$f":"花园升级数值表!R67","v":558.45697898578021},{"$f":"B67*0.15","v":83.768546847867029},{"$f":"B67*0.15","v":83.768546847867029},{"$f":"B67*0.15","v":83.768546847867029},{"$f":"B67*0.15","v":83.768546847867029}]
[67,{"$f":"花园升级数值表!R68","v":570.79050136668093},85.618575205002131,85.618575205002131,85.618575205002131,85.618575205002131]
[68,{"$f":"花园升级数值表!R69","v":583.396409589364},87.5094614384046,87.5094614384046,87.5094614384046,87.5094614384046]
[69,{"$f":"花园升级数值表!R70","v":596.2807192951451},89.442107894271757,89.442107894271757,89.442107894271757,89.442107894271757]
[70,{"$f":"花园升级数值表!R71","v":609.4495789807786},91.41743684711679,91.41743684711679,91.41743684711679,91.41743684711679]
[71,{"$f":"花园升级数值表!R72","v":622.9092729325688},93.436390939885314,93.436390939885314,93.436390939885314,93.436390939885314]
[72,{"$f":"花园升级数值表!R73","v":636.66622422528417},95.499933633792622,95.499933633792622,95.499933633792622,95.499933633792622]
[73,{"$f":"花园升级数值表!R74","v":650.72699778729952},97.609049668094926,97.609049668094926,97.609049668094926,97.609049668094926]
[74,{"$f":"花园升级数值表!R75","v":665.09830353343216},99.764745530014821,99.764745530014821,99.764745530014821,99.764745530014821]
[75,{"$f":"花园升级数值表!R76","v":679.78699956696767},101.96804993504514,101.96804993504514,101.96804993504514,101.96804993504514]
[76,{"$f":"花园升级数值表!R77","v":694.80009545240398},104.22001431786059,104.22001431786059,104.22001431786059,104.22001431786059]
[77,{"$f":"花园升级数值表!R78","v":710.14475556047034},106.52171333407055,106.52171333407055,106.52171333407055,106.52171333407055]
[78,{"$f":"花园升级数值表!R79","v":725.82830248702305},108.87424537305345,108.87424537305345,108.87424537305345,108.87424537305345]
[79,{"$f":"花园升级数值表!R80","v":741.8582205474487},111.2787330821173,111.2787330821173,111.2787330821173,111.2787330821173]
[80,{"$f":"花园升级数值表!R81","v":758.24215934823917},113.73632390223587,113.73632390223587,113.73632390223587,113.73632390223587]
[81,{"$f":"花园升级数值表!R82","v":774.98793743744488},116.24819061561672,116.24819061561672,116.24819061561672,116.24819061561672]
[82,{"$f":"花园升级数值表!R83","v":792.10354603575058},118.81553190536258,118.81553190536258,118.81553190536258,118.81553190536258]
[83,{"$f":"花园升级数值表!R84","v":809.59715284995002},121.43957292749249,121.43957292749249,121.43957292749249,121.43957292749249]
[84,{"$f":"花园升级数值表!R85","v":827.47710597064065},124.12156589559609,124.12156589559609,124.12156589559609,124.12156589559609]
[85,{"$f":"花园升级数值表!R86","v":845.75193785600231},126.86279067840034,126.86279067840034,126.86279067840034,126.86279067840034]
[86,{"$f":"花园升级数值表!R87","v":864.43036940355228},129.66455541053284,129.66455541053284,129.66455541053284,129.66455541053284]
[87,{"$f":"花园升级数值表!R88","v":883.52131411182938},132.52819711677441,132.52819711677441,132.52819711677441,132.52819711677441]
[88,{"$f":"花园升级数值表!R89","v":903.03388233398891},135.45508235009834,135.45508235009834,135.45508235009834,135.45508235009834]
[89,{"$f":"花园升级数值表!R90","v":922.97738562533448},138.44660784380017,138.44660784380017,138.44660784380017,138.44660784380017]
[90,{"$f":"花园升级数值表!R91","v":943.36134118686982},141.50420117803046,141.50420117803046,141.50420117803046,141.50420117803046]
[91,{"$f":"花园升级数值表!R92","v":964.19547640698181},144.62932146104725,144.62932146104725,144.62932146104725,144.62932146104725]
[92,{"$f":"花园升级数值表!R93","v":985.48973350342976},147.82346002551446,147.82346002551446,147.82346002551446,147.82346002551446]
[93,{"$f":"花园升级数值表!R94","v":1007.2542742678528},151.08814114017792,151.08814114017792,151.08814114017792,151.08814114017792]
[94,{"$f":"花园升级数值表!R95","v":1029.4994849150587},154.42492273725881,154.42492273725881,154.42492273725881,154.42492273725881]
[95,{"$f":"花园升级数值表!R96","v":1052.2359810394069},157.83539715591101,157.83539715591101,157.83539715591101,157.83539715591101]
[96,{"$f":"花园升级数值表!R97","v":1075.4746126806624},161.32119190209934,161.32119190209934,161.32119190209934,161.32119190209934]
[97,{"$f":"花园升级数值表!R98","v":1099.2264695017141},164.8839704252571,164.8839704252571,164.8839704252571,164.8839704252571]
[98,{"$f":"花园升级数值表!R99","v":1123.502886080659},168.52543291209884,168.52543291209884,168.52543291209884,168.52543291209884]
[99,{"$f":"花园升级数值表!R100","v":1148.3154473197496},172.24731709796245,172.24731709796245,172.24731709796245,172.24731709796245]
[100,{"$f":"花园升级数值表!R101","v":1173.675993973807},176.05139909607104,176.05139909607104,176.05139909607104,176.05139909607104]
[101,{"$f":"花园升级数值表!R102","v":1199.5966283007183},179.93949424510774,179.93949424510774,179.93949424510774,179.93949424510774]
[102,{"$f":"花园升级数值表!R103","v":1226.0897198367395},183.91345797551091,183.91345797551091,183.91345797551091,183.91345797551091]
[103,{"$f":"花园升级数值表!R104","v":1253.1679112993334},187.9751866949,187.9751866949,187.9751866949,187.9751866949]
[104,{"$f":"花园升级数值表!R105","v":1280.844124620379},192.12661869305686,192.12661869305686,192.12661869305686,192.12661869305686]
[105,{"$f":"花园升级数值表!R106","v":1309.1315671126197},196.36973506689296,196.36973506689296,196.36973506689296,196.36973506689296]
[106,{"$f":"花园升级数值表!R107","v":1338.0437377723013},200.70656066584519,200.70656066584519,200.70656066584519,200.70656066584519]
[107,{"$f":"花园升级数值表!R108","v":1367.5944337210019},205.13916505815027,205.13916505815027,205.13916505815027,205.13916505815027]
[108,{"$f":"花园升级数值表!R109","v":1397.7977567897308},209.6696635184596,209.6696635184596,209.6696635184596,209.6696635184596]
[109,{"$f":"花园升级数值表!R110","v":1428.6681202484317},214.30021803726476,214.30021803726476,214.30021803726476,214.30021803726476]
[110,{"$f":"花园升级数值表!R111","v":1460.2202556841182},219.03303835261772,219.03303835261772,219.03303835261772,219.03303835261772]
[111,{"$f":"花园升级数值表!R112","v":1492.4692200309012},223.87038300463516,223.87038300463516,223.87038300463516,223.87038300463516]
[112,{"$f":"花园升级数值表!R113","v":1525.4304027552832},228.81456041329247,228.81456041329247,228.81456041329247,228.81456041329247]
[113,{"$f":"花园升级数值表!R114","v":1559.1195332001337},233.86792998002005,233.86792998002005,233.86792998002005,233.86792998002005]
[114,{"$f":"花园升级数值表!R115","v":1593.5526880908585},239.03290321362877,239.03290321362877,239.03290321362877,239.03290321362877]
[115,{"$f":"花园升级数值表!R116","v":1628.7462992073445},244.31194488110165,244.31194488110165,244.31194488110165,244.31194488110165]
[116,{"$f":"花园升级数值表!R117","v":1664.7171612253385},249.70757418380077,249.70757418380077,249.70757418380077,249.70757418380077]
[117,{"$f":"花园升级数值表!R118","v":1701.4824397309997},255.22236595964995,255.22236595964995,255.22236595964995,255.22236595964995]
[118,{"$f":"花园升级数值表!R119","v":1739.0596794124585},260.85895191186876,260.85895191186876,260.85895191186876,260.85895191186876]
[119,{"$f":"花园升级数值表!R120","v":1777.4668124322825},266.62002186484239,266.62002186484239,266.62002186484239,266.62002186484239]
[120,{"$f":"花园升级数值表!R121","v":1816.7221669848489},272.50832504772734,272.50832504772734,272.50832504772734,272.50832504772734]
[121,{"$f":"花园升级数值表!R122","v":1856.8444760427087},278.52667140640631,278.52667140640631,278.52667140640631,278.52667140640631]
[122,{"$f":"花园升级数值表!R123","v":1897.8528862961116},284.67793294441674,284.67793294441674,284.67793294441674,284.67793294441674]
[123,{"$f":"花园升级数值表!R124","v":1939.7669672899613},290.96504509349415,290.96504509349415,290.96504509349415,290.96504509349415]
[124,{"$f":"花园升级数值表!R125","v":1982.6067207625592},297.39100811438385,297.39100811438385,297.39100811438385,297.39100811438385]
[125,{"$f":"花园升级数值表!R126","v":2026.3925901905993},303.95888852858991,303.95888852858991,303.95888852858991,303.95888852858991]
[126,{"$f":"花园升级数值表!R127","v":2071.1454705449596},310.67182058174393,310.67182058174393,310.67182058174393,310.67182058174393]
[127,{"$f":"花园升级数值表!R128","v":2116.8867182619442},317.53300773929163,317.53300773929163,317.53300773929163,317.53300773929163]
[128,{"$f":"花园升级数值表!R129","v":2163.6381614347592},324.54572421521385,324.54572421521385,324.54572421521385,324.54572421521385]
[129,{"$f":"花园升级数值表!R130","v":2211.4221102300457},331.71331653450687,331.71331653450687,331.71331653450687,331.71331653450687]
[130,{"$f":"花园升级数值表!R131","v":2260.2613675344737},{"$f":"B131*0.15","v":339.03920513017107},{"$f":"B131*0.15","v":339.03920513017107},{"$f":"B131*0.15","v":339.03920513017107},{"$f":"B131*0.15","v":339.03920513017107}]
[131,{"$f":"花园升级数值表!R132","v":2310.1792398364723},346.52688597547086,346.52688597547086,346.52688597547086,346.52688597547086]
[132,{"$f":"花园升级数值表!R133","v":2361.1995483482606},354.1799322522391,354.1799322522391,354.1799322522391,354.1799322522391]
[133,{"$f":"花园升级数值表!R134","v":2413.3466403735315},362.00199605602972,362.00199605602972,362.00199605602972,362.00199605602972]
[134,{"$f":"花园升级数值表!R135","v":2466.6454009261806},369.99681013892706,369.99681013892706,369.99681013892706,369.99681013892706]
[135,{"$f":"花园升级数值表!R136","v":2521.1212646056347},378.16818969084517,378.16818969084517,378.16818969084517,378.16818969084517]
[136,{"$f":"花园升级数值表!R137","v":2576.800227734449},386.52003416016731,386.52003416016731,386.52003416016731,386.52003416016731]
[137,{"$f":"花园升级数值表!R138","v":2633.7088607639625},395.05632911459435,395.05632911459435,395.05632911459435,395.05632911459435]
[138,{"$f":"花园升级数值表!R139","v":2691.8743209539352},403.78114814309026,403.78114814309026,403.78114814309026,403.78114814309026]
[139,{"$f":"花园升级数值表!R140","v":2751.3243653322024},412.69865479983036,412.69865479983036,412.69865479983036,412.69865479983036]
[140,{"$f":"花园升级数值表!R141","v":2812.0873639405645},421.81310459108465,421.81310459108465,421.81310459108465,421.81310459108465]
[141,{"$f":"花园升级数值表!R142","v":2874.1923133731921},431.1288470059788,431.1288470059788,431.1288470059788,431.1288470059788]
[142,{"$f":"花园升级数值表!R143","v":2937.6688506140376},440.65032759210561,440.65032759210561,440.65032759210561,440.65032759210561]
[143,{"$f":"花园升级数值表!R144","v":3002.5472671798466},450.38209007697697,450.38209007697697,450.38209007697697,450.38209007697697]
[144,{"$f":"花园升级数值表!R145","v":3068.8585235755131},460.32877853632698,460.32877853632698,460.32877853632698,460.32877853632698]
[145,{"$f":"花园升级数值表!R146","v":3136.6342640686789},470.49513961030181,470.49513961030181,470.49513961030181,470.49513961030181]
[146,{"$f":"花园升级数值表!R147","v":3205.9068317906354},480.88602476859529,480.88602476859529,480.88602476859529,480.88602476859529]
[147,{"$f":"花园升级数值表!R148","v":3276.7092841707299},491.50639262560946,491.50639262560946,491.50639262560946,491.50639262560946]
[148,{"$f":"花园升级数值表!R149","v":3349.0754087116416},502.36131130674619,502.36131130674619,502.36131130674619,502.36131130674619]
[149,{"$f":"花园升级数值表!R150","v":3423.0397391130368},513.45596086695548,513.45596086695548,513.45596086695548,513.45596086695548]
[150,{"$f":"花园升级数值表!R151","v":3498.637571751347},524.79563576270198,524.79563576270198,524.79563576270198,524.79563576270198]
[151,{"$f":"花园升级数值表!R152","v":3575.9049825234747},536.38574737852116,536.38574737852116,536.38574737852116,536.38574737852116]
[152,{"$f":"花园升级数值表!R153","v":3654.8788440625049},548.23182660937573,548.23182660937573,548.23182660937573,548.23182660937573]
[153,{"$f":"花园升级数值表!R154","v":3735.5968433336261},560.33952650004392,560.33952650004392,560.33952650004392,560.33952650004392]
[154,{"$f":"花园升级数值表!R155","v":3818.0974996186483},572.71462494279717,572.71462494279717,572.71462494279717,572.71462494279717]
[155,{"$f":"花园升级数值表!R156","v":3902.4201828977248},585.36302743465865,585.36302743465865,585.36302743465865,585.36302743465865]
[156,{"$f":"花园升级数值表!R157","v":3988.6051326370207},598.29076989555313,598.29076989555313,598.29076989555313,598.29076989555313]
[157,{"$f":"花园升级数值表!R158","v":4076.6934769913105},611.50402154869653,611.50402154869653,611.50402154869653,611.50402154869653]
[158,{"$f":"花园升级数值表!R159","v":4166.7272524306609},625.00908786459911,625.00908786459911,625.00908786459911,625.00908786459911]
[159,{"$f":"花园升级数值表!R160","v":4258.7494238005902},638.81241357008855,638.81241357008855,638.81241357008855,638.81241357008855]
[160,{"$f":"花园升级数值表!R161","v":4352.8039048252258},652.9205857237838,652.9205857237838,652.9205857237838,652.9205857237838]
[161,{"$f":"花园升级数值表!R162","v":4448.9355790632926},667.34033685949385,667.34033685949385,667.34033685949385,667.34033685949385]
[162,{"$f":"花园升级数值表!R163","v":4547.1903213269024},682.07854819903537,682.07854819903537,682.07854819903537,682.07854819903537]
[163,{"$f":"花园升级数值表!R164","v":4647.6150195734053},697.14225293601078,697.14225293601078,697.14225293601078,697.14225293601078]
[164,{"$f":"花园升级数值表!R165","v":4750.2575972806844},712.53863959210264,712.53863959210264,712.53863959210264,712.53863959210264]
[165,{"$f":"花园升级数值表!R166","v":4855.1670363166277},728.27505544749408,728.27505544749408,728.27505544749408,728.27505544749408]
[166,{"$f":"花园升级数值表!R167","v":4962.3934003136765},744.35901004705147,744.35901004705147,744.35901004705147,744.35901004705147]
[167,{"$f":"花园升级数值表!R168","v":5071.9878585596043},760.79817878394067,760.79817878394067,760.79817878394067,760.79817878394067]
[168,{"$f":"花园升级数值表!R169","v":5184.0027104158935},777.60040656238402,777.60040656238402,777.60040656238402,777.60040656238402]
[169,{"$f":"花园升级数值表!R170","v":5298.4914102754274},794.77371154131413,794.77371154131413,794.77371154131413,794.77371154131413]
[170,{"$f":"花园升级数值表!R171","v":5415.5085930713585},812.32628896070378,812.32628896070378,812.32628896070378,812.32628896070378]
[171,{"$f":"花园升级数值表!R172","v":5562.6479615451053},834.39719423176575,834.39719423176575,834.39719423176575,834.39719423176575]
[172,{"$f":"花园升级数值表!R173","v":5713.7851066602861},857.06776599904288,857.06776599904288,857.06776599904288,857.06776599904288]
[173,{"$f":"花园升级数值表!R174","v":5869.028648008245},880.3542972012367,880.3542972012367,880.3542972012367,880.3542972012367]
[174,{"$f":"花园升级数值表!R175","v":6028.490156374628},904.2735234561942,904.2735234561942,904.2735234561942,904.2735234561942]
[175,{"$f":"花园升级数值表!R176","v":6192.2842339233266},928.84263508849892,928.84263508849892,928.84263508849892,928.84263508849892]
[176,{"$f":"花园升级数值表!R177","v":6360.528596559021},954.07928948385313,954.07928948385313,954.07928948385313,954.07928948385313]
[177,{"$f":"花园升级数值表!R178","v":6533.3441585275277},980.00162377912909,980.00162377912909,980.00162377912909,980.00162377912909]
[178,{"$f":"花园升级数值表!R179","v":6710.8551193147205},1006.628267897208,1006.628267897208,1006.628267897208,1006.628267897208]
[179,{"$f":"花园升级数值表!R180","v":6893.1890529065013},1033.9783579359751,1033.9783579359751,1033.9783579359751,1033.9783579359751]
[180,{"$f":"花园升级数值表!R181","v":7080.4769994739736},1062.071549921096,1062.071549921096,1062.071549921096,1062.071549921096]
[181,{"$f":"花园升级数值表!R182","v":7272.8535595496742},1090.9280339324512,1090.9280339324512,1090.9280339324512,1090.9280339324512]
[182,{"$f":"花园升级数值表!R183","v":7470.456990762641},1120.5685486143961,1120.5685486143961,1120.5685486143961,1120.5685486143961]
[183,{"$f":"花园升级数值表!R184","v":7673.4293072016608},1151.0143960802491,1151.0143960802491,1151.0143960802491,1151.0143960802491]
[184,{"$f":"花园升级数值表!R185","v":7881.916381478326},1182.2874572217488,1182.2874572217488,1182.2874572217488,1182.2874572217488]
[185,{"$f":"花园升级数值表!R186","v":8096.0680495630913},1214.4102074344637,1214.4102074344637,1214.4102074344637,1214.4102074344637]
[186,{"$f":"花园升级数值表!R187","v":8316.0382184697246},1247.4057327704586,1247.4057327704586,1247.4057327704586,1247.4057327704586]
[187,{"$f":"花园升级数值表!R188","v":8541.9849768655422},1281.2977465298313,1281.2977465298313,1281.2977465298313,1281.2977465298313]
[188,{"$f":"花园升级数值表!R189","v":8774.0707086869788},1316.1106063030468,1316.1106063030468,1316.1106063030468,1316.1106063030468]
[189,{"$f":"花园升级数值表!R190","v":9012.4622098419986},1351.8693314762997,1351.8693314762997,1351.8693314762997,1351.8693314762997]
[190,{"$f":"花园升级数值表!R191","v":9257.3308080834067},1388.599621212511,1388.599621212511,1388.599621212511,1388.599621212511]
[191,{"$f":"花园升级数值表!R192","v":9508.8524861390342},1426.327872920855,1426.327872920855,1426.327872920855,1426.327872920855]
[192,{"$f":"花园升级数值表!R193","v":9767.2080081874301},1465.0812012281144,1465.0812012281144,1465.0812012281144,1465.0812012281144]
[193,{"$f":"花园升级数值表!R194","v":10032.583049769879},1504.8874574654817,1504.8874574654817,1504.8874574654817,1504.8874574654817]
[194,{"$f":"花园升级数值表!R195","v":10305.168331232127},{"$f":"B195*0.15","v":1545.7752496848191},{"$f":"B195*0.15","v":1545.7752496848191},{"$f":"B195*0.15","v":1545.7752496848191},{"$f":"B195*0.15","v":1545.7752496848191}]
[195,{"$f":"花园升级数值表!R196","v":10585.159754791706},1587.7739632187559,1587.7739632187559,1587.7739632187559,1587.7739632187559]
[196,{"$f":"花园升级数值表!R197","v":10872.758545329396},1630.9137817994094,1630.9137817994094,1630.9137817994094,1630.9137817994094]
[197,{"$f":"花园升级数值表!R198","v":11168.171395005995},1675.2257092508992,1675.2257092508992,1675.2257092508992,1675.2257092508992]
[198,{"$f":"花园升级数值表!R199","v":11471.610611808308},1720.7415917712462,1720.7415917712462,1720.7415917712462,1720.7415917712462]
[199,{"$f":"花园升级数值表!R200","v":11783.294272131143},1767.4941408196714,1767.4941408196714,1767.4941408196714,1767.4941408196714]
[200,{"$f":"花园升级数值表!R201","v":12103.446377504939},1815.5169566257407,1815.5169566257407,1815.5169566257407,1815.5169566257407]
[201,{"$f":"花园升级数值表!R202","v":12432.297015581755},1864.8445523372632,1864.8445523372632,1864.8445523372632,1864.8445523372632]
[202,{"$f":"花园升级数值表!R203","v":12770.082525495107},1915.5123788242659,1915.5123788242659,1915.5123788242659,1915.5123788242659]
[203,{"$f":"花园升级数值表!R204","v":13117.045667712806},1967.5568501569207,1967.5568501569207,1967.5568501569207,1967.5568501569207]
[204,{"$f":"花园升级数值表!R205","v":13473.435798504559},2021.0153697756837,2021.0153697756837,2021.0153697756837,2021.0153697756837]
[205,{"$f":"花园升级数值表!R206","v":13839.509049149927},2075.9263573724888,2075.9263573724888,2075.9263573724888,2075.9263573724888]
[206,{"$f":"花园升级数值表!R207","v":14215.528510015336},2132.3292765023002,2132.3292765023002,2132.3292765023002,2132.3292765023002]
[207,{"$f":"花园升级数值表!R208","v":14601.764419632445},2190.2646629448668,2190.2646629448668,2190.2646629448668,2190.2646629448668]
[208,{"$f":"花园升级数值表!R209","v":14998.494358913857},2249.7741538370783,2249.7741538370783,2249.7741538370783,2249.7741538370783]
[209,{"$f":"花园升级数值表!R210","v":15406.003450645549},2310.9005175968323,2310.9005175968323,2310.9005175968323,2310.9005175968323]
[210,{"$f":"花园升级数值表!R211","v":15824.58456439958},2373.6876846599371,2373.6876846599371,2373.6876846599371,2373.6876846599371]
[211,{"$f":"花园升级数值表!R212","v":16254.538527014316},2438.1807790521475,2438.1807790521475,2438.1807790521475,2438.1807790521475]
[212,{"$f":"花园升级数值表!R213","v":16696.174338793291},2504.4261508189934,2504.4261508189934,2504.4261508189934,2504.4261508189934]
[213,{"$f":"花园升级数值表!R214","v":17149.809395578304},2572.4714093367456,2572.4714093367456,2572.4714093367456,2572.4714093367456]
[214,{"$f":"花园升级数值表!R215","v":17615.769716856164},2642.3654575284245,2642.3654575284245,2642.3654575284245,2642.3654575284245]
[215,{"$f":"花园升级数值表!R216","v":18094.390180063139},2714.1585270094706,2714.1585270094706,2714.1585270094706,2714.1585270094706]
[216,{"$f":"花园升级数值表!R217","v":18586.014761255454},2787.9022141883179,2787.9022141883179,2787.9022141883179,2787.9022141883179]
[217,{"$f":"花园升级数值表!R218","v":19090.996782318769},2863.6495173478152,2863.6495173478152,2863.6495173478152,2863.6495173478152]
[218,{"$f":"花园升级数值表!R219","v":19609.699164894366},2941.4548747341546,2941.4548747341546,2941.4548747341546,2941.4548747341546]
[219,{"$f":"花园升级数值表!R220","v":20142.494691204538},3021.3742036806807,3021.3742036806807,3021.3742036806807,3021.3742036806807]
[220,{"$f":"花园升级数值表!R221","v":20689.766271964563},3103.4649407946845,3103.4649407946845,3103.4649407946845,3103.4649407946845]
[221,{"$f":"花园升级数值表!R222","v":21251.907221573842},3187.7860832360761,3187.7860832360761,3187.7860832360761,3187.7860832360761]
[222,{"$f":"花园升级数值表!R223","v":21829.321540784},3274.3982311176001,3274.3982311176001,3274.3982311176001,3274.3982311176001]
[223,{"$f":"花园升级数值表!R224","v":22422.42420704709},3363.3636310570632,3363.3636310570632,3363.3636310570632,3363.3636310570632]
[224,{"$f":"花园升级数值表!R225","v":23031.641472752563},3454.7462209128844,3454.7462209128844,3454.7462209128844,3454.7462209128844]
[225,{"$f":"花园升级数值表!R226","v":23657.411171567252},3548.6116757350878,3548.6116757350878,3548.6116757350878,3548.6116757350878]
[226,{"$f":"花园升级数值表!R227","v":24300.183033098725},3645.0274549648088,3645.0274549648088,3645.0274549648088,3645.0274549648088]
[227,{"$f":"花园升级数值表!R228","v":24960.419006108023},3744.0628509162034,3744.0628509162034,3744.0628509162034,3744.0628509162034]
[228,{"$f":"花园升级数值表!R229","v":25638.593590503977},3845.7890385755964,3845.7890385755964,3845.7890385755964,3845.7890385755964]
[229,{"$f":"花园升级数值表!R230","v":26335.19417835796},3950.2791267536941,3950.2791267536941,3950.2791267536941,3950.2791267536941]
[230,{"$f":"花园升级数值表!R231","v":27050.721404183947},4057.6082106275917,4057.6082106275917,4057.6082106275917,4057.6082106275917]
[231,{"$f":"花园升级数值表!R232","v":27785.689504735608},4167.8534257103411,4167.8534257103411,4167.8534257103411,4167.8534257103411]
[232,{"$f":"花园升级数值表!R233","v":28540.626688579265},4281.0940032868893,4281.0940032868893,4281.0940032868893,4281.0940032868893]
[233,{"$f":"花园升级数值表!R234","v":29316.075515707969},4397.4113273561952,4397.4113273561952,4397.4113273561952,4397.4113273561952]
[234,{"$f":"花园升级数值表!R235","v":30112.593287469761},4516.888993120464,4516.888993120464,4516.888993120464,4516.888993120464]
[235,{"$f":"花园升级数值表!R236","v":30930.752447090304},4639.6128670635453,4639.6128670635453,4639.6128670635453,4639.6128670635453]
[236,{"$f":"花园升级数值表!R237","v":31771.140991077744},4765.6711486616614,4765.6711486616614,4765.6711486616614,4765.6711486616614]
[237,{"$f":"花园升级数值表!R238","v":32634.362891805325},4895.1544337707983,4895.1544337707983,4895.1544337707983,4895.1544337707983]
[238,{"$f":"花园升级数值表!R239","v":33521.038531575687},5028.155779736353,5028.155779736353,5028.155779736353,5028.155779736353]
[239,{"$f":"花园升级数值表!R240","v":34431.805148478597},5164.7707722717896,5164.7707722717896,5164.7707722717896,5164.7707722717896]
[240,{"$f":"花园升级数值表!R241","v":35367.317294362743},5305.0975941544111,5305.0975941544111,5305.0975941544111,5305.0975941544111]
[241,{"$f":"花园升级数值表!R242","v":36328.247305250588},5449.2370957875883,5449.2370957875883,5449.2370957875883,5449.2370957875883]
[242,{"$f":"花园升级数值表!R243","v":37315.285784534251},5597.2928676801375,5597.2928676801375,5597.2928676801375,5597.2928676801375]
[243,{"$f":"花园升级数值表!R244","v":38329.142099300036},5749.3713148950055,5749.3713148950055,5749.3713148950055,5749.3713148950055]
[244,{"$f":"花园升级数值表!R245","v":39370.544890138015},5905.5817335207021,5905.5817335207021,5905.5817335207021,5905.5817335207021]
[245,{"$f":"花园升级数值表!R246","v":40440.24259480305},6066.0363892204577,6066.0363892204577,6066.0363892204577,6066.0363892204577]
[246,{"$f":"花园升级数值表!R247","v":41539.003986103853},6230.850597915578,6230.850597915578,6230.850597915578,6230.850597915578]
[247,{"$f":"花园升级数值表!R248","v":42667.618724406268},6400.1428086609403,6400.1428086609403,6400.1428086609403,6400.1428086609403]
[248,{"$f":"花园升级数值表!R249","v":43826.897925148391},6574.0346887722581,6574.0346887722581,6574.0346887722581,6574.0346887722581]
[249,{"$f":"花园升级数值表!R250","v":45017.674741774681},6752.6512112662022,6752.6512112662022,6752.6512112662022,6752.6512112662022]
[250,{"$f":"花园升级数值表!R251","v":46240.804964508694},6936.1207446763037,6936.1207446763037,6936.1207446763037,6936.1207446763037]
[251,{"$f":"花园升级数值表!R252","v":47497.167635394362},7124.5751453091543,7124.5751453091543,7124.5751453091543,7124.5751453091543]
[252,{"$f":"花园升级数值表!R253","v":48787.665680048034},7318.1498520072046,7318.1498520072046,7318.1498520072046,7318.1498520072046]
[253,{"$f":"花园升级数值表!R254","v":50113.226556574948},7516.9839834862414,7516.9839834862414,7516.9839834862414,7516.9839834862414]
[254,{"$f":"花园升级数值表!R255","v":51474.802922117095},7721.220438317564,7721.220438317564,7721.220438317564,7721.220438317564]
[255,{"$f":"花园升级数值表!R256","v":52873.373317511032},7931.0059976266548,7931.0059976266548,7931.0059976266548,7931.0059976266548]
[256,{"$f":"花园升级数值表!R257","v":54309.942870547777},8146.4914305821658,8146.4914305821658,8146.4914305821658,8146.4914305821658]
[257,{"$f":"花园升级数值表!R258","v":55785.544018340552},8367.8316027510828,8367.8316027510828,8367.8316027510828,8367.8316027510828]
[258,{"$f":"花园升级数值表!R259","v":57301.237249318867},{"$f":"B259*0.15","v":8595.1855873978293},{"$f":"B259*0.15","v":8595.1855873978293},{"$f":"B259*0.15","v":8595.1855873978293},{"$f":"B259*0.15","v":8595.1855873978293}]
[259,{"$f":"花园升级数值表!R260","v":58858.11186538286},8828.7167798074279,8828.7167798074279,8828.7167798074279,8828.7167798074279]
[260,{"$f":"花园升级数值表!R261","v":60457.286764765311},9068.5930147147956,9068.5930147147956,9068.5930147147956,9068.5930147147956]
[261,{"$f":"花园升级数值表!R262","v":62099.911246163945},9314.9866869245907,9314.9866869245907,9314.9866869245907,9314.9866869245907]
[262,{"$f":"花园升级数值表!R263","v":63787.165834722226},9568.0748752083327,9568.0748752083327,9568.0748752083327,9568.0748752083327]
[263,{"$f":"花园升级数值表!R264","v":65520.263130451618},9828.0394695677423,9828.0394695677423,9828.0394695677423,9828.0394695677423]
[264,{"$f":"花园升级数值表!R265","v":67300.448679705965},10095.067301955894,10095.067301955894,10095.067301955894,10095.067301955894]
[265,{"$f":"花园升级数值表!R266","v":69129.001870333581},10369.350280550037,10369.350280550037,10369.350280550037,10369.350280550037]
[266,{"$f":"花园升级数值表!R267","v":71007.236851150534},10651.08552767258,10651.08552767258,10651.08552767258,10651.08552767258]
[267,{"$f":"花园升级数值表!R268","v":72936.50347639629},10940.475521459442,10940.475521459442,10940.475521459442,10940.475521459442]
[268,{"$f":"花园升级数值表!R269","v":74918.188275849971},11237.728241377496,11237.728241377496,11237.728241377496,11237.728241377496]
[269,{"$f":"花园升级数值表!R270","v":76953.715451304815},11543.057317695722,11543.057317695722,11543.057317695722,11543.057317695722]
[270,{"$f":"花园升级数值表!R271","v":79044.54790011677},11856.682185017515,11856.682185017515,11856.682185017515,11856.682185017515]
[271,{"$f":"花园升级数值表!R272","v":81192.188266562895},12178.828239984434,12178.828239984434,12178.828239984434,12178.828239984434]
[272,{"$f":"花园升级数值表!R273","v":83398.180021765424},12509.727003264814,12509.727003264814,12509.727003264814,12509.727003264814]
[273,{"$f":"花园升级数值表!R274","v":85664.108572956757},12849.616285943514,12849.616285943514,12849.616285943514,12849.616285943514]
[274,{"$f":"花园升级数值表!R275","v":87991.602402884018},13198.740360432603,13198.740360432603,13198.740360432603,13198.740360432603]
[275,{"$f":"花园升级数值表!R276","v":90382.33424017037},13557.350136025556,13557.350136025556,13557.350136025556,13557.350136025556]
[276,{"$f":"花园升级数值表!R277","v":92838.02226147578},13925.703339221367,13925.703339221367,13925.703339221367,13925.703339221367]
[277,{"$f":"花园升级数值表!R278","v":95360.431326320075},14304.06469894801,14304.06469894801,14304.06469894801,14304.06469894801]
[278,{"$f":"花园升级数值表!R279","v":97951.374245456173},14692.706136818426,14692.706136818426,14692.706136818426,14692.706136818426]
[279,{"$f":"花园升级数值表!R280","v":100612.7130837052},15091.906962555779,15091.906962555779,15091.906962555779,15091.906962555779]
[280,{"$f":"花园升级数值表!R281","v":103346.36049818946},15501.954074728419,15501.954074728419,15501.954074728419,15501.954074728419]
[281,{"$f":"花园升级数值表!R282","v":106154.28111292528},15923.142166938791,15923.142166938791,15923.142166938791,15923.142166938791]
[282,{"$f":"花园升级数值表!R283","v":109038.49293076344},16355.773939614515,16355.773939614515,16355.773939614515,16355.773939614515]
[283,{"$f":"花园升级数值表!R284","v":112001.06878369224},16800.160317553837,16800.160317553837,16800.160317553837,16800.160317553837]
[284,{"$f":"花园升级数值表!R285","v":115044.13782254518},17256.620673381774,17256.620673381774,17256.620673381774,17256.620673381774]
[285,{"$f":"花园升级数值表!R286","v":118169.88704718367},17725.483057077548,17725.483057077548,17725.483057077548,17725.483057077548]
[286,{"$f":"花园升级数值表!R287","v":121380.56287825567},18207.084431738349,18207.084431738349,18207.084431738349,18207.084431738349]
[287,{"$f":"花园升级数值表!R288","v":124678.47277165791},18701.770915748686,18701.770915748686,18701.770915748686,18701.770915748686]
[288,{"$f":"花园升级数值表!R289","v":128065.98687686386},19209.898031529578,19209.898031529578,19209.898031529578,19209.898031529578]
[289,{"$f":"花园升级数值表!R290","v":131545.53974030819},19731.830961046227,19731.830961046227,19731.830961046227,19731.830961046227]
[290,{"$f":"花园升级数值表!R291","v":135119.63205505241},20267.94480825786,20267.94480825786,20267.94480825786,20267.94480825786]
[291,{"$f":"花园升级数值表!R292","v":138790.83245798812},20818.624868698218,20818.624868698218,20818.624868698218,20818.624868698218]
[292,{"$f":"花园升级数值表!R293","v":142561.7793758717},21384.266906380755,21384.266906380755,21384.266906380755,21384.266906380755]
[293,{"$f":"花园升级数值表!R294","v":146435.18292151406},21965.277438227109,21965.277438227109,21965.277438227109,21965.277438227109]
[294,{"$f":"花园升级数值表!R295","v":150413.82684149162},22562.074026223741,22562.074026223741,22562.074026223741,22562.074026223741]
[295,{"$f":"花园升级数值表!R296","v":154500.57051677495},23175.085577516242,23175.085577516242,23175.085577516242,23175.085577516242]
[296,{"$f":"花园升级数值表!R297","v":158698.35101771576},23804.752652657364,23804.752652657364,23804.752652657364,23804.752652657364]
[297,{"$f":"花园升级数值表!R298","v":163010.18521486697},24451.527782230045,24451.527782230045,24451.527782230045,24451.527782230045]
[298,{"$f":"花园升级数值表!R299","v":167439.17194715494},25115.875792073242,25115.875792073242,25115.875792073242,25115.875792073242]
[299,{"$f":"花园升级数值表!R300","v":171988.49424895915},25798.274137343873,25798.274137343873,25798.274137343873,25798.274137343873]
[300,{"$f":"花园升级数值表!R301","v":176661.42163770334},26499.213245655501,26499.213245655501,26499.213245655501,26499.213245655501]
[301,{"$f":"花园升级数值表!R302","v":181461.31246359978},27219.196869539966,27219.196869539966,27219.196869539966,27219.196869539966]
[302,{"$f":"花园升级数值表!R303","v":186391.61632323574},27958.742448485358,27958.742448485358,27958.742448485358,27958.742448485358]
[303,{"$f":"花园升级数值表!R304","v":191455.87653873806},28718.381480810709,28718.381480810709,28718.381480810709,28718.381480810709]
[304,{"$f":"花园升级数值表!R305","v":196657.73270429549},29498.659905644323,29498.659905644323,29498.659905644323,29498.659905644323]
[305,{"$f":"花园升级数值表!R306","v":202000.92330187114},30300.138495280669,30300.138495280669,30300.138495280669,30300.138495280669]
[306,{"$f":"花园升级数值表!R307","v":207489.28838798299},31123.393258197448,31123.393258197448,31123.393258197448,31123.393258197448]
[307,{"$f":"花园升级数值表!R308","v":213126.77235348444},31969.015853022665,31969.015853022665,31969.015853022665,31969.015853022665]
[308,{"$f":"花园升级数值表!R309","v":218917.4267583286},32837.614013749291,32837.614013749291,32837.614013749291,32837.614013749291]
[309,{"$f":"花园升级数值表!R310","v":224865.41324335226},33729.811986502835,33729.811986502835,33729.811986502835,33729.811986502835]
[310,{"$f":"花园升级数值表!R311","v":230975.00652117404},34646.250978176104,34646.250978176104,34646.250978176104,34646.250978176104]
[311,{"$f":"花园升级数值表!R312","v":237250.59744835438},35587.589617253157,35587.589617253157,35587.589617253157,35587.589617253157]
[312,{"$f":"花园升级数值表!R313","v":243696.6961810262},36554.50442715393,36554.50442715393,36554.50442715393,36554.50442715393]
[313,{"$f":"花园升级数值表!R314","v":250317.93541626463},37547.690312439692,37547.690312439692,37547.690312439692,37547.690312439692]
[314,{"$f":"花园升级数值表!R315","v":257119.07372152447},38567.861058228671,38567.861058228671,38567.861058228671,38567.861058228671]
[315,{"$f":"花园升级数值表!R316","v":264104.99895453831},39615.749843180747,39615.749843180747,39615.749843180747,39615.749843180747]
[316,{"$f":"花园升级数值表!R317","v":271280.73177613306},40692.109766419955,40692.109766419955,40692.109766419955,40692.109766419955]
[317,{"$f":"花园升级数值表!R318","v":278651.42925849056},41797.71438877358,41797.71438877358,41797.71438877358,41797.71438877358]
[318,{"$f":"花园升级数值表!R319","v":286222.38859144377},42933.358288716561,42933.358288716561,42933.358288716561,42933.358288716561]
[319,{"$f":"花园升级数值表!R320","v":293999.05088947323},44099.857633420987,44099.857633420987,44099.857633420987,44099.857633420987]
[320,{"$f":"花园升级数值表!R321","v":301987.00510214031},45298.050765321044,45298.050765321044,45298.050765321044,45298.050765321044]
[321,{"$f":"花园升级数值表!R322","v":310191.9920307654},46528.798804614809,46528.798804614809,46528.798804614809,46528.798804614809]
[322,{"$f":"花园升级数值表!R323","v":318619.90845424117},{"$f":"B323*0.15","v":47792.986268136177},{"$f":"B323*0.15","v":47792.986268136177},{"$f":"B323*0.15","v":47792.986268136177},{"$f":"B323*0.15","v":47792.986268136177}]
[323,{"$f":"花园升级数值表!R324","v":327276.811366943},49091.52170504145,49091.52170504145,49091.52170504145,49091.52170504145]
[324,{"$f":"花园升级数值表!R325","v":336168.9223317827},50425.3383497674,50425.3383497674,50425.3383497674,50425.3383497674]
[325,{"$f":"花园升级数值表!R326","v":345302.6319515371},51795.394792730563,51795.394792730563,51795.394792730563,51795.394792730563]
[326,{"$f":"花园升级数值表!R327","v":354684.50446166046},53202.675669249067,53202.675669249067,53202.675669249067,53202.675669249067]
[327,{"$f":"花园升级数值表!R328","v":364321.2824478838},54648.192367182572,54648.192367182572,54648.192367182572,54648.192367182572]
[328,{"$f":"花园升级数值表!R329","v":374219.89169199258},56132.983753798886,56132.983753798886,56132.983753798886,56132.983753798886]
[329,{"$f":"花园升级数值表!R330","v":384387.44614926429},57658.116922389643,57658.116922389643,57658.116922389643,57658.116922389643]
[330,{"$f":"花园升级数值表!R331","v":394831.25306113955},59224.687959170929,59224.687959170929,59224.687959170929,59224.687959170929]
[331,{"$f":"花园升级数值表!R332","v":405558.81820681068},60833.822731021603,60833.822731021603,60833.822731021603,60833.822731021603]
[332,{"$f":"花园升级数值表!R333","v":416577.85129748966},62486.677694623446,62486.677694623446,62486.677694623446,62486.677694623446]
[333,{"$f":"花园升级数值表!R334","v":427896.27151724254},64184.440727586378,64184.440727586378,64184.440727586378,64184.440727586378]
[334,{"$f":"花园升级数值表!R335","v":439522.21321436606},65928.331982154908,65928.331982154908,65928.331982154908,65928.331982154908]
[335,{"$f":"花园升级数值表!R336","v":451464.03174740047},67719.604762110073,67719.604762110073,67719.604762110073,67719.604762110073]
[336,{"$f":"花园升级数值表!R337","v":463730.30948997702},69559.546423496548,69559.546423496548,69559.546423496548,69559.546423496548]
[337,{"$f":"花园升级数值表!R338","v":476329.86199881975},71449.479299822953,71449.479299822953,71449.479299822953,71449.479299822953]
[338,{"$f":"花园升级数值表!R339","v":489271.7443493277},73390.761652399146,73390.761652399146,73390.761652399146,73390.761652399146]
[339,{"$f":"花园升级数值表!R340","v":502565.25764329865},75384.788646494795,75384.788646494795,75384.788646494795,75384.788646494795]
[340,{"$f":"花园升级数值表!R341","v":516219.95569346723},77432.993354020087,77432.993354020087,77432.993354020087,77432.993354020087]
[341,{"$f":"花园升级数值表!R342","v":530245.65188965865},79536.8477834488,79536.8477834488,79536.8477834488,79536.8477834488]
[342,{"$f":"花园升级数值表!R343","v":544652.4262515005},81697.863937725066,81697.863937725066,81697.863937725066,81697.863937725066]
[343,{"$f":"花园升级数值表!R344","v":559450.63267275412},83917.594900913115,83917.594900913115,83917.594900913115,83917.594900913115]
[344,{"$f":"花园升级数值表!R345","v":574650.90636247268},86197.635954370897,86197.635954370897,86197.635954370897,86197.635954370897]
[345,{"$f":"花园升级数值表!R346","v":590264.17148834094},88539.625723251142,88539.625723251142,88539.625723251142,88539.625723251142]
[346,{"$f":"花园升级数值表!R347","v":606301.64902767912},90945.24735415187,90945.24735415187,90945.24735415187,90945.24735415187]
[347,{"$f":"花园升级数值表!R348","v":622774.86483176099},93416.22972476414,93416.22972476414,93416.22972476414,93416.22972476414]
[348,{"$f":"花园升级数值表!R349","v":639695.65790923988},95954.348686385973,95954.348686385973,95954.348686385973,95954.348686385973]
[349,{"$f":"花园升级数值表!R350","v":657076.18893463386},98561.428340195082,98561.428340195082,98561.428340195082,98561.428340195082]
[350,{"$f":"花园升级数值表!R351","v":674928.94898798841},101239.34234819826,101239.34234819826,101239.34234819826,101239.34234819826]
[351,{"$f":"花园升级数值表!R352","v":693266.76853199163},103990.01527979874,103990.01527979874,103990.01527979874,103990.01527979874]
[352,{"$f":"花园升级数值表!R353","v":712102.82663300552},106815.42399495082,106815.42399495082,106815.42399495082,106815.42399495082]
[353,{"$f":"花园升级数值表!R354","v":731450.66043262428},109717.59906489364,109717.59906489364,109717.59906489364,109717.59906489364]
[354,{"$f":"花园升级数值表!R355","v":751324.17487657839},112698.62623148675,112698.62623148675,112698.62623148675,112698.62623148675]
[355,{"$f":"花园升级数值表!R356","v":771737.65270797512},115760.64790619626,115760.64790619626,115760.64790619626,115760.64790619626]
[356,{"$f":"花园升级数值表!R357","v":792705.76473205059},118905.86470980759,118905.86470980759,118905.86470980759,118905.86470980759]
[357,{"$f":"花园升级数值表!R358","v":814243.58035982051},122136.53705397306,122136.53705397306,122136.53705397306,122136.53705397306]
[358,{"$f":"花园升级数值表!R359","v":836366.5784381968},125454.98676572951,125454.98676572951,125454.98676572951,125454.98676572951]
[359,{"$f":"花园升级数值表!R360","v":859090.65837436239},128863.59875615436,128863.59875615436,128863.59875615436,128863.59875615436]
[360,{"$f":"花园升级数值表!R361","v":882432.15156239376},132364.82273435907,132364.82273435907,132364.82273435907,132364.82273435907]
[361,{"$f":"花园升级数值表!R362","v":906407.83312034397},135961.17496805158,135961.17496805158,135961.17496805158,135961.17496805158]
[362,{"$f":"花园升级数值表!R363","v":931034.93394622346},139655.24009193352,139655.24009193352,139655.24009193352,139655.24009193352]
[363,{"$f":"花园升级数值表!R364","v":956331.1531015425},143449.67296523138,143449.67296523138,143449.67296523138,143449.67296523138]
[364,{"$f":"花园升级数值表!R365","v":982314.67053131107},147347.20057969666,147347.20057969666,147347.20057969666,147347.20057969666]
[365,{"$f":"花园升级数值表!R366","v":1009004.1601296468},151350.62401944702,151350.62401944702,151350.62401944702,151350.62401944702]
[366,{"$f":"花园升级数值表!R367","v":1036418.803160369},155462.82047405536,155462.82047405536,155462.82047405536,155462.82047405536]
[367,{"$f":"花园升级数值表!R368","v":1064578.3020422366},159686.74530633548,159686.74530633548,159686.74530633548,159686.74530633548]
[368,{"$f":"花园升级数值表!R369","v":1093502.8945087241},164025.4341763086,164025.4341763086,164025.4341763086,164025.4341763086]
[369,{"$f":"花园升级数值表!R370","v":1123213.3681525264},168482.00522287897,168482.00522287897,168482.00522287897,168482.00522287897]
[370,{"$f":"花园升级数值表!R371","v":1153731.0753652304},173059.66130478456,173059.66130478456,173059.66130478456,173059.66130478456]
[371,{"$f":"花园升级数值表!R372","v":1185077.9486829038},177761.69230243555,177761.69230243555,177761.69230243555,177761.69230243555]
[372,{"$f":"花园升级数值表!R373","v":1217276.5165486177},182591.47748229266,182591.47748229266,182591.47748229266,182591.47748229266]
[373,{"$f":"花园升级数值表!R374","v":1250349.9195032441},187552.48792548661,187552.48792548661,187552.48792548661,187552.48792548661]
[374,{"$f":"花园升级数值表!R375","v":1284321.9268161461},192648.2890224219,192648.2890224219,192648.2890224219,192648.2890224219]
[375,{"$f":"花园升级数值表!R376","v":1319216.953567741},197882.54303516113,197882.54303516113,197882.54303516113,197882.54303516113]
[376,{"$f":"花园升级数值表!R377","v":1355060.0781961754},203259.0117294263,203259.0117294263,203259.0117294263,203259.0117294263]
[377,{"$f":"花园升级数值表!R378","v":1391877.0605207668},208781.55907811501,208781.55907811501,208781.55907811501,208781.55907811501]
[378,{"$f":"花园升级数值表!R379","v":1429694.3602551157},214454.15403826736,214454.15403826736,214454.15403826736,214454.15403826736]
[379,{"$f":"花园升级数值表!R380","v":1468539.1560232474},220280.87340348712,220280.87340348712,220280.87340348712,220280.87340348712]
[380,{"$f":"花园升级数值表!R381","v":1508439.3648923987},226265.90473385979,226265.90473385979,226265.90473385979,226265.90473385979]
[381,{"$f":"花园升级数值表!R382","v":1549423.6624365251},232413.54936547877,232413.54936547877,232413.54936547877,232413.54936547877]
[382,{"$f":"花园升级数值表!R383","v":1591521.5033449256},238728.22550173884,238728.22550173884,238728.22550173884,238728.22550173884]
[383,{"$f":"花园升级数值表!R384","v":1634763.1425908066},245214.47138862096,245214.47138862096,245214.47138862096,245214.47138862096]
[384,{"$f":"花园升级数值表!R385","v":1679179.6571749991},251876.94857624985,251876.94857624985,251876.94857624985,251876.94857624985]
[385,{"$f":"花园升级数值表!R386","v":1724802.9684604437},258720.44526906655,258720.44526906655,258720.44526906655,258720.44526906655]
[386,{"$f":"花园升级数值表!R387","v":1771665.8651135138},{"$f":"B387*0.15","v":265749.87976702704},{"$f":"B387*0.15","v":265749.87976702704},{"$f":"B387*0.15","v":265749.87976702704},{"$f":"B387*0.15","v":265749.87976702704}]
[387,{"$f":"花园升级数值表!R388","v":1819802.0266686475},272970.3040002971,272970.3040002971,272970.3040002971,272970.3040002971]
[388,{"$f":"花园升级数值表!R389","v":1869246.0477332342},280386.9071599851,280386.9071599851,280386.9071599851,280386.9071599851]
[389,{"$f":"花园升级数值表!R390","v":1920033.4628501455},288005.01942752179,288005.01942752179,288005.01942752179,288005.01942752179]
[390,{"$f":"花园升级数值表!R391","v":1972200.7720357846},295830.11580536765,295830.11580536765,295830.11580536765,295830.11580536765]
[391,{"$f":"花园升级数值表!R392","v":2025785.4670119965},303867.82005179947,303867.82005179947,303867.82005179947,303867.82005179947]
[392,{"$f":"花园升级数值表!R393","v":2080826.0581507129},312123.9087226069,312123.9087226069,312123.9087226069,312123.9087226069]
[393,{"$f":"花园升级数值表!R394","v":2137362.1021506679},320604.31532260019,320604.31532260019,320604.31532260019,320604.31532260019]
[394,{"$f":"花园升级数值表!R395","v":2195434.2304661013},329315.13456991519,329315.13456991519,329315.13456991519,329315.13456991519]
[395,{"$f":"花园升级数值表!R396","v":2255084.1785078645},338262.62677617965,338262.62677617965,338262.62677617965,338262.62677617965]
[396,{"$f":"花园升级数值表!R397","v":2316354.8156379233},347453.2223456885,347453.2223456885,347453.2223456885,347453.2223456885]
[397,{"$f":"花园升级数值表!R398","v":2379290.1759788049},356893.52639682073,356893.52639682073,356893.52639682073,356893.52639682073]
[398,{"$f":"花园升级数值表!R399","v":2443935.4900601488},366590.3235090223,366590.3235090223,366590.3235090223,366590.3235090223]
[399,{"$f":"花园升级数值表!R400","v":2510337.2173250825},376550.58259876235,376550.58259876235,376550.58259876235,376550.58259876235]
[400,{"$f":"花园升级数值表!R401","v":2578543.079519806},386781.46192797087,386781.46192797087,386781.46192797087,386781.46192797087]
[401,{"$f":"花园升级数值表!R402","v":2648602.0949903582},397290.31424855371,397290.31424855371,397290.31424855371,397290.31424855371]
[402,{"$f":"花园升级数值表!R403","v":2720564.6139112455},408084.69208668679,408084.69208668679,408084.69208668679,408084.69208668679]
[403,{"$f":"花园升级数值表!R404","v":2794482.3544712146},419172.35317068215,419172.35317068215,419172.35317068215,419172.35317068215]
[404,{"$f":"花园升级数值表!R405","v":2870408.4400421963},430561.26600632945,430561.26600632945,430561.26600632945,430561.26600632945]
[405,{"$f":"花园升级数值表!R406","v":2948397.4373581433},442259.61560372147,442259.61560372147,442259.61560372147,442259.61560372147]
[406,{"$f":"花园升级数值表!R407","v":3028505.3957311627},454275.8093596744,454275.8093596744,454275.8093596744,454275.8093596744]
[407,{"$f":"花园升级数值表!R408","v":3110789.8873331789},466618.48309997685,466618.48309997685,466618.48309997685,466618.48309997685]
[408,{"$f":"花园升级数值表!R409","v":3195310.0485720201},479296.50728580297,479296.50728580297,479296.50728580297,479296.50728580297]
[409,{"$f":"花园升级数值表!R410","v":3282126.6225917232},492318.99338875845,492318.99338875845,492318.99338875845,492318.99338875845]
[410,{"$f":"花园升级数值表!R411","v":3371302.0029275389},505695.30043913081,505695.30043913081,505695.30043913081,505695.30043913081]
[411,{"$f":"花园升级数值表!R412","v":3462900.2783470815},519435.04175206221,519435.04175206221,519435.04175206221,519435.04175206221]
[412,{"$f":"花园升级数值表!R413","v":3556987.2789097712},533548.09183646564,533548.09183646564,533548.09183646564,533548.09183646564]
[413,{"$f":"花园升级数值表!R414","v":3653630.623277748},548044.59349166218,548044.59349166218,548044.59349166218,548044.59349166218]
[414,{"$f":"花园升级数值表!R415","v":3752899.7673122035},562934.96509683051,562934.96509683051,562934.96509683051,562934.96509683051]
[415,{"$f":"花园升级数值表!R416","v":3854866.0539900782},578229.90809851175,578229.90809851175,578229.90809851175,578229.90809851175]
[416,{"$f":"花园升级数值表!R417","v":3959602.7646769858},593940.41470154782,593940.41470154782,593940.41470154782,593940.41470154782]
[417,{"$f":"花园升级数值表!R418","v":4067185.1717932615},610077.77576898923,610077.77576898923,610077.77576898923,610077.77576898923]
[418,{"$f":"花园升级数值表!R419","v":4177690.5929108821},626653.58893663227,626653.58893663227,626653.58893663227,626653.58893663227]
[419,{"$f":"花园升级数值表!R420","v":4291198.4463202711},643679.76694804069,643679.76694804069,643679.76694804069,643679.76694804069]
[420,{"$f":"花园升级数值表!R421","v":4407790.3081067903},661168.5462160185,661168.5462160185,661168.5462160185,661168.5462160185]
[421,{"$f":"花园升级数值表!R422","v":4527549.9707780546},679132.49561670818,679132.49561670818,679132.49561670818,679132.49561670818]
[422,{"$f":"花园升级数值表!R423","v":4650563.5034840917},697584.52552261378,697584.52552261378,697584.52552261378,697584.52552261378]
[423,{"$f":"花园升级数值表!R424","v":4776919.313873752},716537.89708106278,716537.89708106278,716537.89708106278,716537.89708106278]
[424,{"$f":"花园升级数值表!R425","v":4906708.2116317051},736006.23174475576,736006.23174475576,736006.23174475576,736006.23174475576]
[425,{"$f":"花园升级数值表!R426","v":5040023.4737417335},756003.52106126002,756003.52106126002,756003.52106126002,756003.52106126002]
[426,{"$f":"花园升级数值表!R427","v":5176960.9115232984},776544.13672849478,776544.13672849478,776544.13672849478,776544.13672849478]
[427,{"$f":"花园升级数值表!R428","v":5317618.9394893851},797642.8409234077,797642.8409234077,797642.8409234077,797642.8409234077]
[428,{"$f":"花园升级数值表!R429","v":5462098.6460753111},819314.79691129667,819314.79691129667,819314.79691129667,819314.79691129667]
[429,{"$f":"花园升级数值表!R430","v":5610503.8662891779},841575.57994337671,841575.57994337671,841575.57994337671,841575.57994337671]
[430,{"$f":"花园升级数值表!R431","v":5762941.256336255},864441.1884504382,864441.1884504382,864441.1884504382,864441.1884504382]
[431,{"$f":"花园升级数值表!R432","v":5919520.3702709107},887928.05554063653,887928.05554063653,887928.05554063653,887928.05554063653]
[432,{"$f":"花园升级数值表!R433","v":6080353.7387311673},912053.06080967502,912053.06080967502,912053.06080967502,912053.06080967502]
[433,{"$f":"花园升级数值表!R434","v":6245556.9498124979},936833.54247187462,936833.54247187462,936833.54247187462,936833.54247187462]
[434,{"$f":"花园升级数值表!R435","v":6415248.7321389029},962287.30982083536,962287.30982083536,962287.30982083536,962287.30982083536]
[435,{"$f":"花园升级数值表!R436","v":6589551.0401911158},988432.65602866735,988432.65602866735,988432.65602866735,988432.65602866735]
[436,{"$f":"花园升级数值表!R437","v":6768589.1419531051},1015288.3712929657,1015288.3712929657,1015288.3712929657,1015288.3712929657]
[437,{"$f":"花园升级数值表!R438","v":6952491.7089399705},1042873.7563409955,1042873.7563409955,1042873.7563409955,1042873.7563409955]
[438,{"$f":"花园升级数值表!R439","v":7141390.9086718718},1071208.6363007808,1071208.6363007808,1071208.6363007808,1071208.6363007808]
[439,{"$f":"花园升级数值表!R440","v":7335422.4996604864},1100313.374949073,1100313.374949073,1100313.374949073,1100313.374949073]
[440,{"$f":"花园升级数值表!R441","v":7534725.9289762573},1130208.8893464385,1130208.8893464385,1130208.8893464385,1130208.8893464385]
[441,{"$f":"花园升级数值表!R442","v":7739444.4324665414},1160916.6648699811,1160916.6648699811,1160916.6648699811,1160916.6648699811]
[442,{"$f":"花园升级数值表!R443","v":7949725.1376966536},1192458.7706544979,1192458.7706544979,1192458.7706544979,1192458.7706544979]
[443,{"$f":"花园升级数值表!R444","v":8165719.1696878718},1224857.8754531806,1224857.8754531806,1224857.8754531806,1224857.8754531806]
[444,{"$f":"花园升级数值表!R445","v":8387581.7595282923},1258137.2639292439,1258137.2639292439,1258137.2639292439,1258137.2639292439]
[445,{"$f":"花园升级数值表!R446","v":8615472.3559346739},1292320.853390201,1292320.853390201,1292320.853390201,1292320.853390201]
[446,{"$f":"花园升级数值表!R447","v":8849554.7398454193},1327433.2109768128,1327433.2109768128,1327433.2109768128,1327433.2109768128]
[447,{"$f":"花园升级数值表!R448","v":9089997.1421270184},1363499.5713190527,1363499.5713190527,1363499.5713190527,1363499.5713190527]
[448,{"$f":"花园升级数值表!R449","v":9336972.3644786067},1400545.854671791,1400545.854671791,1400545.854671791,1400545.854671791]
[449,{"$f":"花园升级数值表!R450","v":9590657.9036214892},1438598.6855432233,1438598.6855432233,1438598.6855432233,1438598.6855432233]
[450,{"$f":"花园升级数值表!R451","v":9851236.078862885},{"$f":"B451*0.15","v":1477685.4118294327},{"$f":"B451*0.15","v":1477685.4118294327},{"$f":"B451*0.15","v":1477685.4118294327},{"$f":"B451*0.15","v":1477685.4118294327}]
[451,{"$f":"花园升级数值表!R452","v":10118894.163125588},1517834.1244688381,1517834.1244688381,1517834.1244688381,1517834.1244688381]
[452,{"$f":"花园升级数值表!R453","v":10393824.517537711},1559073.6776306566,1559073.6776306566,1559073.6776306566,1559073.6776306566]
[453,{"$f":"花园升级数值表!R454","v":10676224.729679205},1601433.7094518805,1601433.7094518805,1601433.7094518805,1601433.7094518805]
[454,{"$f":"花园升级数值表!R455","v":10966297.75558459},1644944.6633376884,1644944.6633376884,1644944.6633376884,1644944.6633376884]
[455,{"$f":"花园升级数值表!R456","v":11264252.065603821},1689637.809840573,1689637.809840573,1689637.809840573,1689637.809840573]
[456,{"$f":"花园升级数值表!R457","v":11570301.794226272},1735545.2691339408,1735545.2691339408,1735545.2691339408,1735545.2691339408]
[457,{"$f":"花园升级数值表!R458","v":11884666.893975401},1782700.0340963101,1782700.0340963101,1782700.0340963101,1782700.0340963101]
[458,{"$f":"花园升级数值表!R459","v":12207573.293484712},1831135.9940227068,1831135.9940227068,1831135.9940227068,1831135.9940227068]
[459,{"$f":"花园升级数值表!R460","v":12539253.059868688},1880887.958980303,1880887.958980303,1880887.958980303,1880887.958980303]
[460,{"$f":"花园升级数值表!R461","v":12879944.56550532},1931991.684825798,1931991.684825798,1931991.684825798,1931991.684825798]
[461,{"$f":"花园升级数值表!R462","v":13229892.659350101},1984483.8989025149,1984483.8989025149,1984483.8989025149,1984483.8989025149]
[462,{"$f":"花园升级数值表!R463","v":13589348.842904642},2038402.3264356963,2038402.3264356963,2038402.3264356963,2038402.3264356963]
[463,{"$f":"花园升级数值表!R464","v":13958571.450966364},2093785.7176449546,2093785.7176449546,2093785.7176449546,2093785.7176449546]
[464,{"$f":"花园升级数值表!R465","v":14337825.837289121},2150673.875593368,2150673.875593368,2150673.875593368,2150673.875593368]
[465,{"$f":"花园升级数值表!R466","v":14727384.565288259},2209107.6847932385,2209107.6847932385,2209107.6847932385,2209107.6847932385]
[466,{"$f":"花园升级数值表!R467","v":15127527.603927143},2269129.1405890714,2269129.1405890714,2269129.1405890714,2269129.1405890714]
[467,{"$f":"花园升级数值表!R468","v":15538542.528925836},2330781.3793388754,2330781.3793388754,2330781.3793388754,2330781.3793388754]
[468,{"$f":"花园升级数值表!R469","v":15960724.729436755},2394108.7094155131,2394108.7094155131,2394108.7094155131,2394108.7094155131]
[469,{"$f":"花园升级数值表!R470","v":16394377.620335553},2459156.643050333,2459156.643050333,2459156.643050333,2459156.643050333]
[470,{"$f":"花园升级数值表!R471","v":16839812.860280063},2525971.9290420092,2525971.9290420092,2525971.9290420092,2525971.9290420092]
[471,{"$f":"花园升级数值表!R472","v":17297350.575693861},2594602.5863540792,2594602.5863540792,2594602.5863540792,2594602.5863540792]
[472,{"$f":"花园升级数值表!R473","v":17767319.590835471},2665097.9386253203,2665097.9386253203,2665097.9386253203,2665097.9386253203]
[473,{"$f":"花园升级数值表!R474","v":18250057.664118465},2737508.6496177698,2737508.6496177698,2737508.6496177698,2737508.6496177698]
[474,{"$f":"花园升级数值表!R475","v":18745911.730852555},2811886.7596278833,2811886.7596278833,2811886.7596278833,2811886.7596278833]
[475,{"$f":"花园升级数值表!R476","v":19255238.152579822},2888285.7228869731,2888285.7228869731,2888285.7228869731,2888285.7228869731]
[476,{"$f":"花园升级数值表!R477","v":19778402.973185413},2966760.4459778117,2966760.4459778117,2966760.4459778117,2966760.4459778117]
[477,{"$f":"花园升级数值表!R478","v":20315782.181966856},3047367.3272950281,3047367.3272950281,3047367.3272950281,3047367.3272950281]
[478,{"$f":"花园升级数值表!R479","v":20867761.9838509},3130164.2975776349,3130164.2975776349,3130164.2975776349,3130164.2975776349]
[479,{"$f":"花园升级数值表!R480","v":21434739.07695213},3215210.8615428195,3215210.8615428195,3215210.8615428195,3215210.8615428195]
[480,{"$f":"花园升级数值表!R481","v":22017120.937672921},3302568.1406509378,3302568.1406509378,3302568.1406509378,3302568.1406509378]
[481,{"$f":"花园升级数值表!R482","v":22615326.113549486},3392298.917032423,3392298.917032423,3392298.917032423,3392298.917032423]
[482,{"$f":"花园升级数值表!R483","v":23229784.52405462},3484467.6786081931,3484467.6786081931,3484467.6786081931,3484467.6786081931]
[483,{"$f":"花园升级数值表!R484","v":23860937.769573174},3579140.6654359759,3579140.6654359759,3579140.6654359759,3579140.6654359759]
[484,{"$f":"花园升级数值表!R485","v":24509239.448772479},3676385.9173158719,3676385.9173158719,3676385.9173158719,3676385.9173158719]
[485,{"$f":"花园升级数值表!R486","v":25175155.484595638},3776273.3226893456,3776273.3226893456,3776273.3226893456,3776273.3226893456]
[486,{"$f":"花园升级数值表!R487","v":25859164.459112093},3878874.6688668136,3878874.6688668136,3878874.6688668136,3878874.6688668136]
[487,{"$f":"花园升级数值表!R488","v":26561757.957466174},3984263.693619926,3984263.693619926,3984263.693619926,3984263.693619926]
[488,{"$f":"花园升级数值表!R489","v":27283440.921170522},4092516.1381755779,4092516.1381755779,4092516.1381755779,4092516.1381755779]
[489,{"$f":"花园升级数值表!R490","v":28024732.010998715},4203709.801649807,4203709.801649807,4203709.801649807,4203709.801649807]
[490,{"$f":"花园升级数值表!R491","v":28786163.97973755},4317924.5969606321,4317924.5969606321,4317924.5969606321,4317924.5969606321]
[491,{"$f":"花园升级数值表!R492","v":29568284.055067014},4435242.6082600523,4435242.6082600523,4435242.6082600523,4435242.6082600523]
[492,{"$f":"花园升级数值表!R493","v":30371654.332843188},4555748.149926478,4555748.149926478,4555748.149926478,4555748.149926478]
[493,{"$f":"花园升级数值表!R494","v":31196852.181066539},4679527.8271599803,4679527.8271599803,4679527.8271599803,4679527.8271599803]
[494,{"$f":"花园升级数值表!R495","v":32044470.654826116},4806670.5982239172,4806670.5982239172,4806670.5982239172,4806670.5982239172]
[495,{"$f":"花园升级数值表!R496","v":32915118.922517739},4937267.8383776611,4937267.8383776611,4937267.8383776611,4937267.8383776611]
[496,{"$f":"花园升级数值表!R497","v":33809422.703642532},5071413.4055463793,5071413.4055463793,5071413.4055463793,5071413.4055463793]
[497,{"$f":"花园升级数值表!R498","v":34728024.718500488},5209203.7077750731,5209203.7077750731,5209203.7077750731,5209203.7077750731]
[498,{"$f":"花园升级数值表!R499","v":35671585.150102168},5350737.7725153249,5350737.7725153249,5350737.7725153249,5350737.7725153249]
[499,{"$f":"花园升级数值表!R500","v":36640782.118630439},5496117.317794566,5496117.317794566,5496117.317794566,5496117.317794566]
[500,{"$f":"花园升级数值表!R501","v":37636312.168793611},5645446.8253190415,5645446.8253190415,5645446.8253190415,5645446.8253190415]
[501,{"$f":"花园升级数值表!R502","v":38658890.770419732},5798833.6155629596,5798833.6155629596,5798833.6155629596,5798833.6155629596]
[502,{"$f":"花园升级数值表!R503","v":39709252.832652032},5956387.9248978049,5956387.9248978049,5956387.9248978049,5956387.9248978049]
[503,{"$f":"花园升级数值表!R504","v":40788153.232115202},6118222.9848172804,6118222.9848172804,6118222.9848172804,6118222.9848172804]
[504,{"$f":"花园升级数值表!R505","v":41896367.355431758},6284455.1033147639,6284455.1033147639,6284455.1033147639,6284455.1033147639]
[505,{"$f":"花园升级数值表!R506","v":43034691.65647883},6455203.7484718245,6455203.7484718245,6455203.7484718245,6455203.7484718245]
[506,{"$f":"花园升级数值表!R507","v":44203944.228785358},6630591.6343178032,6630591.6343178032,6630591.6343178032,6630591.6343178032]
[507,{"$f":"花园升级数值表!R508","v":45404965.393481486},6810744.8090222226,6810744.8090222226,6810744.8090222226,6810744.8090222226]
[508,{"$f":"花园升级数值表!R509","v":46638618.303222343},6995792.7454833509,6995792.7454833509,6995792.7454833509,6995792.7454833509]
[509,{"$f":"花园升级数值表!R510","v":47905789.562520914},7185868.4343781369,7185868.4343781369,7185868.4343781369,7185868.4343781369]
[510,{"$f":"花园升级数值表!R511","v":49207389.864934586},7381108.4797401875,7381108.4797401875,7381108.4797401875,7381108.4797401875]
[511,{"$f":"花园升级数值表!R512","v":50544354.647564866},7581653.1971347295,7581653.1971347295,7581653.1971347295,7581653.1971347295]
[512,{"$f":"花园升级数值表!R513","v":51917644.763339192},7787646.714500878,7787646.714500878,7787646.714500878,7787646.714500878]
[513,{"$f":"花园升级数值表!R514","v":53328247.171559103},7999237.0757338647,7999237.0757338647,7999237.0757338647,7999237.0757338647]
[514,{"$f":"花园升级数值表!R515","v":54777175.64721036},{"$f":"B515*0.15","v":8216576.3470815532},{"$f":"B515*0.15","v":8216576.3470815532},{"$f":"B515*0.15","v":8216576.3470815532},{"$f":"B515*0.15","v":8216576.3470815532}]
[515,{"$f":"花园升级数值表!R516","v":56265471.509545073},8439820.7264317609,8439820.7264317609,8439820.7264317609,8439820.7264317609]
[516,{"$f":"花园升级数值表!R517","v":57794204.370459415},8669130.6555689126,8669130.6555689126,8669130.6555689126,8669130.6555689126]
[517,{"$f":"花园升级数值表!R518","v":59364472.903204784},8904670.9354807176,8904670.9354807176,8904670.9354807176,8904670.9354807176]
[518,{"$f":"花园升级数值表!R519","v":60977405.631984882},9146610.8447977323,9146610.8447977323,9146610.8447977323,9146610.8447977323]
[519,{"$f":"花园升级数值表!R520","v":62634161.743005887},9395124.261450883,9395124.261450883,9395124.261450883,9395124.261450883]
[520,{"$f":"花园升级数值表!R521","v":64335931.917563349},9650389.7876345012,9650389.7876345012,9650389.7876345012,9650389.7876345012]
[521,{"$f":"花园升级数值表!R522","v":66083939.187763542},9912590.8781645317,9912590.8781645317,9912590.8781645317,9912590.8781645317]
[522,{"$f":"花园升级数值表!R523","v":67879439.815495044},10181915.972324256,10181915.972324256,10181915.972324256,10181915.972324256]
[523,{"$f":"花园升级数值表!R524","v":69723724.195282057},10458558.629292307,10458558.629292307,10458558.629292307,10458558.629292307]
[524,{"$f":"花园升级数值表!R525","v":71618117.781667858},10742717.667250179,10742717.667250179,10742717.667250179,10742717.667250179]
[525,{"$f":"花园升级数值表!R526","v":73563982.041795745},11034597.306269361,11034597.306269361,11034597.306269361,11034597.306269361]
[526,{"$f":"花园升级数值表!R527","v":75562715.433871359},11334407.315080704,11334407.315080704,11334407.315080704,11334407.315080704]
[527,{"$f":"花园升级数值表!R528","v":77615754.412209615},11642363.161831442,11642363.161831442,11642363.161831442,11642363.161831442]
[528,{"$f":"花园升级数值表!R529","v":79724574.459589317},11958686.168938396,11958686.168938396,11958686.168938396,11958686.168938396]
[529,{"$f":"花园升级数值表!R530","v":81890691.147656426},12283603.672148464,12283603.672148464,12283603.672148464,12283603.672148464]
[530,{"$f":"花园升级数值表!R531","v":84115661.226138204},12617349.18392073,12617349.18392073,12617349.18392073,12617349.18392073]
[531,{"$f":"花园升级数值表!R532","v":86401083.741652384},12960162.561247857,12960162.561247857,12960162.561247857,12960162.561247857]
[532,{"$f":"花园升级数值表!R533","v":88748601.186913088},13312290.178036964,13312290.178036964,13312290.178036964,13312290.178036964]
[533,{"$f":"花园升级数值表!R534","v":91159900.681161493},13673985.102174224,13673985.102174224,13673985.102174224,13673985.102174224]
[534,{"$f":"花园升级数值表!R535","v":93636715.182668597},14045507.277400289,14045507.277400289,14045507.277400289,14045507.277400289]
[535,{"$f":"花园升级数值表!R536","v":96180824.734181717},14427123.710127257,14427123.710127257,14427123.710127257,14427123.710127257]
[536,{"$f":"花园升级数值表!R537","v":98794057.742209449},14819108.661331417,14819108.661331417,14819108.661331417,14819108.661331417]
[537,{"$f":"花园升级数值表!R538","v":101478292.29106526},15221743.843659788,15221743.843659788,15221743.843659788,15221743.843659788]
[538,{"$f":"花园升级数值表!R539","v":104235457.49261351},15635318.623892026,15635318.623892026,15635318.623892026,15635318.623892026]
[539,{"$f":"花园升级数值表!R540","v":107067534.87268782},16060130.230903171,16060130.230903171,16060130.230903171,16060130.230903171]
[540,{"$f":"花园升级数值表!R541","v":109976559.7951787},16496483.969276804,16496483.969276804,16496483.969276804,16496483.969276804]
[541,{"$f":"花园升级数值表!R542","v":112964622.92481372},16944693.438722055,16944693.438722055,16944693.438722055,16944693.438722055]
[542,{"$f":"花园升级数值表!R543","v":116033871.72968094},17405080.759452142,17405080.759452142,17405080.759452142,17405080.759452142]
[543,{"$f":"花园升级数值表!R544","v":119186512.02457632},17877976.803686447,17877976.803686447,17877976.803686447,17877976.803686447]
[544,{"$f":"花园升级数值表!R545","v":122424809.5562841},18363721.433442615,18363721.433442615,18363721.433442615,18363721.433442615]
[545,{"$f":"花园升级数值表!R546","v":125751091.63192825},18862663.744789235,18862663.744789235,18862663.744789235,18862663.744789235]
[546,{"$f":"花园升级数值表!R547","v":129167748.79156777},19375162.318735164,19375162.318735164,19375162.318735164,19375162.318735164]
[547,{"$f":"花园升级数值表!R548","v":132677236.52623469},19901585.478935201,19901585.478935201,19901585.478935201,19901585.478935201]
[548,{"$f":"花园升级数值表!R549","v":136282077.04265246},20442311.556397866,20442311.556397866,20442311.556397866,20442311.556397866]
[549,{"$f":"花园升级数值表!R550","v":139984861.0759013},20997729.161385193,20997729.161385193,20997729.161385193,20997729.161385193]
[550,{"$f":"花园升级数值表!R551","v":143788249.75133345},21568237.462700017,21568237.462700017,21568237.462700017,21568237.462700017]
[551,{"$f":"花园升级数值表!R552","v":147694976.4970772},22154246.47456158,22154246.47456158,22154246.47456158,22154246.47456158]
[552,{"$f":"花园升级数值表!R553","v":151707849.00850287},22756177.351275429,22756177.351275429,22756177.351275429,22756177.351275429]
[553,{"$f":"花园升级数值表!R554","v":155829751.26606381},23374462.68990957,23374462.68990957,23374462.68990957,23374462.68990957]
[554,{"$f":"花园升级数值表!R555","v":160063645.60796273},24009546.84119441,24009546.84119441,24009546.84119441,24009546.84119441]
[555,{"$f":"花园升级数值表!R556","v":164412574.85913113},24661886.228869669,24661886.228869669,24661886.228869669,24661886.228869669]
[556,{"$f":"花园升级数值表!R557","v":168879664.51805374},25331949.67770806,25331949.67770806,25331949.67770806,25331949.67770806]
[557,{"$f":"花园升级数值表!R558","v":173468125.0030092},26020218.750451379,26020218.750451379,26020218.750451379,26020218.750451379]
[558,{"$f":"花园升级数值表!R559","v":178181253.9593409},26727188.093901135,26727188.093901135,26727188.093901135,26727188.093901135]
[559,{"$f":"花园升级数值表!R560","v":183022438.62941614},27453365.794412419,27453365.794412419,27453365.794412419,27453365.794412419]
[560,{"$f":"花园升级数值表!R561","v":187995158.28697735},28199273.7430466,28199273.7430466,28199273.7430466,28199273.7430466]
[561,{"$f":"花园升级数值表!R562","v":193102986.73763457},28965448.010645185,28965448.010645185,28965448.010645185,28965448.010645185]
[562,{"$f":"花园升级数值表!R563","v":198349594.88729599},29752439.233094398,29752439.233094398,29752439.233094398,29752439.233094398]
[563,{"$f":"花园升级数值表!R564","v":203738753.38038388},30560813.007057581,30560813.007057581,30560813.007057581,30560813.007057581]
[564,{"$f":"花园升级数值表!R565","v":209274335.30972886},31391150.296459328,31391150.296459328,31391150.296459328,31391150.296459328]
[565,{"$f":"花园升级数值表!R566","v":214960319.00009418},32244047.850014124,32244047.850014124,32244047.850014124,32244047.850014124]
[566,{"$f":"花园升级数值表!R567","v":220800790.86732665},33120118.630098995,33120118.630098995,33120118.630098995,33120118.630098995]
[567,{"$f":"花园升级数值表!R568","v":226799948.35519195},34019992.253278792,34019992.253278792,34019992.253278792,34019992.253278792]
[568,{"$f":"花园升级数值表!R569","v":232962102.95200256},34944315.44280038,34944315.44280038,34944315.44280038,34944315.44280038]
[569,{"$f":"花园升级数值表!R570","v":239291683.28920841},35893752.493381262,35893752.493381262,35893752.493381262,35893752.493381262]
[570,{"$f":"花园升级数值表!R571","v":245793238.32417622},36868985.748626433,36868985.748626433,36868985.748626433,36868985.748626433]
[571,{"$f":"花园升级数值表!R572","v":252471440.60944393},37870716.09141659,37870716.09141659,37870716.09141659,37870716.09141659]
[572,{"$f":"花园升级数值表!R573","v":259331089.65080264},38899663.447620392,38899663.447620392,38899663.447620392,38899663.447620392]
[573,{"$f":"花园升级数值表!R574","v":266377115.35661489},39956567.303492233,39956567.303492233,39956567.303492233,39956567.303492233]
[574,{"$f":"花园升级数值表!R575","v":273614581.580854},41042187.237128101,41042187.237128101,41042187.237128101,41042187.237128101]
[575,{"$f":"花园升级数值表!R576","v":281048689.76240563},42157303.464360841,42157303.464360841,42157303.464360841,42157303.464360841]
[576,{"$f":"花园升级数值表!R577","v":288684782.66325033},43302717.399487548,43302717.399487548,43302717.399487548,43302717.399487548]
[577,{"$f":"花园升级数值表!R578","v":296528348.20821077},44479252.231231615,44479252.231231615,44479252.231231615,44479252.231231615]
[578,{"$f":"花园升级数值表!R579","v":304585023.42902792},{"$f":"B579*0.15","v":45687753.514354184},{"$f":"B579*0.15","v":45687753.514354184},{"$f":"B579*0.15","v":45687753.514354184},{"$f":"B579*0.15","v":45687753.514354184}]
[579,{"$f":"花园升级数值表!R580","v":312860598.51559454},46929089.777339183,46929089.777339183,46929089.777339183,46929089.777339183]
[580,{"$f":"花园升级数值表!R581","v":321361020.97726309},48204153.146589465,48204153.146589465,48204153.146589465,48204153.146589465]
[581,{"$f":"花园升级数值表!R582","v":330092399.91721529},49513859.987582289,49513859.987582289,49513859.987582289,49513859.987582289]
[582,{"$f":"花园升级数值表!R583","v":339061010.42296606},50859151.563444905,50859151.563444905,50859151.563444905,50859151.563444905]
[583,{"$f":"花园升级数值表!R584","v":348273298.07615787},52240994.71142368,52240994.71142368,52240994.71142368,52240994.71142368]
[584,{"$f":"花园升级数值表!R585","v":357735883.58488739},53660382.537733108,53660382.537733108,53660382.537733108,53660382.537733108]
[585,{"$f":"花园升级数值表!R586","v":367455567.54188859},55118335.131283291,55118335.131283291,55118335.131283291,55118335.131283291]
[586,{"$f":"花园升级数值表!R587","v":377439335.31200165},56615900.296800248,56615900.296800248,56615900.296800248,56615900.296800248]
[587,{"$f":"花园升级数值表!R588","v":387694362.05242878},58154154.307864316,58154154.307864316,58154154.307864316,58154154.307864316]
[588,{"$f":"花园升级数值表!R589","v":398228017.86939311},59734202.680408962,59734202.680408962,59734202.680408962,59734202.680408962]
[589,{"$f":"花园升级数值表!R590","v":409047873.11490446},61357180.967235669,61357180.967235669,61357180.967235669,61357180.967235669]
[590,{"$f":"花园升级数值表!R591","v":420161703.82743645},63024255.574115463,63024255.574115463,63024255.574115463,63024255.574115463]
[591,{"$f":"花园升级数值表!R592","v":431577497.32042795},64736624.598064192,64736624.598064192,64736624.598064192,64736624.598064192]
[592,{"$f":"花园升级数值表!R593","v":443303457.92262375},66495518.688393563,66495518.688393563,66495518.688393563,66495518.688393563]
[593,{"$f":"花园升级数值表!R594","v":455348012.87438148},68302201.931157216,68302201.931157216,68302201.931157216,68302201.931157216]
[594,{"$f":"花园升级数值表!R595","v":467719818.38417828},70157972.757626742,70157972.757626742,70157972.757626742,70157972.757626742]
[595,{"$f":"花园升级数值表!R596","v":480427765.84967649},72064164.877451465,72064164.877451465,72064164.877451465,72064164.877451465]
[596,{"$f":"花园升级数值表!R597","v":493480988.24781191},74022148.237171784,74022148.237171784,74022148.237171784,74022148.237171784]
[597,{"$f":"花园升级数值表!R598","v":506888866.69850516},76033330.004775777,76033330.004775777,76033330.004775777,76033330.004775777]
[598,{"$f":"花园升级数值表!R599","v":520661037.20670336},78099155.581005499,78099155.581005499,78099155.581005499,78099155.581005499]
[599,{"$f":"花园升级数值表!R600","v":534807397.58760989},80221109.638141483,80221109.638141483,80221109.638141483,80221109.638141483]
[600,{"$f":"花园升级数值表!R601","v":549338114.58006501},82400717.187009752,82400717.187009752,82400717.187009752,82400717.187009752]

{"sheet":"礼包数值表","index":4,"n_rows":601,"n_cols":2,"rows_kept":601,"cut":false,"hidden":false,"merged":[]}
["花园等级","每分钟可分配总数值"]
[1,{"$f":"花园升级数值表!S2","v":45}]
[2,{"$f":"花园升级数值表!S3","v":45.99382499999998}]
[3,{"$f":"花园升级数值表!S4","v":47.009598625124966}]
[4,{"$f":"花园升级数值表!S5","v":48.047805610760861}]
[5,{"$f":"花园升级数值表!S6","v":49.108941397674499}]
[6,{"$f":"花园升级数值表!S7","v":50.193512368442136}]
[7,{"$f":"花园升级数值表!S8","v":51.302036089099147}]
[8,{"$f":"花园升级数值表!S9","v":52.435041556126912}]
[9,{"$f":"花园升级数值表!S10","v":53.593069448893964}]
[10,{"$f":"花园升级数值表!S11","v":54.776672387672775}]
[11,{"$f":"花园升级数值表!S12","v":55.986415197354518}]
[12,{"$f":"花园升级数值表!S13","v":57.222875176988083}]
[13,{"$f":"花园升级数值表!S14","v":58.486642375271828}]
[14,{"$f":"花园升级数值表!S15","v":59.778319872129693}]
[15,{"$f":"花园升级数值表!S16","v":61.098524066505689}]
[16,{"$f":"花园升级数值表!S17","v":62.44788497051443}]
[17,{"$f":"花园升级数值表!S18","v":63.827046510088259}]
[18,{"$f":"花园升级数值表!S19","v":65.236666832263538}]
[19,{"$f":"花园升级数值表!S20","v":66.677418619254055}]
[20,{"$f":"花园升级数值表!S21","v":68.149989409460247}]
[21,{"$f":"花园升级数值表!S22","v":69.655081925568197}]
[22,{"$f":"花园升级数值表!S23","v":71.193414409894345}]
[23,{"$f":"花园升级数值表!S24","v":72.765720967136858}]
[24,{"$f":"花园升级数值表!S25","v":74.372751914696025}]
[25,{"$f":"花园升级数值表!S26","v":76.015274140732132}]
[26,{"$f":"花园升级数值表!S27","v":77.694071470130183}]
[27,{"$f":"花园升级数值表!S28","v":79.409945038548003}]
[28,{"$f":"花园升级数值表!S29","v":81.163713674724306}]
[29,{"$f":"花园升级数值表!S30","v":82.956214291230609}]
[30,{"$f":"花园升级数值表!S31","v":84.788302283852346}]
[31,{"$f":"花园升级数值表!S32","v":86.660851939791257}]
[32,{"$f":"花园升级数值表!S33","v":88.574756854881514}]
[33,{"$f":"花园升级数值表!S34","v":90.530930360021543}]
[34,{"$f":"花园升级数值表!S35","v":92.53030595702262}]
[35,{"$f":"花园升级数值表!S36","v":94.573837764083422}]
[36,{"$f":"花园升级数值表!S37","v":96.662500971103185}]
[37,{"$f":"花园升级数值表!S38","v":98.797292305050007}]
[38,{"$f":"花园升级数值表!S39","v":100.97923050560701}]
[39,{"$f":"花园升级数值表!S40","v":103.20935681132333}]
[40,{"$f":"花园升级数值表!S41","v":105.4887354565014}]
[41,{"$f":"花园升级数值表!S42","v":107.81845417905821}]
[42,{"$f":"花园升级数值表!S43","v":110.19962473960264}]
[43,{"$f":"花园升级数值表!S44","v":112.63338345197677}]
[44,{"$f":"花园升级数值表!S45","v":115.12089172551362}]
[45,{"$f":"花园升级数值表!S46","v":117.66333661927163}]
[46,{"$f":"花园升级数值表!S47","v":120.26193140850815}]
[47,{"$f":"花园升级数值表!S48","v":122.91791616366507}]
[48,{"$f":"花园升级数值表!S49","v":125.6325583421396}]
[49,{"$f":"花园升级数值表!S50","v":128.40715339312572}]
[50,{"$f":"花园升级数值表!S51","v":131.24302537581289}]
[51,{"$f":"花园升级数值表!S52","v":134.14152759123769}]
[52,{"$f":"花园升级数值表!S53","v":137.10404322809015}]
[53,{"$f":"花园升级数值表!S54","v":140.13198602278246}]
[54,{"$f":"花园升级数值表!S55","v":143.22680093409559}]
[55,{"$f":"花园升级数值表!S56","v":146.38996483272516}]
[56,{"$f":"花园升级数值表!S57","v":149.6229872060558}]
[57,{"$f":"花园升级数值表!S58","v":152.92741087850149}]
[58,{"$f":"花园升级数值表!S59","v":156.30481274775326}]
[59,{"$f":"花园升级数值表!S60","v":159.75680453728731}]
[60,{"$f":"花园升级数值表!S61","v":163.28503356549328}]
[61,{"$f":"花园升级数值表!S62","v":166.89118353178716}]
[62,{"$f":"花园升级数值表!S63","v":170.5769753200866}]
[63,{"$f":"花园升级数值表!S64","v":174.34416782003075}]
[64,{"$f":"花园升级数值表!S65","v":178.19455876633609}]
[65,{"$f":"花园升级数值表!S66","v":182.12998559669063}]
[66,{"$f":"花园升级数值表!S67","v":186.1523263285934}]
[67,{"$f":"花园升级数值表!S68","v":190.26350045556035}]
[68,{"$f":"花园升级数值表!S69","v":194.46546986312137}]
[69,{"$f":"花园升级数值表!S70","v":198.7602397650484}]
[70,{"$f":"花园升级数值表!S71","v":203.14985966025955}]
[71,{"$f":"花园升级数值表!S72","v":207.63642431085628}]
[72,{"$f":"花园升级数值表!S73","v":212.22207474176139}]
[73,{"$f":"花园升级数值表!S74","v":216.90899926243321}]
[74,{"$f":"花园升级数值表!S75","v":221.69943451114406}]
[75,{"$f":"花园升级数值表!S76","v":226.59566652232257}]
[76,{"$f":"花园升级数值表!S77","v":231.60003181746802}]
[77,{"$f":"花园升级数值表!S78","v":236.7149185201568}]
[78,{"$f":"花园升级数值表!S79","v":241.94276749567436}]
[79,{"$f":"花园升级数值表!S80","v":247.28607351581624}]
[80,{"$f":"花园升级数值表!S81","v":252.74738644941309}]
[81,{"$f":"花园升级数值表!S82","v":258.32931247914831}]
[82,{"$f":"花园升级数值表!S83","v":264.03451534525021}]
[83,{"$f":"花园升级数值表!S84","v":269.86571761664999}]
[84,{"$f":"花园升级数值表!S85","v":275.82570199021359}]
[85,{"$f":"花园升级数值表!S86","v":281.91731261866744}]
[86,{"$f":"花园升级数值表!S87","v":288.1434564678508}]
[87,{"$f":"花园升级数值表!S88","v":294.50710470394318}]
[88,{"$f":"花园升级数值表!S89","v":301.01129411132968}]
[89,{"$f":"花园升级数值表!S90","v":307.65912854177822}]
[90,{"$f":"花园升级数值表!S91","v":314.45378039562331}]
[91,{"$f":"花园升级数值表!S92","v":321.39849213566066}]
[92,{"$f":"花园升级数值表!S93","v":328.49657783447662}]
[93,{"$f":"花园升级数值表!S94","v":335.75142475595095}]
[94,{"$f":"花园升级数值表!S95","v":343.16649497168623}]
[95,{"$f":"花园升级数值表!S96","v":350.74532701313569}]
[96,{"$f":"花园升级数值表!S97","v":358.49153756022082}]
[97,{"$f":"花园升级数值表!S98","v":366.4088231672381}]
[98,{"$f":"花园升级数值表!S99","v":374.50096202688638}]
[99,{"$f":"花园升级数值表!S100","v":382.77181577324995}]
[100,{"$f":"花园升级数值表!S101","v":391.22533132460234}]
[101,{"$f":"花园升级数值表!S102","v":399.86554276690612}]
[102,{"$f":"花园升级数值表!S103","v":408.69657327891321}]
[103,{"$f":"花园升级数值表!S104","v":417.72263709977778}]
[104,{"$f":"花园升级数值表!S105","v":426.94804154012638}]
[105,{"$f":"花园升级数值表!S106","v":436.37718903753995}]
[106,{"$f":"花园升级数值表!S107","v":446.01457925743381}]
[107,{"$f":"花园升级数值表!S108","v":455.86481124033401}]
[108,{"$f":"花园升级数值表!S109","v":465.93258559657698}]
[109,{"$f":"花园升级数值表!S110","v":476.22270674947725}]
[110,{"$f":"花园升级数值表!S111","v":486.74008522803945}]
[111,{"$f":"花园升级数值表!S112","v":497.48974001030041}]
[112,{"$f":"花园升级数值表!S113","v":508.47680091842778}]
[113,{"$f":"花园升级数值表!S114","v":519.70651106671119}]
[114,{"$f":"花园升级数值表!S115","v":531.18422936361947}]
[115,{"$f":"花园升级数值表!S116","v":542.91543306911478}]
[116,{"$f":"花园升级数值表!S117","v":554.9057204084462}]
[117,{"$f":"花园升级数值表!S118","v":567.16081324366667}]
[118,{"$f":"花园升级数值表!S119","v":579.68655980415292}]
[119,{"$f":"花园升级数值表!S120","v":592.4889374774275}]
[120,{"$f":"花园升级数值表!S121","v":605.5740556616164}]
[121,{"$f":"花园升级数值表!S122","v":618.94815868090291}]
[122,{"$f":"花园升级数值表!S123","v":632.61762876537068}]
[123,{"$f":"花园升级数值表!S124","v":646.58898909665379}]
[124,{"$f":"花园升级数值表!S125","v":660.86890692085308}]
[125,{"$f":"花园升级数值表!S126","v":675.46419673019989}]
[126,{"$f":"花园升级数值表!S127","v":690.38182351498654}]
[127,{"$f":"花园升级数值表!S128","v":705.62890608731482}]
[128,{"$f":"花园升级数值表!S129","v":721.21272047825323}]
[129,{"$f":"花园升级数值表!S130","v":737.14070341001525}]
[130,{"$f":"花园升级数值表!S131","v":753.42045584482457}]
[131,{"$f":"花园升级数值表!S132","v":770.0597466121576}]
[132,{"$f":"花园升级数值表!S133","v":787.06651611608697}]
[133,{"$f":"花园升级数值表!S134","v":804.44888012451054}]
[134,{"$f":"花园升级数值表!S135","v":822.21513364206021}]
[135,{"$f":"花园升级数值表!S136","v":840.37375486854489}]
[136,{"$f":"花园升级数值表!S137","v":858.9334092448164}]
[137,{"$f":"花园升级数值表!S138","v":877.90295358798767}]
[138,{"$f":"花园升级数值表!S139","v":897.29144031797841}]
[139,{"$f":"花园升级数值表!S140","v":917.10812177740081}]
[140,{"$f":"花园升级数值表!S141","v":937.36245464685499}]
[141,{"$f":"花园升级数值表!S142","v":958.06410445773076}]
[142,{"$f":"花园升级数值表!S143","v":979.22295020467925}]
[143,{"$f":"花园升级数值表!S144","v":1000.8490890599489}]
[144,{"$f":"花园升级数值表!S145","v":1022.9528411918378}]
[145,{"$f":"花园升级数值表!S146","v":1045.5447546895598}]
[146,{"$f":"花园升级数值表!S147","v":1068.6356105968787}]
[147,{"$f":"花园升级数值表!S148","v":1092.23642805691}]
[148,{"$f":"花园升级数值表!S149","v":1116.3584695705474}]
[149,{"$f":"花园升级数值表!S150","v":1141.0132463710122}]
[150,{"$f":"花园升级数值表!S151","v":1166.2125239171157}]
[151,{"$f":"花园升级数值表!S152","v":1191.9683275078248}]
[152,{"$f":"花园升级数值表!S153","v":1218.292948020835}]
[153,{"$f":"花园升级数值表!S154","v":1245.1989477778754}]
[154,{"$f":"花园升级数值表!S155","v":1272.6991665395497}]
[155,{"$f":"花园升级数值表!S156","v":1300.8067276325751}]
[156,{"$f":"花园升级数值表!S157","v":1329.5350442123404}]
[157,{"$f":"花园升级数值表!S158","v":1358.8978256637702}]
[158,{"$f":"花园升级数值表!S159","v":1388.9090841435536}]
[159,{"$f":"花园升级数值表!S160","v":1419.5831412668635}]
[160,{"$f":"花园升级数值表!S161","v":1450.9346349417419}]
[161,{"$f":"花园升级数值表!S162","v":1482.9785263544309}]
[162,{"$f":"花园升级数值表!S163","v":1515.7301071089676}]
[163,{"$f":"花园升级数值表!S164","v":1549.2050065244684}]
[164,{"$f":"花园升级数值表!S165","v":1583.4191990935617}]
[165,{"$f":"花园升级数值表!S166","v":1618.3890121055429}]
[166,{"$f":"花园升级数值表!S167","v":1654.1311334378925}]
[167,{"$f":"花园升级数值表!S168","v":1690.6626195198683}]
[168,{"$f":"花园升级数值表!S169","v":1728.0009034719646}]
[169,{"$f":"花园升级数值表!S170","v":1766.1638034251425}]
[170,{"$f":"花园升级数值表!S171","v":1805.1695310237862}]
[171,{"$f":"花园升级数值表!S172","v":1854.2159871817018}]
[172,{"$f":"花园升级数值表!S173","v":1904.5950355534289}]
[173,{"$f":"花园升级数值表!S174","v":1956.3428826694153}]
[174,{"$f":"花园升级数值表!S175","v":2009.4967187915427}]
[175,{"$f":"花园升级数值表!S176","v":2064.0947446411092}]
[176,{"$f":"花园升级数值表!S177","v":2120.176198853007}]
[177,{"$f":"花园升级数值表!S178","v":2177.7813861758427}]
[178,{"$f":"花园升级数值表!S179","v":2236.9517064382403}]
[179,{"$f":"花园升级数值表!S180","v":2297.7296843021672}]
[180,{"$f":"花园升级数值表!S181","v":2360.1589998246577}]
[181,{"$f":"花园升级数值表!S182","v":2424.2845198498917}]
[182,{"$f":"花园升级数值表!S183","v":2490.1523302542137}]
[183,{"$f":"花园升级数值表!S184","v":2557.8097690672203}]
[184,{"$f":"花园升级数值表!S185","v":2627.3054604927756}]
[185,{"$f":"花园升级数值表!S186","v":2698.6893498543641}]
[186,{"$f":"花园升级数值表!S187","v":2772.0127394899087}]
[187,{"$f":"花园升级数值表!S188","v":2847.3283256218479}]
[188,{"$f":"花园升级数值表!S189","v":2924.6902362289934}]
[189,{"$f":"花园升级数值表!S190","v":3004.1540699473335}]
[190,{"$f":"花园升级数值表!S191","v":3085.7769360278025}]
[191,{"$f":"花园升级数值表!S192","v":3169.6174953796785}]
[192,{"$f":"花园升级数值表!S193","v":3255.7360027291438}]
[193,{"$f":"花园升级数值表!S194","v":3344.1943499232934}]
[194,{"$f":"花园升级数值表!S195","v":3435.0561104107096}]
[195,{"$f":"花园升级数值表!S196","v":3528.3865849305689}]
[196,{"$f":"花园升级数值表!S197","v":3624.2528484431323}]
[197,{"$f":"花园升级数值表!S198","v":3722.723798335332}]
[198,{"$f":"花园升级数值表!S199","v":3823.8702039361033}]
[199,{"$f":"花园升级数值表!S200","v":3927.7647573770478}]
[200,{"$f":"花园升级数值表!S201","v":4034.4821258349798}]
[201,{"$f":"花园升级数值表!S202","v":4144.0990051939179}]
[202,{"$f":"花园升级数值表!S203","v":4256.6941751650365}]
[203,{"$f":"花园升级数值表!S204","v":4372.3485559042692}]
[204,{"$f":"花园升级数值表!S205","v":4491.145266168186}]
[205,{"$f":"花园升级数值表!S206","v":4613.1696830499759}]
[206,{"$f":"花园升级数值表!S207","v":4738.509503338445}]
[207,{"$f":"花园升级数值表!S208","v":4867.2548065441488}]
[208,{"$f":"花园升级数值表!S209","v":4999.4981196379522}]
[209,{"$f":"花园升级数值表!S210","v":5135.3344835485168}]
[210,{"$f":"花园升级数值表!S211","v":5274.8615214665269}]
[211,{"$f":"花园升级数值表!S212","v":5418.1795090047726}]
[212,{"$f":"花园升级数值表!S213","v":5565.3914462644307}]
[213,{"$f":"花园升级数值表!S214","v":5716.603131859436}]
[214,{"$f":"花园升级数值表!S215","v":5871.9232389520548}]
[215,{"$f":"花园升级数值表!S216","v":6031.4633933543801}]
[216,{"$f":"花园升级数值表!S217","v":6195.3382537518182}]
[217,{"$f":"花园升级数值表!S218","v":6363.6655941062563}]
[218,{"$f":"花园升级数值表!S219","v":6536.5663882981225}]
[219,{"$f":"花园升级数值表!S220","v":6714.1648970681799}]
[220,{"$f":"花园升级数值表!S221","v":6896.5887573215214}]
[221,{"$f":"花园升级数值表!S222","v":7083.9690738579484}]
[222,{"$f":"花园升级数值表!S223","v":7276.4405135946672}]
[223,{"$f":"花园升级数值表!S224","v":7474.1414023490306}]
[224,{"$f":"花园升级数值表!S225","v":7677.2138242508554}]
[225,{"$f":"花园升级数值表!S226","v":7885.8037238557508}]
[226,{"$f":"花园升级数值表!S227","v":8100.0610110329089}]
[227,{"$f":"花园升级数值表!S228","v":8320.1396687026754}]
[228,{"$f":"花园升级数值表!S229","v":8546.1978635013274}]
[229,{"$f":"花园升级数值表!S230","v":8778.3980594526547}]
[230,{"$f":"花园升级数值表!S231","v":9016.9071347279823}]
[231,{"$f":"花园升级数值表!S232","v":9261.8965015785361}]
[232,{"$f":"花园升级数值表!S233","v":9513.5422295264216}]
[233,{"$f":"花园升级数值表!S234","v":9772.0251719026564}]
[234,{"$f":"花园升级数值表!S235","v":10037.531095823255}]
[235,{"$f":"花园升级数值表!S236","v":10310.250815696769}]
[236,{"$f":"花园升级数值表!S237","v":10590.38033035925}]
[237,{"$f":"花园升级数值表!S238","v":10878.120963935109}]
[238,{"$f":"花园升级数值表!S239","v":11173.679510525229}]
[239,{"$f":"花园升级数值表!S240","v":11477.2683828262}]
[240,{"$f":"花园升级数值表!S241","v":11789.105764787582}]
[241,{"$f":"花园升级数值表!S242","v":12109.415768416864}]
[242,{"$f":"花园升级数值表!S243","v":12438.42859484475}]
[243,{"$f":"花园升级数值表!S244","v":12776.38069976668}]
[244,{"$f":"花园升级数值表!S245","v":13123.514963379341}]
[245,{"$f":"花园升级数值表!S246","v":13480.080864934351}]
[246,{"$f":"花园升级数值表!S247","v":13846.33466203462}]
[247,{"$f":"花园升级数值表!S248","v":14222.539574802091}]
[248,{"$f":"花园升级数值表!S249","v":14608.965975049465}]
[249,{"$f":"花园升级数值表!S250","v":15005.89158059156}]
[250,{"$f":"花园升级数值表!S251","v":15413.601654836233}]
[251,{"$f":"花园升级数值表!S252","v":15832.389211798123}]
[252,{"$f":"花园升级数值表!S253","v":16262.55522668268}]
[253,{"$f":"花园升级数值表!S254","v":16704.408852191653}]
[254,{"$f":"花园升级数值表!S255","v":17158.267640705697}]
[255,{"$f":"花园升级数值表!S256","v":17624.457772503676}]
[256,{"$f":"花园升级数值表!S257","v":18103.314290182592}]
[257,{"$f":"花园升级数值表!S258","v":18595.181339446852}]
[258,{"$f":"花园升级数值表!S259","v":19100.412416439623}]
[259,{"$f":"花园升级数值表!S260","v":19619.370621794289}]
[260,{"$f":"花园升级数值表!S261","v":20152.428921588438}]
[261,{"$f":"花园升级数值表!S262","v":20699.970415387987}]
[262,{"$f":"花园升级数值表!S263","v":21262.388611574075}]
[263,{"$f":"花园升级数值表!S264","v":21840.087710150543}]
[264,{"$f":"花园升级数值表!S265","v":22433.482893235327}]
[265,{"$f":"花园升级数值表!S266","v":23043.000623444532}]
[266,{"$f":"花园升级数值表!S267","v":23669.078950383515}]
[267,{"$f":"花园升级数值表!S268","v":24312.167825465433}]
[268,{"$f":"花园升级数值表!S269","v":24972.729425283327}]
[269,{"$f":"花园升级数值表!S270","v":25651.238483768277}]
[270,{"$f":"花园升级数值表!S271","v":26348.182633372257}]
[271,{"$f":"花园升级数值表!S272","v":27064.062755520968}]
[272,{"$f":"花园升级数值表!S273","v":27799.393340588478}]
[273,{"$f":"花园升级数值表!S274","v":28554.702857652257}]
[274,{"$f":"花园升级数值表!S275","v":29330.534134294678}]
[275,{"$f":"花园升级数值表!S276","v":30127.444746723457}]
[276,{"$f":"花园升级数值表!S277","v":30946.007420491929}]
[277,{"$f":"花园升级数值表!S278","v":31786.810442106696}]
[278,{"$f":"花园升级数值表!S279","v":32650.458081818728}]
[279,{"$f":"花园升级数值表!S280","v":33537.571027901737}]
[280,{"$f":"花园升级数值表!S281","v":34448.78683272982}]
[281,{"$f":"花园升级数值表!S282","v":35384.760370975091}]
[282,{"$f":"花园升级数值表!S283","v":36346.164310254484}]
[283,{"$f":"花园升级数值表!S284","v":37333.689594564079}]
[284,{"$f":"花园升级数值表!S285","v":38348.045940848395}]
[285,{"$f":"花园升级数值表!S286","v":39389.962349061228}]
[286,{"$f":"花园升级数值表!S287","v":40460.18762608523}]
[287,{"$f":"花园升级数值表!S288","v":41559.490923885976}]
[288,{"$f":"花园升级数值表!S289","v":42688.662292287954}]
[289,{"$f":"花园升级数值表!S290","v":43848.513246769406}]
[290,{"$f":"花园升级数值表!S291","v":45039.877351684139}]
[291,{"$f":"花园升级数值表!S292","v":46263.610819329377}]
[292,{"$f":"花园升级数值表!S293","v":47520.593125290572}]
[293,{"$f":"花园升级数值表!S294","v":48811.727640504687}]
[294,{"$f":"花园升级数值表!S295","v":50137.942280497213}]
[295,{"$f":"花园升级数值表!S296","v":51500.190172258321}]
[296,{"$f":"花园升级数值表!S297","v":52899.450339238596}]
[297,{"$f":"花园升级数值表!S298","v":54336.728404955662}]
[298,{"$f":"花园升级数值表!S299","v":55813.057315718317}]
[299,{"$f":"花园升级数值表!S300","v":57329.498082986385}]
[300,{"$f":"花园升级数值表!S301","v":58887.140545901122}]
[301,{"$f":"花园升级数值表!S302","v":60487.10415453327}]
[302,{"$f":"花园升级数值表!S303","v":62130.538774411922}]
[303,{"$f":"花园升级数值表!S304","v":63818.625512912688}]
[304,{"$f":"花园升级数值表!S305","v":65552.577568098495}]
[305,{"$f":"花园升级数值表!S306","v":67333.641100623718}]
[306,{"$f":"花园升级数值表!S307","v":69163.096129327663}]
[307,{"$f":"花园升级数值表!S308","v":71042.257451161495}]
[308,{"$f":"花园升级数值表!S309","v":72972.475586109547}]
[309,{"$f":"花园升级数值表!S310","v":74955.137747784087}]
[310,{"$f":"花园升级数值表!S311","v":76991.668840391358}]
[311,{"$f":"花园升级数值表!S312","v":79083.532482784809}]
[312,{"$f":"花园升级数值表!S313","v":81232.232060342081}]
[313,{"$f":"花园升级数值表!S314","v":83439.311805421545}]
[314,{"$f":"花园升级数值表!S315","v":85706.357907174839}]
[315,{"$f":"花园升级数值表!S316","v":88034.999651512786}]
[316,{"$f":"花园升级数值表!S317","v":90426.910592044354}]
[317,{"$f":"花园升级数值表!S318","v":92883.809752830202}]
[318,{"$f":"花园升级数值表!S319","v":95407.462863814595}]
[319,{"$f":"花园升级数值表!S320","v":97999.683629824416}]
[320,{"$f":"花园升级数值表!S321","v":100662.33503404677}]
[321,{"$f":"花园升级数值表!S322","v":103397.3306769218}]
[322,{"$f":"花园升级数值表!S323","v":106206.63615141374}]
[323,{"$f":"花园升级数值表!S324","v":109092.27045564768}]
[324,{"$f":"花园升级数值表!S325","v":112056.30744392758}]
[325,{"$f":"花园升级数值表!S326","v":115100.87731717905}]
[326,{"$f":"花园升级数值表!S327","v":118228.16815388683}]
[327,{"$f":"花园升级数值表!S328","v":121440.42748262794}]
[328,{"$f":"花园升级数值表!S329","v":124739.96389733088}]
[329,{"$f":"花园升级数值表!S330","v":128129.14871642143}]
[330,{"$f":"花园升级数值表!S331","v":131610.41768704655}]
[331,{"$f":"花园升级数值表!S332","v":135186.27273560359}]
[332,{"$f":"花园升级数值表!S333","v":138859.2837658299}]
[333,{"$f":"花园升级数值表!S334","v":142632.09050574753}]
[334,{"$f":"花园升级数值表!S335","v":146507.40440478871}]
[335,{"$f":"花园升级数值表!S336","v":150488.01058246681}]
[336,{"$f":"花园升级数值表!S337","v":154576.76982999235}]
[337,{"$f":"花园升级数值表!S338","v":158776.62066627329}]
[338,{"$f":"花园升级数值表!S339","v":163090.58144977593}]
[339,{"$f":"花园升级数值表!S340","v":167521.75254776623}]
[340,{"$f":"花园升级数值表!S341","v":172073.31856448911}]
[341,{"$f":"花园升级数值表!S342","v":176748.55062988625}]
[342,{"$f":"花园升级数值表!S343","v":181550.8087505002}]
[343,{"$f":"花园升级数值表!S344","v":186483.54422425138}]
[344,{"$f":"花园升级数值表!S345","v":191550.30212082426}]
[345,{"$f":"花园升级数值表!S346","v":196754.723829447}]
[346,{"$f":"花园升级数值表!S347","v":202100.54967589304}]
[347,{"$f":"花园升级数值表!S348","v":207591.621610587}]
[348,{"$f":"花园升级数值表!S349","v":213231.88596974663}]
[349,{"$f":"花园升级数值表!S350","v":219025.39631154464}]
[350,{"$f":"花园升级数值表!S351","v":224976.31632932948}]
[351,{"$f":"花园升级数值表!S352","v":231088.92284399725}]
[352,{"$f":"花园升级数值表!S353","v":237367.60887766854}]
[353,{"$f":"花园升级数值表!S354","v":243816.88681087477}]
[354,{"$f":"花园升级数值表!S355","v":250441.39162552613}]
[355,{"$f":"花园升级数值表!S356","v":257245.88423599175}]
[356,{"$f":"花园升级数值表!S357","v":264235.25491068355}]
[357,{"$f":"花园升级数值表!S358","v":271414.52678660688}]
[358,{"$f":"花园升级数值表!S359","v":278788.85947939893}]
[359,{"$f":"花园升级数值表!S360","v":286363.55279145413}]
[360,{"$f":"花园升级数值表!S361","v":294144.0505207979}]
[361,{"$f":"花园升级数值表!S362","v":302135.94437344803}]
[362,{"$f":"花园升级数值表!S363","v":310344.97798207449}]
[363,{"$f":"花园升级数值表!S364","v":318777.0510338475}]
[364,{"$f":"花园升级数值表!S365","v":327438.22351043706}]
[365,{"$f":"花园升级数值表!S366","v":336334.72004321567}]
[366,{"$f":"花园升级数值表!S367","v":345472.93438678974}]
[367,{"$f":"花园升级数值表!S368","v":354859.43401407893}]
[368,{"$f":"花园升级数值表!S369","v":364500.96483624144}]
[369,{"$f":"花园升级数值表!S370","v":374404.45605084219}]
[370,{"$f":"花园升级数值表!S371","v":384577.0251217435}]
[371,{"$f":"花园升级数值表!S372","v":395025.9828943013}]
[372,{"$f":"花园升级数值表!S373","v":405758.83884953929}]
[373,{"$f":"花园升级数值表!S374","v":416783.30650108139}]
[374,{"$f":"花园升级数值表!S375","v":428107.30893871543}]
[375,{"$f":"花园升级数值表!S376","v":439738.9845225804}]
[376,{"$f":"花园升级数值表!S377","v":451686.69273205847}]
[377,{"$f":"花园升级数值表!S378","v":463959.020173589}]
[378,{"$f":"花园升级数值表!S379","v":476564.78675170522}]
[379,{"$f":"花园升级数值表!S380","v":489513.05200774915}]
[380,{"$f":"花园升级数值表!S381","v":502813.12163079961}]
[381,{"$f":"花园升级数值表!S382","v":516474.55414550839}]
[382,{"$f":"花园升级数值表!S383","v":530507.16778164194}]
[383,{"$f":"花园升级数值表!S384","v":544921.0475302689}]
[384,{"$f":"花园升级数值表!S385","v":559726.55239166634}]
[385,{"$f":"花园升级数值表!S386","v":574934.32282014785}]
[386,{"$f":"花园升级数值表!S387","v":590555.28837117122}]
[387,{"$f":"花园升级数值表!S388","v":606600.67555621581}]
[388,{"$f":"花园升级数值表!S389","v":623082.01591107808}]
[389,{"$f":"花园升级数值表!S390","v":640011.154283382}]
[390,{"$f":"花园升级数值表!S391","v":657400.25734526152}]
[391,{"$f":"花园升级数值表!S392","v":675261.82233733218}]
[392,{"$f":"花园升级数值表!S393","v":693608.68605023762}]
[393,{"$f":"花园升级数值表!S394","v":712454.03405022272}]
[394,{"$f":"花园升级数值表!S395","v":731811.41015536722}]
[395,{"$f":"花园升级数值表!S396","v":751694.72616928816}]
[396,{"$f":"花园升级数值表!S397","v":772118.27187930781}]
[397,{"$f":"花园升级数值表!S398","v":793096.72532626847}]
[398,{"$f":"花园升级数值表!S399","v":814645.16335338296}]
[399,{"$f":"花园升级数值表!S400","v":836779.07244169433}]
[400,{"$f":"花园升级数值表!S401","v":859514.35983993544}]
[401,{"$f":"花园升级数值表!S402","v":882867.36499678611}]
[402,{"$f":"花园升级数值表!S403","v":906854.87130374857}]
[403,{"$f":"花园升级数值表!S404","v":931494.11815707164}]
[404,{"$f":"花园升级数值表!S405","v":956802.81334739889}]
[405,{"$f":"花园升级数值表!S406","v":982799.1457860478}]
[406,{"$f":"花园升级数值表!S407","v":1009501.7985770543}]
[407,{"$f":"花园升级数值表!S408","v":1036929.962444393}]
[408,{"$f":"花园升级数值表!S409","v":1065103.3495240069}]
[409,{"$f":"花园升级数值表!S410","v":1094042.2075305746}]
[410,{"$f":"花园升级数值表!S411","v":1123767.3343091798}]
[411,{"$f":"花园升级数值表!S412","v":1154300.0927823605}]
[412,{"$f":"花园升级数值表!S413","v":1185662.426303257}]
[413,{"$f":"花园升级数值表!S414","v":1217876.874425916}]
[414,{"$f":"花园升级数值表!S415","v":1250966.589104068}]
[415,{"$f":"花园升级数值表!S416","v":1284955.3513300261}]
[416,{"$f":"花园升级数值表!S417","v":1319867.588225662}]
[417,{"$f":"花园升级数值表!S418","v":1355728.3905977542}]
[418,{"$f":"花园升级数值表!S419","v":1392563.530970294}]
[419,{"$f":"花园升级数值表!S420","v":1430399.4821067574}]
[420,{"$f":"花园升级数值表!S421","v":1469263.4360355968}]
[421,{"$f":"花园升级数值表!S422","v":1509183.3235926849}]
[422,{"$f":"花园升级数值表!S423","v":1550187.8344946974}]
[423,{"$f":"花园升级数值表!S424","v":1592306.4379579173}]
[424,{"$f":"花园升级数值表!S425","v":1635569.403877235}]
[425,{"$f":"花园升级数值表!S426","v":1680007.8245805779}]
[426,{"$f":"花园升级数值表!S427","v":1725653.6371744329}]
[427,{"$f":"花园升级数值表!S428","v":1772539.6464964617}]
[428,{"$f":"花园升级数值表!S429","v":1820699.5486917705}]
[429,{"$f":"花园升级数值表!S430","v":1870167.9554297263}]
[430,{"$f":"花园升级数值表!S431","v":1920980.418778752}]
[431,{"$f":"花园升级数值表!S432","v":1973173.4567569704}]
[432,{"$f":"花园升级数值表!S433","v":2026784.579577056}]
[433,{"$f":"花园升级数值表!S434","v":2081852.3166041663}]
[434,{"$f":"花园升级数值表!S435","v":2138416.2440463011}]
[435,{"$f":"花园升级数值表!S436","v":2196517.0133970389}]
[436,{"$f":"花园升级数值表!S437","v":2256196.3806510353}]
[437,{"$f":"花园升级数值表!S438","v":2317497.236313324}]
[438,{"$f":"花园升级数值表!S439","v":2380463.6362239574}]
[439,{"$f":"花园升级数值表!S440","v":2445140.8332201624}]
[440,{"$f":"花园升级数值表!S441","v":2511575.3096587523}]
[441,{"$f":"花园升级数值表!S442","v":2579814.8108221809}]
[442,{"$f":"花园升级数值表!S443","v":2649908.3792322185}]
[443,{"$f":"花园升级数值表!S444","v":2721906.3898959574}]
[444,{"$f":"花园升级数值表!S445","v":2795860.5865094308}]
[445,{"$f":"花园升级数值表!S446","v":2871824.1186448918}]
[446,{"$f":"花园升级数值表!S447","v":2949851.5799484733}]
[447,{"$f":"花园升级数值表!S448","v":3029999.0473756734}]
[448,{"$f":"花园升级数值表!S449","v":3112324.1214928692}]
[449,{"$f":"花园升级数值表!S450","v":3196885.9678738303}]
[450,{"$f":"花园升级数值表!S451","v":3283745.3596209618}]
[451,{"$f":"花园升级数值表!S452","v":3372964.7210418629}]
[452,{"$f":"花园升级数值表!S453","v":3464608.1725125709}]
[453,{"$f":"花园升级数值表!S454","v":3558741.5765597355}]
[454,{"$f":"花园升级数值表!S455","v":3655432.5851948634}]
[455,{"$f":"花园升级数值表!S456","v":3754750.6885346072}]
[456,{"$f":"花园升级数值表!S457","v":3856767.2647420908}]
[457,{"$f":"花园升级数值表!S458","v":3961555.6313251341}]
[458,{"$f":"花园升级数值表!S459","v":4069191.0978282378}]
[459,{"$f":"花园升级数值表!S460","v":4179751.0199562297}]
[460,{"$f":"花园升级数值表!S461","v":4293314.8551684404}]
[461,{"$f":"花园升级数值表!S462","v":4409964.2197833676}]
[462,{"$f":"花园升级数值表!S463","v":4529782.9476348814}]
[463,{"$f":"花园升级数值表!S464","v":4652857.1503221216}]
[464,{"$f":"花园升级数值表!S465","v":4779275.2790963743}]
[465,{"$f":"花园升级数值表!S466","v":4909128.1884294199}]
[466,{"$f":"花园升级数值表!S467","v":5042509.2013090476}]
[467,{"$f":"花园升级数值表!S468","v":5179514.1763086133}]
[468,{"$f":"花园升级数值表!S469","v":5320241.576478919}]
[469,{"$f":"花园升级数值表!S470","v":5464792.5401118509}]
[470,{"$f":"花园升级数值表!S471","v":5613270.9534266889}]
[471,{"$f":"花园升级数值表!S472","v":5765783.5252312878}]
[472,{"$f":"花园升级数值表!S473","v":5922439.8636118239}]
[473,{"$f":"花园升级数值表!S474","v":6083352.5547061553}]
[474,{"$f":"花园升级数值表!S475","v":6248637.2436175197}]
[475,{"$f":"花园升级数值表!S476","v":6418412.7175266072}]
[476,{"$f":"花园升级数值表!S477","v":6592800.9910618048}]
[477,{"$f":"花园升级数值表!S478","v":6771927.393988952}]
[478,{"$f":"花园升级数值表!S479","v":6955920.6612836337}]
[479,{"$f":"花园升级数值表!S480","v":7144913.0256507099}]
[480,{"$f":"花园升级数值表!S481","v":7339040.3125576414}]
[481,{"$f":"花园升级数值表!S482","v":7538442.0378498286}]
[482,{"$f":"花园升级数值表!S483","v":7743261.5080182077}]
[483,{"$f":"花园升级数值表!S484","v":7953645.9231910594}]
[484,{"$f":"花园升级数值表!S485","v":8169746.4829241605}]
[485,{"$f":"花园升级数值表!S486","v":8391718.4948652145}]
[486,{"$f":"花园升级数值表!S487","v":8619721.4863706976}]
[487,{"$f":"花园升级数值表!S488","v":8853919.3191553932}]
[488,{"$f":"花园升级数值表!S489","v":9094480.3070568424}]
[489,{"$f":"花园升级数值表!S490","v":9341577.336999571}]
[490,{"$f":"花园升级数值表!S491","v":9595387.9932458512}]
[491,{"$f":"花园升级数值表!S492","v":9856094.6850223374}]
[492,{"$f":"花园升级数值表!S493","v":10123884.777614398}]
[493,{"$f":"花园升级数值表!S494","v":10398950.72702218}]
[494,{"$f":"花园升级数值表!S495","v":10681490.218275374}]
[495,{"$f":"花园升级数值表!S496","v":10971706.307505913}]
[496,{"$f":"花园升级数值表!S497","v":11269807.567880847}]
[497,{"$f":"花园升级数值表!S498","v":11576008.239500163}]
[498,{"$f":"花园升级数值表!S499","v":11890528.383367389}]
[499,{"$f":"花园升级数值表!S500","v":12213594.03954348}]
[500,{"$f":"花园升级数值表!S501","v":12545437.389597872}]
[501,{"$f":"花园升级数值表!S502","v":12886296.923473245}]
[502,{"$f":"花园升级数值表!S503","v":13236417.610884011}]
[503,{"$f":"花园升级数值表!S504","v":13596051.077371735}]
[504,{"$f":"花园升级数值表!S505","v":13965455.785143921}]
[505,{"$f":"花园升级数值表!S506","v":14344897.218826277}]
[506,{"$f":"花园升级数值表!S507","v":14734648.076261787}]
[507,{"$f":"花园升级数值表!S508","v":15134988.46449383}]
[508,{"$f":"花园升级数值表!S509","v":15546206.101074114}]
[509,{"$f":"花园升级数值表!S510","v":15968596.520840306}]
[510,{"$f":"花园升级数值表!S511","v":16402463.28831153}]
[511,{"$f":"花园升级数值表!S512","v":16848118.215854954}]
[512,{"$f":"花园升级数值表!S513","v":17305881.587779731}]
[513,{"$f":"花园升级数值表!S514","v":17776082.390519705}]
[514,{"$f":"花园升级数值表!S515","v":18259058.54907012}]
[515,{"$f":"花园升级数值表!S516","v":18755157.16984836}]
[516,{"$f":"花园升级数值表!S517","v":19264734.790153142}]
[517,{"$f":"花园升级数值表!S518","v":19788157.634401597}]
[518,{"$f":"花园升级数值表!S519","v":20325801.877328295}]
[519,{"$f":"花园升级数值表!S520","v":20878053.914335296}]
[520,{"$f":"花园升级数值表!S521","v":21445310.639187783}]
[521,{"$f":"花园升级数值表!S522","v":22027979.729254514}]
[522,{"$f":"花园升级数值表!S523","v":22626479.938498352}]
[523,{"$f":"花园升级数值表!S524","v":23241241.398427352}]
[524,{"$f":"花园升级数值表!S525","v":23872705.927222624}]
[525,{"$f":"花园升级数值表!S526","v":24521327.347265251}]
[526,{"$f":"花园升级数值表!S527","v":25187571.811290458}]
[527,{"$f":"花园升级数值表!S528","v":25871918.137403209}]
[528,{"$f":"花园升级数值表!S529","v":26574858.153196443}]
[529,{"$f":"花园升级数值表!S530","v":27296897.049218811}]
[530,{"$f":"花园升级数值表!S531","v":28038553.742046073}]
[531,{"$f":"花园升级数值表!S532","v":28800361.247217465}]
[532,{"$f":"花园升级数值表!S533","v":29582867.062304366}]
[533,{"$f":"花园升级数值表!S534","v":30386633.560387164}]
[534,{"$f":"花园升级数值表!S535","v":31212238.39422287}]
[535,{"$f":"花园升级数值表!S536","v":32060274.911393907}]
[536,{"$f":"花园升级数值表!S537","v":32931352.580736484}]
[537,{"$f":"花园升级数值表!S538","v":33826097.430355094}]
[538,{"$f":"花园升级数值表!S539","v":34745152.497537844}]
[539,{"$f":"花园升级数值表!S540","v":35689178.290895939}]
[540,{"$f":"花园升级数值表!S541","v":36658853.265059568}]
[541,{"$f":"花园升级数值表!S542","v":37654874.308271244}]
[542,{"$f":"花园升级数值表!S543","v":38677957.243226983}]
[543,{"$f":"花园升级数值表!S544","v":39728837.341525443}]
[544,{"$f":"花园升级数值表!S545","v":40808269.85209471}]
[545,{"$f":"花园升级数值表!S546","v":41917030.543976091}]
[546,{"$f":"花园升级数值表!S547","v":43055916.263855934}]
[547,{"$f":"花园升级数值表!S548","v":44225745.508744895}]
[548,{"$f":"花园升级数值表!S549","v":45427359.014217488}]
[549,{"$f":"花园升级数值表!S550","v":46661620.358633772}]
[550,{"$f":"花园升级数值表!S551","v":47929416.583777823}]
[551,{"$f":"花园升级数值表!S552","v":49231658.832359068}]
[552,{"$f":"花园升级数值表!S553","v":50569283.00283429}]
[553,{"$f":"花园升级数值表!S554","v":51943250.42202127}]
[554,{"$f":"花园升级数值表!S555","v":53354548.535987578}]
[555,{"$f":"花园升级数值表!S556","v":54804191.619710378}]
[556,{"$f":"花园升级数值表!S557","v":56293221.506017916}]
[557,{"$f":"花园升级数值表!S558","v":57822708.3343364}]
[558,{"$f":"花园升级数值表!S559","v":59393751.319780305}]
[559,{"$f":"花园升级数值表!S560","v":61007479.54313872}]
[560,{"$f":"花园升级数值表!S561","v":62665052.762325794}]
[561,{"$f":"花园升级数值表!S562","v":64367662.245878197}]
[562,{"$f":"花园升级数值表!S563","v":66116531.629098669}]
[563,{"$f":"花园升级数值表!S564","v":67912917.793461308}]
[564,{"$f":"花园升级数值表!S565","v":69758111.76990962}]
[565,{"$f":"花园升级数值表!S566","v":71653439.666698068}]
[566,{"$f":"花园升级数值表!S567","v":73600263.622442231}]
[567,{"$f":"花园升级数值表!S568","v":75599982.785063982}]
[568,{"$f":"花园升级数值表!S569","v":77654034.31733419}]
[569,{"$f":"花园升级数值表!S570","v":79763894.429736137}]
[570,{"$f":"花园升级数值表!S571","v":81931079.441392079}]
[571,{"$f":"花园升级数值表!S572","v":84157146.869814649}]
[572,{"$f":"花园升级数值表!S573","v":86443696.550267562}]
[573,{"$f":"花园升级数值表!S574","v":88792371.785538316}]
[574,{"$f":"花园升级数值表!S575","v":91204860.526951343}]
[575,{"$f":"花园升级数值表!S576","v":93682896.587468565}]
[576,{"$f":"花园升级数值表!S577","v":96228260.887750119}]
[577,{"$f":"花园升级数值表!S578","v":98842782.73607026}]
[578,{"$f":"花园升级数值表!S579","v":101528341.14300931}]
[579,{"$f":"花园升级数值表!S580","v":104286866.17186487}]
[580,{"$f":"花园升级数值表!S581","v":107120340.32575437}]
[581,{"$f":"花园升级数值表!S582","v":110030799.97240511}]
[582,{"$f":"花园升级数值表!S583","v":113020336.80765536}]
[583,{"$f":"花园升级数值表!S584","v":116091099.3587193}]
[584,{"$f":"花园升级数值表!S585","v":119245294.52829581}]
[585,{"$f":"花园升级数值表!S586","v":122485189.18062955}]
[586,{"$f":"花园升级数值表!S587","v":125813111.77066723}]
[587,{"$f":"花园升级数值表!S588","v":129231454.01747628}]
[588,{"$f":"花园升级数值表!S589","v":132742672.62313104}]
[589,{"$f":"花园升级数值表!S590","v":136349291.0383015}]
[590,{"$f":"花园升级数值表!S591","v":140053901.27581215}]
[591,{"$f":"花园升级数值表!S592","v":143859165.77347597}]
[592,{"$f":"花园升级数值表!S593","v":147767819.30754125}]
[593,{"$f":"花园升级数值表!S594","v":151782670.95812717}]
[594,{"$f":"花园升级数值表!S595","v":155906606.12805945}]
[595,{"$f":"花园升级数值表!S596","v":160142588.61655885}]
[596,{"$f":"花园升级数值表!S597","v":164493662.74927068}]
[597,{"$f":"花园升级数值表!S598","v":168962955.56616843}]
[598,{"$f":"花园升级数值表!S599","v":173553679.06890115}]
[599,{"$f":"花园升级数值表!S600","v":178269132.5292033}]
[600,{"$f":"花园升级数值表!S601","v":183112704.86002168}]

{"sheet":"花朵价格换算","index":5,"n_rows":97,"n_cols":15,"rows_kept":97,"cut":false,"hidden":false,"merged":[]}
["基准价值 1钻石 = 0.06元"]
["花朵","钻石价值","人民币价值",null,"成就","钻石价值","人民币价值",null,"抽奖","钻石价值","人民币价值",null,"服装","钻石价值","人民币价值"]
["蒲公英",{"$f":"C3/0.06","v":100},6,null,"美丽花园-1",15,{"$f":"F3*0.06","v":0.89999999999999991},null,1,5,{"$f":"J3*0.06","v":0.3},null,2]
["牵牛花(蓝)",{"$f":"C4/0.06","v":100},6,null,"美丽花园-2",20,{"$f":"F4*0.06","v":1.2},null,2,10,{"$f":"J4*0.06","v":0.6},null,3]
["三色堇(紫)",150,9,null,"美丽花园-3",35,2.1,null,3,15,0.89999999999999991,null,4]
["三叶草(粉)",150,9,null,"美丽花园-4",50,3,null,4,20,1.2,null,5]
["向日葵",200,12,null,"美丽花园-5",65,3.9,null,5,25,1.5,null,6]
["郁金香(粉)",200,12,null,"美丽花园-6",80,4.8,null,6,30,1.7999999999999998,null,7]
["百合花(白)",200,12,null,"鼓鼓的钱包-1",10,0.6,null,7,50,3,null,8]
["非洲菊(粉)",200,12,null,"鼓鼓的钱包-2",15,0.89999999999999991,null,8,15,0.89999999999999991,null,9]
["红掌",300,18,null,"鼓鼓的钱包-3",20,1.2,null,9,20,1.2,null,10,{"$f":"O11/0.06","v":50},3]
["桔梗花",300,18,null,"鼓鼓的钱包-4",25,1.5,null,10,25,1.5,null,11,{"$f":"O12/0.06","v":100},6]
["康乃馨(白)",300,18,null,"鼓鼓的钱包-5",40,2.4,null,11,30,1.7999999999999998,null,12,100,6]
["铃兰(粉)",400,24,null,"鼓鼓的钱包-6",50,3,null,12,35,2.1,null,13,100,6]
["曼陀罗(橘)",400,24,null,"精明的商人-1",15,0.89999999999999991,null,13,40,2.4,null,14,150,9]
["曼陀罗（粉）",400,24,null,"精明的商人-2",20,1.2,null,14,70,4.2,null,15,150,9]
["玫瑰花(红)",400,24,null,"精明的商人-3",35,2.1,null,15,25,1.5,null,16,150,9]
["玫瑰花（黄）",500,30,null,"精明的商人-4",50,3,null,16,30,1.7999999999999998,null,17,500,30]
["茑萝",500,30,null,"精明的商人-5",65,3.9,null,17,35,2.1,null,18,500,30]
["牵牛花(紫)",500,30,null,"精明的商人-6",80,4.8,null,18,40,2.4,null,19,500,30]
["虞美人(红)",500,30,null,"花仙子-1",15,0.89999999999999991,null,19,45,2.6999999999999997,null,20,300,18]
["郁金香(黄)",500,30,null,"花仙子-2",20,1.2,null,20,50,3,null,21,300,18]
["鸢尾(紫)",600,36,null,"花仙子-3",35,2.1,null,21,100,6,null,22,300,18]
["朱槿(粉)",600,36,null,"花仙子-4",50,3,{"$nulls":5},23,300,18]
["朱槿(黄)",600,36,null,"花仙子-5",65,3.9,null,"总价值",{"$f":"SUM(J3:J23)","v":715},{"$f":"SUM(K3:K23)","v":42.9},null,24,250,15]
["满天星（白）",700,42,null,"花仙子-6",80,4.8,{"$nulls":5},25,250,15]
["满天星（粉）",700,42,null,"百花争艳-1",10,0.6,{"$nulls":5},26,250,15]
["紫罗兰（白）",700,42,null,"百花争艳-2",15,0.89999999999999991,{"$nulls":5},27,500,30]
["紫罗兰（紫）",700,42,null,"百花争艳-3",20,1.2,{"$nulls":5},28,500,30]
["紫罗兰（蓝）",700,42,null,"百花争艳-4",25,1.5,{"$nulls":5},29,500,30]
["鸡冠花（红）",1000,60,null,"百花争艳-5",40,2.4,{"$nulls":5},30,500,30]
["鸡冠花（黄）",1000,60,null,"百花争艳-6",50,3,{"$nulls":5},201]
[{"$nulls":4},"人山人海-1",10,0.6,{"$nulls":5},202]
["总价值",{"$f":"SUM(B3:B32)","v":13600},{"$f":"SUM(C3:C32)","v":816},null,"人山人海-2",15,0.89999999999999991,{"$nulls":5},203]
[{"$nulls":4},"人山人海-3",20,1.2,{"$nulls":5},204,50,3]
[{"$nulls":4},"人山人海-4",25,1.5,{"$nulls":5},205,100,6]
[{"$nulls":4},"人山人海-5",40,2.4,{"$nulls":5},206,200,12]
[{"$nulls":4},"人山人海-6",50,3,{"$nulls":5},207,300,18]
[{"$nulls":4},"技能大师-1",15,0.89999999999999991,{"$nulls":5},208,300,18]
[{"$nulls":4},"技能大师-2",20,1.2,{"$nulls":5},209,600,36]
[{"$nulls":4},"技能大师-3",35,2.1,{"$nulls":5},210,700,42]
[{"$nulls":4},"技能大师-4",50,3,{"$nulls":5},211,700,42]
[{"$nulls":4},"技能大师-5",65,3.9,{"$nulls":5},212,1000,60]
[{"$nulls":4},"技能大师-6",80,4.8,{"$nulls":5},213,1000,60]
[{"$nulls":4},"鉴赏大师-1",15,0.89999999999999991,{"$nulls":5},214,1500,90]
[{"$nulls":4},"鉴赏大师-2",20,1.2,{"$nulls":5},215,1500,90]
[{"$nulls":4},"鉴赏大师-3",35,2.1,{"$nulls":5},216,2000,120]
[{"$nulls":4},"鉴赏大师-4",50,3,{"$nulls":5},217,2000,120]
[{"$nulls":4},"鉴赏大师-5",65,3.9,{"$nulls":5},401]
[{"$nulls":4},"鉴赏大师-6",80,4.8,{"$nulls":5},402]
[{"$nulls":4},"按时打卡-1",10,0.6,{"$nulls":5},403,50,3]
[{"$nulls":4},"按时打卡-2",15,0.89999999999999991,{"$nulls":5},404,50,3]
[{"$nulls":4},"按时打卡-3",20,1.2,{"$nulls":5},405]
[{"$nulls":4},"按时打卡-4",25,1.5,{"$nulls":5},406]
[{"$nulls":4},"按时打卡-5",40,2.4,{"$nulls":5},407,50,3]
[{"$nulls":4},"按时打卡-6",50,3,{"$nulls":5},408]
[{"$nulls":4},"乐于分享-1",10,0.6,{"$nulls":5},409]
[{"$nulls":4},"乐于分享-2",15,0.89999999999999991,{"$nulls":5},410,80,4.8]
[{"$nulls":4},"乐于分享-3",20,1.2,{"$nulls":5},411,100,6]
[{"$nulls":4},"乐于分享-4",25,1.5,{"$nulls":5},412,150,9]
[{"$nulls":4},"乐于分享-5",40,2.4,{"$nulls":5},413,200,12]
[{"$nulls":4},"乐于分享-6",50,3,{"$nulls":5},414,250,15]
[{"$nulls":4},"乐于分享-7",65,3.9,{"$nulls":5},415,300,18]
[{"$nulls":4},"乐于分享-8",80,4.8,{"$nulls":5},601]
[{"$nulls":4},"辛勤的花匠-1",10,0.6,{"$nulls":5},602]
[{"$nulls":4},"辛勤的花匠-2",15,0.89999999999999991,{"$nulls":5},603]
[{"$nulls":4},"辛勤的花匠-3",20,1.2,{"$nulls":5},604,80,4.8]
[{"$nulls":4},"辛勤的花匠-4",25,{"$f":"F68*0.06","v":1.5},{"$nulls":5},605,100,6]
[{"$nulls":4},"辛勤的花匠-5",40,2.4,{"$nulls":5},606,200,12]
[{"$nulls":4},"辛勤的花匠-6",50,3,{"$nulls":5},607,250,15]
[{"$nulls":4},"积少成多-1",10,0.6,{"$nulls":5},608,250,15]
[{"$nulls":4},"积少成多-2",15,0.89999999999999991,{"$nulls":5},609,300,18]
[{"$nulls":4},"积少成多-3",20,1.2,{"$nulls":5},610,300,18]
[{"$nulls":4},"积少成多-4",25,1.5,{"$nulls":5},611,350,21]
[{"$nulls":4},"积少成多-5",40,2.4,{"$nulls":5},612,400,24]
[{"$nulls":4},"积少成多-6",50,3,{"$nulls":5},801]
[{"$nulls":4},"花费的钻石-1",10,0.6,{"$nulls":5},802]
[{"$nulls":4},"花费的钻石-2",15,0.89999999999999991,{"$nulls":5},803]
[{"$nulls":4},"花费的钻石-3",20,1.2,{"$nulls":5},804,{"$f":"O79/0.06","v":80},4.8]
[{"$nulls":4},"花费的钻石-4",25,1.5,{"$nulls":5},805,100,6]
[{"$nulls":4},"花费的钻石-5",40,2.4,{"$nulls":5},806,150,9]
[{"$nulls":4},"花费的钻石-6",50,3,{"$nulls":5},807,200,12]
[{"$nulls":4},"拥有的服装-1",10,0.6,{"$nulls":5},808,250,15]
[{"$nulls":4},"拥有的服装-2",15,0.89999999999999991,{"$nulls":5},809,300,18]
[{"$nulls":4},"拥有的服装-3",20,1.2,{"$nulls":5},810,350,21]
[{"$nulls":4},"拥有的服装-4",25,1.5,{"$nulls":5},811,400,24]
[{"$nulls":4},"拥有的服装-5",40,2.4,{"$nulls":5},812,450,27]
[{"$nulls":4},"拥有的服装-6",50,3,{"$nulls":5},813,500,30]
[{"$nulls":12},814,550,33]
[{"$nulls":4},"总价值",{"$f":"SUM(F3:F88)","v":2910},{"$f":"SUM(G3:G88)","v":174.60000000000002},{"$nulls":5},815,600,36]
[{"$nulls":12},816,650,39]
[{"$nulls":12},817,700,42]
[{"$nulls":12},1001]
[{"$nulls":12},1002,1500,90]
[{"$nulls":12},1003,2000,120]
[]
[{"$nulls":12},"总价值",{"$f":"SUM(N3:N95)","v":30440},{"$f":"SUM(O3:O95)","v":1826.3999999999999}]